BEGIN:VCALENDAR
PRODID:-//gdesolutions.com//MV Framework 1.0.0.1607 Calendar//EN
VERSION:2.0
METHOD:PUBLISH
CALSCALE:GREGORIAN
BEGIN:VEVENT
UID:gg129@games.golnetwork.com
LOCATION:Central Tech - Field 2
GEO:43.6637272;-79.4087613
CREATED:20200304T215541Z
DTSTART:20200308T220000Z
DTEND:20200308T230000Z
DTSTAMP:20260421T064701Z
SUMMARY:This Meeting Could Have Been an Email FC vs. Monday Hangovers
DESCRIPTION:Monday Hangovers vs. This Meeting Could Have Been an Email FCPl
	us d'info : #12
X-ALT-DESC;FMTTYPE=text/html:<!DOCTYPE HTML PUBLIC "-//W3C//DTD HTML 3.2//E
	N">\n<HTML>\n<HEAD>\n<TITLE></TITLE>\n</HEAD>\n<BODY>\n<h3>Monday Hangovers
	 vs. This Meeting Could Have Been an Email FC</h3>Plus d'info : <a href="ht
	tps://www.golnetwork.com/game/v/156861/">#12</a>\n\n</BODY>\n</HTML>
STATUS:CONFIRMED
CLASS:PUBLIC
URL:https://www.golnetwork.com/game/v/156861/
X-MICROSOFT-CDO-BUSYSTATUS:BUSY
X-MICROSOFT-CDO-IMPORTANCE:1
END:VEVENT
BEGIN:VEVENT
UID:gg12d@games.golnetwork.com
LOCATION:Central Tech - Field 2
GEO:43.6637272;-79.4087613
CREATED:20200304T215608Z
DTSTART:20200308T230000Z
DTEND:20200309T000000Z
DTSTAMP:20260421T064701Z
SUMMARY:6ix Buzz FC vs. Arse 'n' All
DESCRIPTION:Arse 'n' All vs. 6ix Buzz FCPlus d'info : #14
X-ALT-DESC;FMTTYPE=text/html:<!DOCTYPE HTML PUBLIC "-//W3C//DTD HTML 3.2//E
	N">\n<HTML>\n<HEAD>\n<TITLE></TITLE>\n</HEAD>\n<BODY>\n<h3>Arse 'n' All vs.
	 6ix Buzz FC</h3>Plus d'info : <a href="https://www.golnetwork.com/game/v/1
	56863/">#14</a>\n\n</BODY>\n</HTML>
STATUS:CONFIRMED
CLASS:PUBLIC
URL:https://www.golnetwork.com/game/v/156863/
X-MICROSOFT-CDO-BUSYSTATUS:BUSY
X-MICROSOFT-CDO-IMPORTANCE:1
END:VEVENT
BEGIN:VEVENT
UID:gg12j@games.golnetwork.com
LOCATION:Central Tech - Field 2
GEO:43.6637272;-79.4087613
CREATED:20200304T215624Z
DTSTART:20200309T000000Z
DTEND:20200309T010000Z
DTSTAMP:20260421T064701Z
SUMMARY:Delirium FC vs. Blue Ballerz
DESCRIPTION:Blue Ballerz vs. Delirium FCPlus d'info : #15
X-ALT-DESC;FMTTYPE=text/html:<!DOCTYPE HTML PUBLIC "-//W3C//DTD HTML 3.2//E
	N">\n<HTML>\n<HEAD>\n<TITLE></TITLE>\n</HEAD>\n<BODY>\n<h3>Blue Ballerz vs.
	 Delirium FC</h3>Plus d'info : <a href="https://www.golnetwork.com/game/v/1
	56866/">#15</a>\n\n</BODY>\n</HTML>
STATUS:CONFIRMED
CLASS:PUBLIC
URL:https://www.golnetwork.com/game/v/156866/
X-MICROSOFT-CDO-BUSYSTATUS:BUSY
X-MICROSOFT-CDO-IMPORTANCE:1
END:VEVENT
BEGIN:VEVENT
UID:gg12b@games.golnetwork.com
LOCATION:Central Tech - Field 2
GEO:43.6637272;-79.4087613
CREATED:20200304T215601Z
DTSTART:20200316T010000Z
DTEND:20200316T020000Z
DTSTAMP:20260421T064701Z
SUMMARY:6ix Buzz FC vs. Delirium FC
DESCRIPTION:Delirium FC vs. 6ix Buzz FCPlus d'info : #28
X-ALT-DESC;FMTTYPE=text/html:<!DOCTYPE HTML PUBLIC "-//W3C//DTD HTML 3.2//E
	N">\n<HTML>\n<HEAD>\n<TITLE></TITLE>\n</HEAD>\n<BODY>\n<h3>Delirium FC vs. 
	6ix Buzz FC</h3>Plus d'info : <a href="https://www.golnetwork.com/game/v/15
	6862/">#28</a>\n\n</BODY>\n</HTML>
STATUS:CONFIRMED
CLASS:PUBLIC
URL:https://www.golnetwork.com/game/v/156862/
X-MICROSOFT-CDO-BUSYSTATUS:BUSY
X-MICROSOFT-CDO-IMPORTANCE:1
END:VEVENT
BEGIN:VEVENT
UID:gg12f@games.golnetwork.com
LOCATION:Central Tech - Field 2
GEO:43.6637272;-79.4087613
CREATED:20200304T215610Z
DTSTART:20200316T020000Z
DTEND:20200316T030000Z
DTSTAMP:20260421T064701Z
SUMMARY:This Meeting Could Have Been an Email FC vs. Blue Ballerz
DESCRIPTION:Blue Ballerz vs. This Meeting Could Have Been an Email FCPlus d
	'info : #31
X-ALT-DESC;FMTTYPE=text/html:<!DOCTYPE HTML PUBLIC "-//W3C//DTD HTML 3.2//E
	N">\n<HTML>\n<HEAD>\n<TITLE></TITLE>\n</HEAD>\n<BODY>\n<h3>Blue Ballerz vs.
	 This Meeting Could Have Been an Email FC</h3>Plus d'info : <a href="https:
	//www.golnetwork.com/game/v/156864/">#31</a>\n\n</BODY>\n</HTML>
STATUS:CONFIRMED
CLASS:PUBLIC
URL:https://www.golnetwork.com/game/v/156864/
X-MICROSOFT-CDO-BUSYSTATUS:BUSY
X-MICROSOFT-CDO-IMPORTANCE:1
END:VEVENT
BEGIN:VEVENT
UID:gg12h@games.golnetwork.com
LOCATION:Central Tech - Field 2
GEO:43.6637272;-79.4087613
CREATED:20200304T215620Z
DTSTART:20200316T030000Z
DTEND:20200316T040000Z
DTSTAMP:20260421T064701Z
SUMMARY:Arse 'n' All vs. Monday Hangovers
DESCRIPTION:Monday Hangovers vs. Arse 'n' AllPlus d'info : #34
X-ALT-DESC;FMTTYPE=text/html:<!DOCTYPE HTML PUBLIC "-//W3C//DTD HTML 3.2//E
	N">\n<HTML>\n<HEAD>\n<TITLE></TITLE>\n</HEAD>\n<BODY>\n<h3>Monday Hangovers
	 vs. Arse 'n' All</h3>Plus d'info : <a href="https://www.golnetwork.com/gam
	e/v/156865/">#34</a>\n\n</BODY>\n</HTML>
STATUS:CONFIRMED
CLASS:PUBLIC
URL:https://www.golnetwork.com/game/v/156865/
X-MICROSOFT-CDO-BUSYSTATUS:BUSY
X-MICROSOFT-CDO-IMPORTANCE:1
END:VEVENT
BEGIN:VEVENT
UID:gg12n@games.golnetwork.com
LOCATION:Central Tech - Field 2
GEO:43.6637272;-79.4087613
CREATED:20200304T215650Z
DTSTART:20200322T190000Z
DTEND:20200322T200000Z
DTSTAMP:20260421T064701Z
SUMMARY:Arse 'n' All vs. Delirium FC
DESCRIPTION:Delirium FC vs. Arse 'n' AllPlus d'info : #41
X-ALT-DESC;FMTTYPE=text/html:<!DOCTYPE HTML PUBLIC "-//W3C//DTD HTML 3.2//E
	N">\n<HTML>\n<HEAD>\n<TITLE></TITLE>\n</HEAD>\n<BODY>\n<h3>Delirium FC vs. 
	Arse 'n' All</h3>Plus d'info : <a href="https://www.golnetwork.com/game/v/1
	56868/">#41</a>\n\n</BODY>\n</HTML>
STATUS:CONFIRMED
CLASS:PUBLIC
URL:https://www.golnetwork.com/game/v/156868/
X-MICROSOFT-CDO-BUSYSTATUS:BUSY
X-MICROSOFT-CDO-IMPORTANCE:1
END:VEVENT
BEGIN:VEVENT
UID:gg130@games.golnetwork.com
LOCATION:Central Tech - Field 2
GEO:43.6637272;-79.4087613
CREATED:20200304T215701Z
DTSTART:20200322T200000Z
DTEND:20200322T210000Z
DTSTAMP:20260421T064701Z
SUMMARY:Monday Hangovers vs. Blue Ballerz
DESCRIPTION:Blue Ballerz vs. Monday HangoversPlus d'info : #43
X-ALT-DESC;FMTTYPE=text/html:<!DOCTYPE HTML PUBLIC "-//W3C//DTD HTML 3.2//E
	N">\n<HTML>\n<HEAD>\n<TITLE></TITLE>\n</HEAD>\n<BODY>\n<h3>Blue Ballerz vs.
	 Monday Hangovers</h3>Plus d'info : <a href="https://www.golnetwork.com/gam
	e/v/156870/">#43</a>\n\n</BODY>\n</HTML>
STATUS:CONFIRMED
CLASS:PUBLIC
URL:https://www.golnetwork.com/game/v/156870/
X-MICROSOFT-CDO-BUSYSTATUS:BUSY
X-MICROSOFT-CDO-IMPORTANCE:1
END:VEVENT
BEGIN:VEVENT
UID:gg134@games.golnetwork.com
LOCATION:Central Tech - Field 2
GEO:43.6637272;-79.4087613
CREATED:20200304T215710Z
DTSTART:20200322T210000Z
DTEND:20200322T220000Z
DTSTAMP:20260421T064701Z
SUMMARY:This Meeting Could Have Been an Email FC vs. 6ix Buzz FC
DESCRIPTION:6ix Buzz FC vs. This Meeting Could Have Been an Email FCPlus d'
	info : #44
X-ALT-DESC;FMTTYPE=text/html:<!DOCTYPE HTML PUBLIC "-//W3C//DTD HTML 3.2//E
	N">\n<HTML>\n<HEAD>\n<TITLE></TITLE>\n</HEAD>\n<BODY>\n<h3>6ix Buzz FC vs. 
	This Meeting Could Have Been an Email FC</h3>Plus d'info : <a href="https:/
	/www.golnetwork.com/game/v/156872/">#44</a>\n\n</BODY>\n</HTML>
STATUS:CONFIRMED
CLASS:PUBLIC
URL:https://www.golnetwork.com/game/v/156872/
X-MICROSOFT-CDO-BUSYSTATUS:BUSY
X-MICROSOFT-CDO-IMPORTANCE:1
END:VEVENT
BEGIN:VEVENT
UID:gg12l@games.golnetwork.com
LOCATION:Central Tech - Field 2
GEO:43.6637272;-79.4087613
CREATED:20200304T215642Z
DTSTART:20200329T220000Z
DTEND:20200329T230000Z
DTSTAMP:20260421T064701Z
SUMMARY:Blue Ballerz vs. 6ix Buzz FC
DESCRIPTION:6ix Buzz FC vs. Blue BallerzPlus d'info : #59
X-ALT-DESC;FMTTYPE=text/html:<!DOCTYPE HTML PUBLIC "-//W3C//DTD HTML 3.2//E
	N">\n<HTML>\n<HEAD>\n<TITLE></TITLE>\n</HEAD>\n<BODY>\n<h3>6ix Buzz FC vs. 
	Blue Ballerz</h3>Plus d'info : <a href="https://www.golnetwork.com/game/v/1
	56867/">#59</a>\n\n</BODY>\n</HTML>
STATUS:CONFIRMED
CLASS:PUBLIC
URL:https://www.golnetwork.com/game/v/156867/
X-MICROSOFT-CDO-BUSYSTATUS:BUSY
X-MICROSOFT-CDO-IMPORTANCE:1
END:VEVENT
BEGIN:VEVENT
UID:gg12p@games.golnetwork.com
LOCATION:Central Tech - Field 2
GEO:43.6637272;-79.4087613
CREATED:20200304T215652Z
DTSTART:20200329T230000Z
DTEND:20200330T000000Z
DTSTAMP:20260421T064701Z
SUMMARY:Monday Hangovers vs. Delirium FC
DESCRIPTION:Delirium FC vs. Monday HangoversPlus d'info : #60
X-ALT-DESC;FMTTYPE=text/html:<!DOCTYPE HTML PUBLIC "-//W3C//DTD HTML 3.2//E
	N">\n<HTML>\n<HEAD>\n<TITLE></TITLE>\n</HEAD>\n<BODY>\n<h3>Delirium FC vs. 
	Monday Hangovers</h3>Plus d'info : <a href="https://www.golnetwork.com/game
	/v/156869/">#60</a>\n\n</BODY>\n</HTML>
STATUS:CONFIRMED
CLASS:PUBLIC
URL:https://www.golnetwork.com/game/v/156869/
X-MICROSOFT-CDO-BUSYSTATUS:BUSY
X-MICROSOFT-CDO-IMPORTANCE:1
END:VEVENT
BEGIN:VEVENT
UID:gg132@games.golnetwork.com
LOCATION:Central Tech - Field 2
GEO:43.6637272;-79.4087613
CREATED:20200304T215704Z
DTSTART:20200330T000000Z
DTEND:20200330T010000Z
DTSTAMP:20260421T064701Z
SUMMARY:Arse 'n' All vs. This Meeting Could Have Been an Email FC
DESCRIPTION:This Meeting Could Have Been an Email FC vs. Arse 'n' AllPlus d
	'info : #62
X-ALT-DESC;FMTTYPE=text/html:<!DOCTYPE HTML PUBLIC "-//W3C//DTD HTML 3.2//E
	N">\n<HTML>\n<HEAD>\n<TITLE></TITLE>\n</HEAD>\n<BODY>\n<h3>This Meeting Cou
	ld Have Been an Email FC vs. Arse 'n' All</h3>Plus d'info : <a href="https:
	//www.golnetwork.com/game/v/156871/">#62</a>\n\n</BODY>\n</HTML>
STATUS:CONFIRMED
CLASS:PUBLIC
URL:https://www.golnetwork.com/game/v/156871/
X-MICROSOFT-CDO-BUSYSTATUS:BUSY
X-MICROSOFT-CDO-IMPORTANCE:1
END:VEVENT
BEGIN:VEVENT
UID:gg13a@games.golnetwork.com
LOCATION:Central Tech - Field 2
GEO:43.6637272;-79.4087613
CREATED:20200304T215739Z
DTSTART:20200406T010000Z
DTEND:20200406T020000Z
DTSTAMP:20260421T064701Z
SUMMARY:Blue Ballerz vs. Arse 'n' All
DESCRIPTION:Arse 'n' All vs. Blue BallerzPlus d'info : #77
X-ALT-DESC;FMTTYPE=text/html:<!DOCTYPE HTML PUBLIC "-//W3C//DTD HTML 3.2//E
	N">\n<HTML>\n<HEAD>\n<TITLE></TITLE>\n</HEAD>\n<BODY>\n<h3>Arse 'n' All vs.
	 Blue Ballerz</h3>Plus d'info : <a href="https://www.golnetwork.com/game/v/
	156875/">#77</a>\n\n</BODY>\n</HTML>
STATUS:CONFIRMED
CLASS:PUBLIC
URL:https://www.golnetwork.com/game/v/156875/
X-MICROSOFT-CDO-BUSYSTATUS:BUSY
X-MICROSOFT-CDO-IMPORTANCE:1
END:VEVENT
BEGIN:VEVENT
UID:gg13e@games.golnetwork.com
LOCATION:Central Tech - Field 2
GEO:43.6637272;-79.4087613
CREATED:20200304T215748Z
DTSTART:20200406T020000Z
DTEND:20200406T030000Z
DTSTAMP:20260421T064701Z
SUMMARY:6ix Buzz FC vs. Monday Hangovers
DESCRIPTION:Monday Hangovers vs. 6ix Buzz FCPlus d'info : #78
X-ALT-DESC;FMTTYPE=text/html:<!DOCTYPE HTML PUBLIC "-//W3C//DTD HTML 3.2//E
	N">\n<HTML>\n<HEAD>\n<TITLE></TITLE>\n</HEAD>\n<BODY>\n<h3>Monday Hangovers
	 vs. 6ix Buzz FC</h3>Plus d'info : <a href="https://www.golnetwork.com/game
	/v/156877/">#78</a>\n\n</BODY>\n</HTML>
STATUS:CONFIRMED
CLASS:PUBLIC
URL:https://www.golnetwork.com/game/v/156877/
X-MICROSOFT-CDO-BUSYSTATUS:BUSY
X-MICROSOFT-CDO-IMPORTANCE:1
END:VEVENT
BEGIN:VEVENT
UID:gg13g@games.golnetwork.com
LOCATION:Central Tech - Field 2
GEO:43.6637272;-79.4087613
CREATED:20200304T215800Z
DTSTART:20200406T030000Z
DTEND:20200406T040000Z
DTSTAMP:20260421T064701Z
SUMMARY:Delirium FC vs. This Meeting Could Have Been an Email FC
DESCRIPTION:This Meeting Could Have Been an Email FC vs. Delirium FCPlus d'
	info : #80
X-ALT-DESC;FMTTYPE=text/html:<!DOCTYPE HTML PUBLIC "-//W3C//DTD HTML 3.2//E
	N">\n<HTML>\n<HEAD>\n<TITLE></TITLE>\n</HEAD>\n<BODY>\n<h3>This Meeting Cou
	ld Have Been an Email FC vs. Delirium FC</h3>Plus d'info : <a href="https:/
	/www.golnetwork.com/game/v/156878/">#80</a>\n\n</BODY>\n</HTML>
STATUS:CONFIRMED
CLASS:PUBLIC
URL:https://www.golnetwork.com/game/v/156878/
X-MICROSOFT-CDO-BUSYSTATUS:BUSY
X-MICROSOFT-CDO-IMPORTANCE:1
END:VEVENT
BEGIN:VEVENT
UID:gg136@games.golnetwork.com
LOCATION:Central Tech - Field 2
GEO:43.6637272;-79.4087613
CREATED:20200304T215725Z
DTSTART:20200419T190000Z
DTEND:20200419T200000Z
DTSTAMP:20260421T064701Z
SUMMARY:This Meeting Could Have Been an Email FC vs. Monday Hangovers
DESCRIPTION:Monday Hangovers vs. This Meeting Could Have Been an Email FCPl
	us d'info : #86
X-ALT-DESC;FMTTYPE=text/html:<!DOCTYPE HTML PUBLIC "-//W3C//DTD HTML 3.2//E
	N">\n<HTML>\n<HEAD>\n<TITLE></TITLE>\n</HEAD>\n<BODY>\n<h3>Monday Hangovers
	 vs. This Meeting Could Have Been an Email FC</h3>Plus d'info : <a href="ht
	tps://www.golnetwork.com/game/v/156873/">#86</a>\n\n</BODY>\n</HTML>
STATUS:CONFIRMED
CLASS:PUBLIC
URL:https://www.golnetwork.com/game/v/156873/
X-MICROSOFT-CDO-BUSYSTATUS:BUSY
X-MICROSOFT-CDO-IMPORTANCE:1
END:VEVENT
BEGIN:VEVENT
UID:gg138@games.golnetwork.com
LOCATION:Central Tech - Field 2
GEO:43.6637272;-79.4087613
CREATED:20200304T215734Z
DTSTART:20200419T200000Z
DTEND:20200419T210000Z
DTSTAMP:20260421T064701Z
SUMMARY:6ix Buzz FC vs. Arse 'n' All
DESCRIPTION:Arse 'n' All vs. 6ix Buzz FCPlus d'info : #87
X-ALT-DESC;FMTTYPE=text/html:<!DOCTYPE HTML PUBLIC "-//W3C//DTD HTML 3.2//E
	N">\n<HTML>\n<HEAD>\n<TITLE></TITLE>\n</HEAD>\n<BODY>\n<h3>Arse 'n' All vs.
	 6ix Buzz FC</h3>Plus d'info : <a href="https://www.golnetwork.com/game/v/1
	56874/">#87</a>\n\n</BODY>\n</HTML>
STATUS:CONFIRMED
CLASS:PUBLIC
URL:https://www.golnetwork.com/game/v/156874/
X-MICROSOFT-CDO-BUSYSTATUS:BUSY
X-MICROSOFT-CDO-IMPORTANCE:1
END:VEVENT
BEGIN:VEVENT
UID:gg13c@games.golnetwork.com
LOCATION:Central Tech - Field 2
GEO:43.6637272;-79.4087613
CREATED:20200304T215742Z
DTSTART:20200419T210000Z
DTEND:20200419T220000Z
DTSTAMP:20260421T064701Z
SUMMARY:Delirium FC vs. Blue Ballerz
DESCRIPTION:Blue Ballerz vs. Delirium FCPlus d'info : #88
X-ALT-DESC;FMTTYPE=text/html:<!DOCTYPE HTML PUBLIC "-//W3C//DTD HTML 3.2//E
	N">\n<HTML>\n<HEAD>\n<TITLE></TITLE>\n</HEAD>\n<BODY>\n<h3>Blue Ballerz vs.
	 Delirium FC</h3>Plus d'info : <a href="https://www.golnetwork.com/game/v/1
	56876/">#88</a>\n\n</BODY>\n</HTML>
STATUS:CONFIRMED
CLASS:PUBLIC
URL:https://www.golnetwork.com/game/v/156876/
X-MICROSOFT-CDO-BUSYSTATUS:BUSY
X-MICROSOFT-CDO-IMPORTANCE:1
END:VEVENT
BEGIN:VEVENT
UID:gg13o@games.golnetwork.com
LOCATION:Central Tech - Field 2
GEO:43.6637272;-79.4087613
CREATED:20200304T215829Z
DTSTART:20200426T220000Z
DTEND:20200426T230000Z
DTSTAMP:20260421T064701Z
SUMMARY:6ix Buzz FC vs. Delirium FC
DESCRIPTION:Delirium FC vs. 6ix Buzz FCPlus d'info : #105
X-ALT-DESC;FMTTYPE=text/html:<!DOCTYPE HTML PUBLIC "-//W3C//DTD HTML 3.2//E
	N">\n<HTML>\n<HEAD>\n<TITLE></TITLE>\n</HEAD>\n<BODY>\n<h3>Delirium FC vs. 
	6ix Buzz FC</h3>Plus d'info : <a href="https://www.golnetwork.com/game/v/15
	6882/">#105</a>\n\n</BODY>\n</HTML>
STATUS:CONFIRMED
CLASS:PUBLIC
URL:https://www.golnetwork.com/game/v/156882/
X-MICROSOFT-CDO-BUSYSTATUS:BUSY
X-MICROSOFT-CDO-IMPORTANCE:1
END:VEVENT
BEGIN:VEVENT
UID:gg13q@games.golnetwork.com
LOCATION:Central Tech - Field 2
GEO:43.6637272;-79.4087613
CREATED:20200304T215839Z
DTSTART:20200426T230000Z
DTEND:20200427T000000Z
DTSTAMP:20260421T064701Z
SUMMARY:This Meeting Could Have Been an Email FC vs. Blue Ballerz
DESCRIPTION:Blue Ballerz vs. This Meeting Could Have Been an Email FCPlus d
	'info : #106
X-ALT-DESC;FMTTYPE=text/html:<!DOCTYPE HTML PUBLIC "-//W3C//DTD HTML 3.2//E
	N">\n<HTML>\n<HEAD>\n<TITLE></TITLE>\n</HEAD>\n<BODY>\n<h3>Blue Ballerz vs.
	 This Meeting Could Have Been an Email FC</h3>Plus d'info : <a href="https:
	//www.golnetwork.com/game/v/156883/">#106</a>\n\n</BODY>\n</HTML>
STATUS:CONFIRMED
CLASS:PUBLIC
URL:https://www.golnetwork.com/game/v/156883/
X-MICROSOFT-CDO-BUSYSTATUS:BUSY
X-MICROSOFT-CDO-IMPORTANCE:1
END:VEVENT
BEGIN:VEVENT
UID:gg141@games.golnetwork.com
LOCATION:Central Tech - Field 2
GEO:43.6637272;-79.4087613
CREATED:20200304T215847Z
DTSTART:20200427T000000Z
DTEND:20200427T010000Z
DTSTAMP:20260421T064701Z
SUMMARY:Arse 'n' All vs. Monday Hangovers
DESCRIPTION:Monday Hangovers vs. Arse 'n' AllPlus d'info : #108
X-ALT-DESC;FMTTYPE=text/html:<!DOCTYPE HTML PUBLIC "-//W3C//DTD HTML 3.2//E
	N">\n<HTML>\n<HEAD>\n<TITLE></TITLE>\n</HEAD>\n<BODY>\n<h3>Monday Hangovers
	 vs. Arse 'n' All</h3>Plus d'info : <a href="https://www.golnetwork.com/gam
	e/v/156884/">#108</a>\n\n</BODY>\n</HTML>
STATUS:CONFIRMED
CLASS:PUBLIC
URL:https://www.golnetwork.com/game/v/156884/
X-MICROSOFT-CDO-BUSYSTATUS:BUSY
X-MICROSOFT-CDO-IMPORTANCE:1
END:VEVENT
BEGIN:VEVENT
UID:gg13i@games.golnetwork.com
LOCATION:Central Tech - Field 2
GEO:43.6637272;-79.4087613
CREATED:20200304T215807Z
DTSTART:20200504T030000Z
DTEND:20200504T040000Z
DTSTAMP:20260421T064701Z
SUMMARY:ADT* vs. ADT*
DESCRIPTION:ADT* vs. ADT*Plus d'info : #124
X-ALT-DESC;FMTTYPE=text/html:<!DOCTYPE HTML PUBLIC "-//W3C//DTD HTML 3.2//E
	N">\n<HTML>\n<HEAD>\n<TITLE></TITLE>\n</HEAD>\n<BODY>\n<h3>ADT* vs. ADT*</h
	3>Plus d'info : <a href="https://www.golnetwork.com/game/v/156879/">#124</a
	>\n\n</BODY>\n</HTML>
STATUS:CONFIRMED
CLASS:PUBLIC
URL:https://www.golnetwork.com/game/v/156879/
X-MICROSOFT-CDO-BUSYSTATUS:BUSY
X-MICROSOFT-CDO-IMPORTANCE:1
END:VEVENT
BEGIN:VEVENT
UID:gg13k@games.golnetwork.com
LOCATION:Central Tech - Field 2
GEO:43.6637272;-79.4087613
CREATED:20200304T215818Z
DTSTART:20200510T190000Z
DTEND:20200510T200000Z
DTSTAMP:20260421T064701Z
SUMMARY:ADT* vs. ADT*
DESCRIPTION:ADT* vs. ADT*Plus d'info : #131
X-ALT-DESC;FMTTYPE=text/html:<!DOCTYPE HTML PUBLIC "-//W3C//DTD HTML 3.2//E
	N">\n<HTML>\n<HEAD>\n<TITLE></TITLE>\n</HEAD>\n<BODY>\n<h3>ADT* vs. ADT*</h
	3>Plus d'info : <a href="https://www.golnetwork.com/game/v/156880/">#131</a
	>\n\n</BODY>\n</HTML>
STATUS:CONFIRMED
CLASS:PUBLIC
URL:https://www.golnetwork.com/game/v/156880/
X-MICROSOFT-CDO-BUSYSTATUS:BUSY
X-MICROSOFT-CDO-IMPORTANCE:1
END:VEVENT
BEGIN:VEVENT
UID:gg13m@games.golnetwork.com
LOCATION:Central Tech - Field 2
GEO:43.6637272;-79.4087613
CREATED:20200304T215822Z
DTSTART:20200510T200000Z
DTEND:20200510T210000Z
DTSTAMP:20260421T064701Z
SUMMARY:ADT* vs. ADT*
DESCRIPTION:ADT* vs. ADT*Plus d'info : #133
X-ALT-DESC;FMTTYPE=text/html:<!DOCTYPE HTML PUBLIC "-//W3C//DTD HTML 3.2//E
	N">\n<HTML>\n<HEAD>\n<TITLE></TITLE>\n</HEAD>\n<BODY>\n<h3>ADT* vs. ADT*</h
	3>Plus d'info : <a href="https://www.golnetwork.com/game/v/156881/">#133</a
	>\n\n</BODY>\n</HTML>
STATUS:CONFIRMED
CLASS:PUBLIC
URL:https://www.golnetwork.com/game/v/156881/
X-MICROSOFT-CDO-BUSYSTATUS:BUSY
X-MICROSOFT-CDO-IMPORTANCE:1
END:VEVENT
END:VCALENDAR
