BEGIN:VCALENDAR
PRODID:-//gdesolutions.com//MV Framework 1.0.0.1607 Calendar//EN
VERSION:2.0
METHOD:PUBLISH
CALSCALE:GREGORIAN
BEGIN:VEVENT
UID:gg5dm@games.golnetwork.com
LOCATION:Matt Anthony Field #2
GEO:45.4196785;-75.6767132
CREATED:20210913T185958Z
DTSTART:20210912T181500Z
DTEND:20210912T194500Z
DTSTAMP:20260422T072809Z
SUMMARY:Chelsea FC vs. Raiders FC
DESCRIPTION:Raiders FC vs. Chelsea FCPlus d'info : #2
X-ALT-DESC;FMTTYPE=text/html:<!DOCTYPE HTML PUBLIC "-//W3C//DTD HTML 3.2//E
	N">\n<HTML>\n<HEAD>\n<TITLE></TITLE>\n</HEAD>\n<BODY>\n<h3>Raiders FC vs. C
	helsea FC</h3>Plus d'info : <a href="https://www.golnetwork.com/game/v/1584
	74/">#2</a>\n\n</BODY>\n</HTML>
STATUS:CONFIRMED
CLASS:PUBLIC
URL:https://www.golnetwork.com/game/v/158474/
X-MICROSOFT-CDO-BUSYSTATUS:BUSY
X-MICROSOFT-CDO-IMPORTANCE:1
END:VEVENT
BEGIN:VEVENT
UID:gg5do@games.golnetwork.com
LOCATION:Matt Anthony Field #3
GEO:45.4197461;-75.6774703
CREATED:20210913T190009Z
DTSTART:20210912T181500Z
DTEND:20210912T194500Z
DTSTAMP:20260422T072809Z
SUMMARY:Upper Rec Individuals vs. Goalfinger
DESCRIPTION:Goalfinger vs. Upper Rec IndividualsPlus d'info : #3
X-ALT-DESC;FMTTYPE=text/html:<!DOCTYPE HTML PUBLIC "-//W3C//DTD HTML 3.2//E
	N">\n<HTML>\n<HEAD>\n<TITLE></TITLE>\n</HEAD>\n<BODY>\n<h3>Goalfinger vs. U
	pper Rec Individuals</h3>Plus d'info : <a href="https://www.golnetwork.com/
	game/v/158475/">#3</a>\n\n</BODY>\n</HTML>
STATUS:CONFIRMED
CLASS:PUBLIC
URL:https://www.golnetwork.com/game/v/158475/
X-MICROSOFT-CDO-BUSYSTATUS:BUSY
X-MICROSOFT-CDO-IMPORTANCE:1
END:VEVENT
BEGIN:VEVENT
UID:gg5e7@games.golnetwork.com
LOCATION:Matt Anthony Field #2
GEO:45.4196785;-75.6767132
CREATED:20210913T190113Z
DTSTART:20210919T181500Z
DTEND:20210919T194500Z
DTSTAMP:20260422T072809Z
SUMMARY:Chelsea FC vs. Upper Rec Individuals
DESCRIPTION:Upper Rec Individuals vs. Chelsea FCPlus d'info : #6
X-ALT-DESC;FMTTYPE=text/html:<!DOCTYPE HTML PUBLIC "-//W3C//DTD HTML 3.2//E
	N">\n<HTML>\n<HEAD>\n<TITLE></TITLE>\n</HEAD>\n<BODY>\n<h3>Upper Rec Indivi
	duals vs. Chelsea FC</h3>Plus d'info : <a href="https://www.golnetwork.com/
	game/v/158480/">#6</a>\n\n</BODY>\n</HTML>
STATUS:CONFIRMED
CLASS:PUBLIC
URL:https://www.golnetwork.com/game/v/158480/
X-MICROSOFT-CDO-BUSYSTATUS:BUSY
X-MICROSOFT-CDO-IMPORTANCE:1
END:VEVENT
BEGIN:VEVENT
UID:gg5e9@games.golnetwork.com
LOCATION:Matt Anthony Field #3
GEO:45.4197461;-75.6774703
CREATED:20210913T190121Z
DTSTART:20210919T181500Z
DTEND:20210919T194500Z
DTSTAMP:20260422T072809Z
SUMMARY:Goalfinger vs. Colombianos FC
DESCRIPTION:Colombianos FC vs. GoalfingerPlus d'info : #7
X-ALT-DESC;FMTTYPE=text/html:<!DOCTYPE HTML PUBLIC "-//W3C//DTD HTML 3.2//E
	N">\n<HTML>\n<HEAD>\n<TITLE></TITLE>\n</HEAD>\n<BODY>\n<h3>Colombianos FC v
	s. Goalfinger</h3>Plus d'info : <a href="https://www.golnetwork.com/game/v/
	158481/">#7</a>\n\n</BODY>\n</HTML>
STATUS:CONFIRMED
CLASS:PUBLIC
URL:https://www.golnetwork.com/game/v/158481/
X-MICROSOFT-CDO-BUSYSTATUS:BUSY
X-MICROSOFT-CDO-IMPORTANCE:1
END:VEVENT
BEGIN:VEVENT
UID:gg5eb@games.golnetwork.com
LOCATION:Matt Anthony Field #3
GEO:45.4197461;-75.6774703
CREATED:20210913T190131Z
DTSTART:20210919T195500Z
DTEND:20210919T212500Z
DTSTAMP:20260422T072809Z
SUMMARY:Raiders FC vs. Colombianos FC
DESCRIPTION:Colombianos FC vs. Raiders FCPlus d'info : #9
X-ALT-DESC;FMTTYPE=text/html:<!DOCTYPE HTML PUBLIC "-//W3C//DTD HTML 3.2//E
	N">\n<HTML>\n<HEAD>\n<TITLE></TITLE>\n</HEAD>\n<BODY>\n<h3>Colombianos FC v
	s. Raiders FC</h3>Plus d'info : <a href="https://www.golnetwork.com/game/v/
	158482/">#9</a>\n\n</BODY>\n</HTML>
STATUS:CONFIRMED
CLASS:PUBLIC
URL:https://www.golnetwork.com/game/v/158482/
X-MICROSOFT-CDO-BUSYSTATUS:BUSY
X-MICROSOFT-CDO-IMPORTANCE:1
END:VEVENT
BEGIN:VEVENT
UID:gg5fm@games.golnetwork.com
LOCATION:Matt Anthony Field #2
GEO:45.4196785;-75.6767132
CREATED:20210922T011626Z
DTSTART:20210926T181500Z
DTEND:20210926T194500Z
DTSTAMP:20260422T072809Z
SUMMARY:Raiders FC vs. Goalfinger
DESCRIPTION:Goalfinger vs. Raiders FCPlus d'info : #11
X-ALT-DESC;FMTTYPE=text/html:<!DOCTYPE HTML PUBLIC "-//W3C//DTD HTML 3.2//E
	N">\n<HTML>\n<HEAD>\n<TITLE></TITLE>\n</HEAD>\n<BODY>\n<h3>Goalfinger vs. R
	aiders FC</h3>Plus d'info : <a href="https://www.golnetwork.com/game/v/1585
	01/">#11</a>\n\n</BODY>\n</HTML>
STATUS:CONFIRMED
CLASS:PUBLIC
URL:https://www.golnetwork.com/game/v/158501/
X-MICROSOFT-CDO-BUSYSTATUS:BUSY
X-MICROSOFT-CDO-IMPORTANCE:1
END:VEVENT
BEGIN:VEVENT
UID:gg5fo@games.golnetwork.com
LOCATION:Matt Anthony Field #3
GEO:45.4197461;-75.6774703
CREATED:20210922T011641Z
DTSTART:20210926T181500Z
DTEND:20210926T194500Z
DTSTAMP:20260422T072809Z
SUMMARY:Colombianos FC vs. Chelsea FC
DESCRIPTION:Chelsea FC vs. Colombianos FCPlus d'info : #12
X-ALT-DESC;FMTTYPE=text/html:<!DOCTYPE HTML PUBLIC "-//W3C//DTD HTML 3.2//E
	N">\n<HTML>\n<HEAD>\n<TITLE></TITLE>\n</HEAD>\n<BODY>\n<h3>Chelsea FC vs. C
	olombianos FC</h3>Plus d'info : <a href="https://www.golnetwork.com/game/v/
	158502/">#12</a>\n\n</BODY>\n</HTML>
STATUS:CONFIRMED
CLASS:PUBLIC
URL:https://www.golnetwork.com/game/v/158502/
X-MICROSOFT-CDO-BUSYSTATUS:BUSY
X-MICROSOFT-CDO-IMPORTANCE:1
END:VEVENT
BEGIN:VEVENT
UID:gg5fq@games.golnetwork.com
LOCATION:Matt Anthony Field #3
GEO:45.4197461;-75.6774703
CREATED:20210922T011658Z
DTSTART:20210926T195500Z
DTEND:20210926T212500Z
DTSTAMP:20260422T072809Z
SUMMARY:ABCDE FC vs. Upper Rec Individuals
DESCRIPTION:Upper Rec Individuals vs. ABCDE FCPlus d'info : #15
X-ALT-DESC;FMTTYPE=text/html:<!DOCTYPE HTML PUBLIC "-//W3C//DTD HTML 3.2//E
	N">\n<HTML>\n<HEAD>\n<TITLE></TITLE>\n</HEAD>\n<BODY>\n<h3>Upper Rec Indivi
	duals vs. ABCDE FC</h3>Plus d'info : <a href="https://www.golnetwork.com/ga
	me/v/158503/">#15</a>\n\n</BODY>\n</HTML>
STATUS:CONFIRMED
CLASS:PUBLIC
URL:https://www.golnetwork.com/game/v/158503/
X-MICROSOFT-CDO-BUSYSTATUS:BUSY
X-MICROSOFT-CDO-IMPORTANCE:1
END:VEVENT
BEGIN:VEVENT
UID:gg5g7@games.golnetwork.com
LOCATION:Matt Anthony Field #2
GEO:45.4196785;-75.6767132
CREATED:20210922T012507Z
DTSTART:20211003T181500Z
DTEND:20211003T194500Z
DTSTAMP:20260422T072809Z
SUMMARY:ABCDE FC vs. Raiders FC
DESCRIPTION:Raiders FC vs. ABCDE FCPlus d'info : #17
X-ALT-DESC;FMTTYPE=text/html:<!DOCTYPE HTML PUBLIC "-//W3C//DTD HTML 3.2//E
	N">\n<HTML>\n<HEAD>\n<TITLE></TITLE>\n</HEAD>\n<BODY>\n<h3>Raiders FC vs. A
	BCDE FC</h3>Plus d'info : <a href="https://www.golnetwork.com/game/v/158507
	/">#17</a>\n\n</BODY>\n</HTML>
STATUS:CONFIRMED
CLASS:PUBLIC
URL:https://www.golnetwork.com/game/v/158507/
X-MICROSOFT-CDO-BUSYSTATUS:BUSY
X-MICROSOFT-CDO-IMPORTANCE:1
END:VEVENT
BEGIN:VEVENT
UID:gg5g9@games.golnetwork.com
LOCATION:Matt Anthony Field #3
GEO:45.4197461;-75.6774703
CREATED:20210922T012518Z
DTSTART:20211003T181500Z
DTEND:20211003T194500Z
DTSTAMP:20260422T072809Z
SUMMARY:Upper Rec Individuals vs. Colombianos FC
DESCRIPTION:Colombianos FC vs. Upper Rec IndividualsPlus d'info : #18
X-ALT-DESC;FMTTYPE=text/html:<!DOCTYPE HTML PUBLIC "-//W3C//DTD HTML 3.2//E
	N">\n<HTML>\n<HEAD>\n<TITLE></TITLE>\n</HEAD>\n<BODY>\n<h3>Colombianos FC v
	s. Upper Rec Individuals</h3>Plus d'info : <a href="https://www.golnetwork.
	com/game/v/158508/">#18</a>\n\n</BODY>\n</HTML>
STATUS:CONFIRMED
CLASS:PUBLIC
URL:https://www.golnetwork.com/game/v/158508/
X-MICROSOFT-CDO-BUSYSTATUS:BUSY
X-MICROSOFT-CDO-IMPORTANCE:1
END:VEVENT
BEGIN:VEVENT
UID:gg5gh@games.golnetwork.com
LOCATION:Matt Anthony Field #2
GEO:45.4196785;-75.6767132
CREATED:20210922T012626Z
DTSTART:20211003T195500Z
DTEND:20211003T212500Z
DTSTAMP:20260422T072809Z
SUMMARY:We Are Politically Correct vs. ABCDE FC
DESCRIPTION:ABCDE FC vs. We Are Politically CorrectPlus d'info : #20
X-ALT-DESC;FMTTYPE=text/html:<!DOCTYPE HTML PUBLIC "-//W3C//DTD HTML 3.2//E
	N">\n<HTML>\n<HEAD>\n<TITLE></TITLE>\n</HEAD>\n<BODY>\n<h3>ABCDE FC vs. We 
	Are Politically Correct</h3>Plus d'info : <a href="https://www.golnetwork.c
	om/game/v/158512/">#20</a>\n\n</BODY>\n</HTML>
STATUS:CONFIRMED
CLASS:PUBLIC
URL:https://www.golnetwork.com/game/v/158512/
X-MICROSOFT-CDO-BUSYSTATUS:BUSY
X-MICROSOFT-CDO-IMPORTANCE:1
END:VEVENT
BEGIN:VEVENT
UID:gg5gb@games.golnetwork.com
LOCATION:Matt Anthony Field #3
GEO:45.4197461;-75.6774703
CREATED:20210922T012529Z
DTSTART:20211003T195500Z
DTEND:20211003T212500Z
DTSTAMP:20260422T072809Z
SUMMARY:Chelsea FC vs. Goalfinger
DESCRIPTION:Goalfinger vs. Chelsea FCPlus d'info : #21
X-ALT-DESC;FMTTYPE=text/html:<!DOCTYPE HTML PUBLIC "-//W3C//DTD HTML 3.2//E
	N">\n<HTML>\n<HEAD>\n<TITLE></TITLE>\n</HEAD>\n<BODY>\n<h3>Goalfinger vs. C
	helsea FC</h3>Plus d'info : <a href="https://www.golnetwork.com/game/v/1585
	09/">#21</a>\n\n</BODY>\n</HTML>
STATUS:CONFIRMED
CLASS:PUBLIC
URL:https://www.golnetwork.com/game/v/158509/
X-MICROSOFT-CDO-BUSYSTATUS:BUSY
X-MICROSOFT-CDO-IMPORTANCE:1
END:VEVENT
BEGIN:VEVENT
UID:gg5gj@games.golnetwork.com
LOCATION:Matt Anthony Field #3
GEO:45.4197461;-75.6774703
CREATED:20210922T012719Z
DTSTART:20211017T201500Z
DTEND:20211017T214500Z
DTSTAMP:20260422T072809Z
SUMMARY:Colombianos FC vs. Goalfinger
DESCRIPTION:Goalfinger vs. Colombianos FCPlus d'info : #24
X-ALT-DESC;FMTTYPE=text/html:<!DOCTYPE HTML PUBLIC "-//W3C//DTD HTML 3.2//E
	N">\n<HTML>\n<HEAD>\n<TITLE></TITLE>\n</HEAD>\n<BODY>\n<h3>Goalfinger vs. C
	olombianos FC</h3>Plus d'info : <a href="https://www.golnetwork.com/game/v/
	158513/">#24</a>\n\n</BODY>\n</HTML>
STATUS:CONFIRMED
CLASS:PUBLIC
URL:https://www.golnetwork.com/game/v/158513/
X-MICROSOFT-CDO-BUSYSTATUS:BUSY
X-MICROSOFT-CDO-IMPORTANCE:1
END:VEVENT
BEGIN:VEVENT
UID:gg5gl@games.golnetwork.com
LOCATION:Matt Anthony Field #2
GEO:45.4196785;-75.6767132
CREATED:20210922T012732Z
DTSTART:20211017T215500Z
DTEND:20211017T232500Z
DTSTAMP:20260422T072809Z
SUMMARY:Raiders FC vs. Upper Rec Individuals
DESCRIPTION:Upper Rec Individuals vs. Raiders FCPlus d'info : #26
X-ALT-DESC;FMTTYPE=text/html:<!DOCTYPE HTML PUBLIC "-//W3C//DTD HTML 3.2//E
	N">\n<HTML>\n<HEAD>\n<TITLE></TITLE>\n</HEAD>\n<BODY>\n<h3>Upper Rec Indivi
	duals vs. Raiders FC</h3>Plus d'info : <a href="https://www.golnetwork.com/
	game/v/158514/">#26</a>\n\n</BODY>\n</HTML>
STATUS:CONFIRMED
CLASS:PUBLIC
URL:https://www.golnetwork.com/game/v/158514/
X-MICROSOFT-CDO-BUSYSTATUS:BUSY
X-MICROSOFT-CDO-IMPORTANCE:1
END:VEVENT
BEGIN:VEVENT
UID:gg5gn@games.golnetwork.com
LOCATION:Matt Anthony Field #3
GEO:45.4197461;-75.6774703
CREATED:20210922T012741Z
DTSTART:20211017T215500Z
DTEND:20211017T232500Z
DTSTAMP:20260422T072809Z
SUMMARY:ABCDE FC vs. Chelsea FC
DESCRIPTION:Chelsea FC vs. ABCDE FCPlus d'info : #27
X-ALT-DESC;FMTTYPE=text/html:<!DOCTYPE HTML PUBLIC "-//W3C//DTD HTML 3.2//E
	N">\n<HTML>\n<HEAD>\n<TITLE></TITLE>\n</HEAD>\n<BODY>\n<h3>Chelsea FC vs. A
	BCDE FC</h3>Plus d'info : <a href="https://www.golnetwork.com/game/v/158515
	/">#27</a>\n\n</BODY>\n</HTML>
STATUS:CONFIRMED
CLASS:PUBLIC
URL:https://www.golnetwork.com/game/v/158515/
X-MICROSOFT-CDO-BUSYSTATUS:BUSY
X-MICROSOFT-CDO-IMPORTANCE:1
END:VEVENT
END:VCALENDAR
