BEGIN:VCALENDAR
PRODID:-//gdesolutions.com//MV Framework 1.0.0.1607 Calendar//EN
VERSION:2.0
METHOD:PUBLISH
CALSCALE:GREGORIAN
BEGIN:VEVENT
UID:g9ggp@games.golnetwork.com
LOCATION:Gym 1
GEO:45.10662;-94.578209
CREATED:20160919T135824Z
DTSTART:20161116T011500Z
DTEND:20161116T020900Z
DTSTAMP:20260419T214740Z
SUMMARY:Dodgy Style II: Return of the Dodge vs. Dodgy Millenials
DESCRIPTION:Dodgy Millenials vs. Dodgy Style II: Return of the DodgePlus d'
	info : #53
X-ALT-DESC;FMTTYPE=text/html:<!DOCTYPE HTML PUBLIC "-//W3C//DTD HTML 3.2//E
	N">\n<HTML>\n<HEAD>\n<TITLE></TITLE>\n</HEAD>\n<BODY>\n<h3>Dodgy Millenials
	 vs. Dodgy Style II: Return of the Dodge</h3>Plus d'info : <a href="https:/
	/www.golnetwork.com/game/v/93635/">#53</a>\n\n</BODY>\n</HTML>
STATUS:CONFIRMED
CLASS:PUBLIC
URL:https://www.golnetwork.com/game/v/93635/
X-MICROSOFT-CDO-BUSYSTATUS:BUSY
X-MICROSOFT-CDO-IMPORTANCE:1
END:VEVENT
BEGIN:VEVENT
UID:g9ggd@games.golnetwork.com
LOCATION:Fieldhouse A
GEO:45.10662;-94.578209
CREATED:20160919T135824Z
DTSTART:20161027T010000Z
DTEND:20161027T015400Z
DTSTAMP:20260419T214740Z
SUMMARY:Dodgy Style II: Return of the Dodge vs. Ball Fondlers
DESCRIPTION:Ball Fondlers vs. Dodgy Style II: Return of the DodgePlus d'inf
	o : #47
X-ALT-DESC;FMTTYPE=text/html:<!DOCTYPE HTML PUBLIC "-//W3C//DTD HTML 3.2//E
	N">\n<HTML>\n<HEAD>\n<TITLE></TITLE>\n</HEAD>\n<BODY>\n<h3>Ball Fondlers vs
	. Dodgy Style II: Return of the Dodge</h3>Plus d'info : <a href="https://ww
	w.golnetwork.com/game/v/93629/">#47</a>\n\n</BODY>\n</HTML>
STATUS:CONFIRMED
CLASS:PUBLIC
URL:https://www.golnetwork.com/game/v/93629/
X-MICROSOFT-CDO-BUSYSTATUS:BUSY
X-MICROSOFT-CDO-IMPORTANCE:1
END:VEVENT
BEGIN:VEVENT
UID:g9gfq@games.golnetwork.com
LOCATION:Fieldhouse A
GEO:45.10662;-94.578209
CREATED:20160919T135824Z
DTSTART:20161020T001500Z
DTEND:20161020T010900Z
DTSTAMP:20260419T214740Z
SUMMARY:Dodgy Style II: Return of the Dodge vs. Untouchaballs
DESCRIPTION:Untouchaballs vs. Dodgy Style II: Return of the DodgePlus d'inf
	o : #39
X-ALT-DESC;FMTTYPE=text/html:<!DOCTYPE HTML PUBLIC "-//W3C//DTD HTML 3.2//E
	N">\n<HTML>\n<HEAD>\n<TITLE></TITLE>\n</HEAD>\n<BODY>\n<h3>Untouchaballs vs
	. Dodgy Style II: Return of the Dodge</h3>Plus d'info : <a href="https://ww
	w.golnetwork.com/game/v/93622/">#39</a>\n\n</BODY>\n</HTML>
STATUS:CONFIRMED
CLASS:PUBLIC
URL:https://www.golnetwork.com/game/v/93622/
X-MICROSOFT-CDO-BUSYSTATUS:BUSY
X-MICROSOFT-CDO-IMPORTANCE:1
END:VEVENT
BEGIN:VEVENT
UID:g9gfe@games.golnetwork.com
LOCATION:Fieldhouse A
GEO:45.10662;-94.578209
CREATED:20160919T135824Z
DTSTART:20161013T010000Z
DTEND:20161013T015400Z
DTSTAMP:20260419T214740Z
SUMMARY:Dodgy Style II: Return of the Dodge vs. Average Joes
DESCRIPTION:Average Joes vs. Dodgy Style II: Return of the DodgePlus d'info
	 : #33
X-ALT-DESC;FMTTYPE=text/html:<!DOCTYPE HTML PUBLIC "-//W3C//DTD HTML 3.2//E
	N">\n<HTML>\n<HEAD>\n<TITLE></TITLE>\n</HEAD>\n<BODY>\n<h3>Average Joes vs.
	 Dodgy Style II: Return of the Dodge</h3>Plus d'info : <a href="https://www
	.golnetwork.com/game/v/93616/">#33</a>\n\n</BODY>\n</HTML>
STATUS:CONFIRMED
CLASS:PUBLIC
URL:https://www.golnetwork.com/game/v/93616/
X-MICROSOFT-CDO-BUSYSTATUS:BUSY
X-MICROSOFT-CDO-IMPORTANCE:1
END:VEVENT
BEGIN:VEVENT
UID:g9gen@games.golnetwork.com
LOCATION:Gym 1
GEO:45.10662;-94.578209
CREATED:20160919T135823Z
DTSTART:20161004T233000Z
DTEND:20161005T002400Z
DTSTAMP:20260419T214740Z
SUMMARY:Dodgy Style II: Return of the Dodge vs. Brussels Sprots
DESCRIPTION:Brussels Sprots vs. Dodgy Style II: Return of the DodgePlus d'i
	nfo : #19
X-ALT-DESC;FMTTYPE=text/html:<!DOCTYPE HTML PUBLIC "-//W3C//DTD HTML 3.2//E
	N">\n<HTML>\n<HEAD>\n<TITLE></TITLE>\n</HEAD>\n<BODY>\n<h3>Brussels Sprots 
	vs. Dodgy Style II: Return of the Dodge</h3>Plus d'info : <a href="https://
	www.golnetwork.com/game/v/93607/">#19</a>\n\n</BODY>\n</HTML>
STATUS:CONFIRMED
CLASS:PUBLIC
URL:https://www.golnetwork.com/game/v/93607/
X-MICROSOFT-CDO-BUSYSTATUS:BUSY
X-MICROSOFT-CDO-IMPORTANCE:1
END:VEVENT
END:VCALENDAR
