BEGIN:VCALENDAR
PRODID:-//gdesolutions.com//MV Framework 1.0.0.1607 Calendar//EN
VERSION:2.0
METHOD:PUBLISH
CALSCALE:GREGORIAN
BEGIN:VEVENT
UID:g9gq3@games.golnetwork.com
LOCATION:Scarborough Metro Dome Field 1
CREATED:20160920T133537Z
DTSTART:20161205T010000Z
DTEND:20161205T020000Z
DTSTAMP:20260422T192359Z
SUMMARY:ABCDE FC vs. Pink Elephants
DESCRIPTION:Pink Elephants vs. ABCDE FCPlus d'info : #177
X-ALT-DESC;FMTTYPE=text/html:<!DOCTYPE HTML PUBLIC "-//W3C//DTD HTML 3.2//E
	N">\n<HTML>\n<HEAD>\n<TITLE></TITLE>\n</HEAD>\n<BODY>\n<h3>Pink Elephants v
	s. ABCDE FC</h3>Plus d'info : <a href="https://www.golnetwork.com/game/v/93
	759/">#177</a>\n\n</BODY>\n</HTML>
STATUS:CONFIRMED
CLASS:PUBLIC
URL:https://www.golnetwork.com/game/v/93759/
X-MICROSOFT-CDO-BUSYSTATUS:BUSY
X-MICROSOFT-CDO-IMPORTANCE:1
END:VEVENT
BEGIN:VEVENT
UID:g9gpq@games.golnetwork.com
LOCATION:Scarborough Metro Dome Field 1
CREATED:20160920T133537Z
DTSTART:20161128T000000Z
DTEND:20161128T010000Z
DTSTAMP:20260422T192359Z
SUMMARY:ABCDE FC vs. Formerly In Shape FC
DESCRIPTION:Formerly In Shape FC vs. ABCDE FCPlus d'info : #163
X-ALT-DESC;FMTTYPE=text/html:<!DOCTYPE HTML PUBLIC "-//W3C//DTD HTML 3.2//E
	N">\n<HTML>\n<HEAD>\n<TITLE></TITLE>\n</HEAD>\n<BODY>\n<h3>Formerly In Shap
	e FC vs. ABCDE FC</h3>Plus d'info : <a href="https://www.golnetwork.com/gam
	e/v/93757/">#163</a>\n\n</BODY>\n</HTML>
STATUS:CONFIRMED
CLASS:PUBLIC
URL:https://www.golnetwork.com/game/v/93757/
X-MICROSOFT-CDO-BUSYSTATUS:BUSY
X-MICROSOFT-CDO-IMPORTANCE:1
END:VEVENT
BEGIN:VEVENT
UID:g9gpk@games.golnetwork.com
LOCATION:Scarborough Metro Dome Field 1
CREATED:20160920T133537Z
DTSTART:20161121T010000Z
DTEND:20161121T020000Z
DTSTAMP:20260422T192359Z
SUMMARY:Durham Mack FC vs. ABCDE FC
DESCRIPTION:ABCDE FC vs. Durham Mack FCPlus d'info : #150
X-ALT-DESC;FMTTYPE=text/html:<!DOCTYPE HTML PUBLIC "-//W3C//DTD HTML 3.2//E
	N">\n<HTML>\n<HEAD>\n<TITLE></TITLE>\n</HEAD>\n<BODY>\n<h3>ABCDE FC vs. Dur
	ham Mack FC</h3>Plus d'info : <a href="https://www.golnetwork.com/game/v/93
	754/">#150</a>\n\n</BODY>\n</HTML>
STATUS:CONFIRMED
CLASS:PUBLIC
URL:https://www.golnetwork.com/game/v/93754/
X-MICROSOFT-CDO-BUSYSTATUS:BUSY
X-MICROSOFT-CDO-IMPORTANCE:1
END:VEVENT
BEGIN:VEVENT
UID:g9gpc@games.golnetwork.com
LOCATION:Scarborough Metro Dome Field 1
CREATED:20160920T133537Z
DTSTART:20161114T000000Z
DTEND:20161114T010000Z
DTSTAMP:20260422T192359Z
SUMMARY:1860 DFC vs. ABCDE FC
DESCRIPTION:ABCDE FC vs. 1860 DFCPlus d'info : #135
X-ALT-DESC;FMTTYPE=text/html:<!DOCTYPE HTML PUBLIC "-//W3C//DTD HTML 3.2//E
	N">\n<HTML>\n<HEAD>\n<TITLE></TITLE>\n</HEAD>\n<BODY>\n<h3>ABCDE FC vs. 186
	0 DFC</h3>Plus d'info : <a href="https://www.golnetwork.com/game/v/93750/">
	#135</a>\n\n</BODY>\n</HTML>
STATUS:CONFIRMED
CLASS:PUBLIC
URL:https://www.golnetwork.com/game/v/93750/
X-MICROSOFT-CDO-BUSYSTATUS:BUSY
X-MICROSOFT-CDO-IMPORTANCE:1
END:VEVENT
BEGIN:VEVENT
UID:g9gp4@games.golnetwork.com
LOCATION:Scarborough Metro Dome Field 1
CREATED:20160920T133537Z
DTSTART:20161107T000000Z
DTEND:20161107T010000Z
DTSTAMP:20260422T192359Z
SUMMARY:ABCDE FC vs. XTSC Descendants
DESCRIPTION:XTSC Descendants vs. ABCDE FCPlus d'info : #121
X-ALT-DESC;FMTTYPE=text/html:<!DOCTYPE HTML PUBLIC "-//W3C//DTD HTML 3.2//E
	N">\n<HTML>\n<HEAD>\n<TITLE></TITLE>\n</HEAD>\n<BODY>\n<h3>XTSC Descendants
	 vs. ABCDE FC</h3>Plus d'info : <a href="https://www.golnetwork.com/game/v/
	93746/">#121</a>\n\n</BODY>\n</HTML>
STATUS:CONFIRMED
CLASS:PUBLIC
URL:https://www.golnetwork.com/game/v/93746/
X-MICROSOFT-CDO-BUSYSTATUS:BUSY
X-MICROSOFT-CDO-IMPORTANCE:1
END:VEVENT
BEGIN:VEVENT
UID:g9gp2@games.golnetwork.com
LOCATION:Scarborough Metro Dome Field 1
CREATED:20160920T133537Z
DTSTART:20161030T230000Z
DTEND:20161031T000000Z
DTSTAMP:20260422T192359Z
SUMMARY:ABCDE FC vs. Durham Mack FC
DESCRIPTION:Durham Mack FC vs. ABCDE FCPlus d'info : #107
X-ALT-DESC;FMTTYPE=text/html:<!DOCTYPE HTML PUBLIC "-//W3C//DTD HTML 3.2//E
	N">\n<HTML>\n<HEAD>\n<TITLE></TITLE>\n</HEAD>\n<BODY>\n<h3>Durham Mack FC v
	s. ABCDE FC</h3>Plus d'info : <a href="https://www.golnetwork.com/game/v/93
	745/">#107</a>\n\n</BODY>\n</HTML>
STATUS:CONFIRMED
CLASS:PUBLIC
URL:https://www.golnetwork.com/game/v/93745/
X-MICROSOFT-CDO-BUSYSTATUS:BUSY
X-MICROSOFT-CDO-IMPORTANCE:1
END:VEVENT
BEGIN:VEVENT
UID:g9gon@games.golnetwork.com
LOCATION:Scarborough Metro Dome Field 4
CREATED:20160920T133537Z
DTSTART:20161024T000000Z
DTEND:20161024T010000Z
DTSTAMP:20260422T192359Z
SUMMARY:ABCDE FC vs. Pink Elephants
DESCRIPTION:Pink Elephants vs. ABCDE FCPlus d'info : #94
X-ALT-DESC;FMTTYPE=text/html:<!DOCTYPE HTML PUBLIC "-//W3C//DTD HTML 3.2//E
	N">\n<HTML>\n<HEAD>\n<TITLE></TITLE>\n</HEAD>\n<BODY>\n<h3>Pink Elephants v
	s. ABCDE FC</h3>Plus d'info : <a href="https://www.golnetwork.com/game/v/93
	742/">#94</a>\n\n</BODY>\n</HTML>
STATUS:CONFIRMED
CLASS:PUBLIC
URL:https://www.golnetwork.com/game/v/93742/
X-MICROSOFT-CDO-BUSYSTATUS:BUSY
X-MICROSOFT-CDO-IMPORTANCE:1
END:VEVENT
BEGIN:VEVENT
UID:g9god@games.golnetwork.com
LOCATION:Scarborough Metro Dome Field 4
CREATED:20160920T133537Z
DTSTART:20161017T000000Z
DTEND:20161017T010000Z
DTSTAMP:20260422T192359Z
SUMMARY:1860 DFC vs. ABCDE FC
DESCRIPTION:ABCDE FC vs. 1860 DFCPlus d'info : #75
X-ALT-DESC;FMTTYPE=text/html:<!DOCTYPE HTML PUBLIC "-//W3C//DTD HTML 3.2//E
	N">\n<HTML>\n<HEAD>\n<TITLE></TITLE>\n</HEAD>\n<BODY>\n<h3>ABCDE FC vs. 186
	0 DFC</h3>Plus d'info : <a href="https://www.golnetwork.com/game/v/93737/">
	#75</a>\n\n</BODY>\n</HTML>
STATUS:CONFIRMED
CLASS:PUBLIC
URL:https://www.golnetwork.com/game/v/93737/
X-MICROSOFT-CDO-BUSYSTATUS:BUSY
X-MICROSOFT-CDO-IMPORTANCE:1
END:VEVENT
BEGIN:VEVENT
UID:g9go7@games.golnetwork.com
LOCATION:Scarborough Metro Dome Field 1
CREATED:20160920T133537Z
DTSTART:20161002T230000Z
DTEND:20161003T000000Z
DTSTAMP:20260422T192359Z
SUMMARY:XTSC Descendants vs. ABCDE FC
DESCRIPTION:ABCDE FC vs. XTSC DescendantsPlus d'info : #48
X-ALT-DESC;FMTTYPE=text/html:<!DOCTYPE HTML PUBLIC "-//W3C//DTD HTML 3.2//E
	N">\n<HTML>\n<HEAD>\n<TITLE></TITLE>\n</HEAD>\n<BODY>\n<h3>ABCDE FC vs. XTS
	C Descendants</h3>Plus d'info : <a href="https://www.golnetwork.com/game/v/
	93734/">#48</a>\n\n</BODY>\n</HTML>
STATUS:CONFIRMED
CLASS:PUBLIC
URL:https://www.golnetwork.com/game/v/93734/
X-MICROSOFT-CDO-BUSYSTATUS:BUSY
X-MICROSOFT-CDO-IMPORTANCE:1
END:VEVENT
BEGIN:VEVENT
UID:g9go1@games.golnetwork.com
LOCATION:Scarborough Metro Dome Field 1
CREATED:20160920T133537Z
DTSTART:20160926T010000Z
DTEND:20160926T020000Z
DTSTAMP:20260422T192359Z
SUMMARY:ABCDE FC vs. Formerly In Shape FC
DESCRIPTION:Formerly In Shape FC vs. ABCDE FCPlus d'info : #35
X-ALT-DESC;FMTTYPE=text/html:<!DOCTYPE HTML PUBLIC "-//W3C//DTD HTML 3.2//E
	N">\n<HTML>\n<HEAD>\n<TITLE></TITLE>\n</HEAD>\n<BODY>\n<h3>Formerly In Shap
	e FC vs. ABCDE FC</h3>Plus d'info : <a href="https://www.golnetwork.com/gam
	e/v/93731/">#35</a>\n\n</BODY>\n</HTML>
STATUS:CONFIRMED
CLASS:PUBLIC
URL:https://www.golnetwork.com/game/v/93731/
X-MICROSOFT-CDO-BUSYSTATUS:BUSY
X-MICROSOFT-CDO-IMPORTANCE:1
END:VEVENT
END:VCALENDAR
