BEGIN:VCALENDAR
PRODID:-//gdesolutions.com//MV Framework 1.0.0.1607 Calendar//EN
VERSION:2.0
METHOD:PUBLISH
CALSCALE:GREGORIAN
BEGIN:VEVENT
UID:gagaq@games.golnetwork.com
LOCATION:Monarch Park Stadium - Field 1
GEO:43.6792789;-79.3234873
CREATED:20170309T185309Z
DTSTART:20170426T010000Z
DTEND:20170426T020000Z
DTSTAMP:20260425T035643Z
SUMMARY:Diego's Return from Rehab vs. Wildcats
DESCRIPTION:Wildcats vs. Diego's Return from RehabPlus d'info : #302
X-ALT-DESC;FMTTYPE=text/html:<!DOCTYPE HTML PUBLIC "-//W3C//DTD HTML 3.2//E
	N">\n<HTML>\n<HEAD>\n<TITLE></TITLE>\n</HEAD>\n<BODY>\n<h3>Wildcats vs. Die
	go's Return from Rehab</h3>Plus d'info : <a href="https://www.golnetwork.co
	m/game/v/103396/">#302</a>\n\n</BODY>\n</HTML>
STATUS:CONFIRMED
CLASS:PUBLIC
URL:https://www.golnetwork.com/game/v/103396/
X-MICROSOFT-CDO-BUSYSTATUS:BUSY
X-MICROSOFT-CDO-IMPORTANCE:1
END:VEVENT
BEGIN:VEVENT
UID:gagao@games.golnetwork.com
LOCATION:Monarch Park Stadium - Field 1
GEO:43.6792789;-79.3234873
CREATED:20170309T185309Z
DTSTART:20170419T010000Z
DTEND:20170419T020000Z
DTSTAMP:20260425T035643Z
SUMMARY:Dirt Squirrel vs. Diego's Return from Rehab
DESCRIPTION:Diego's Return from Rehab vs. Dirt SquirrelPlus d'info : #261
X-ALT-DESC;FMTTYPE=text/html:<!DOCTYPE HTML PUBLIC "-//W3C//DTD HTML 3.2//E
	N">\n<HTML>\n<HEAD>\n<TITLE></TITLE>\n</HEAD>\n<BODY>\n<h3>Diego's Return f
	rom Rehab vs. Dirt Squirrel</h3>Plus d'info : <a href="https://www.golnetwo
	rk.com/game/v/103395/">#261</a>\n\n</BODY>\n</HTML>
STATUS:CONFIRMED
CLASS:PUBLIC
URL:https://www.golnetwork.com/game/v/103395/
X-MICROSOFT-CDO-BUSYSTATUS:BUSY
X-MICROSOFT-CDO-IMPORTANCE:1
END:VEVENT
END:VCALENDAR
