BEGIN:VCALENDAR
PRODID:-//gdesolutions.com//MV Framework 1.0.0.1607 Calendar//EN
VERSION:2.0
METHOD:PUBLISH
CALSCALE:GREGORIAN
BEGIN:VEVENT
UID:ge8ph@games.golnetwork.com
LOCATION:Lamport Stadium - Field 1
GEO:43.6390028;-79.4232104
CREATED:20190130T182544Z
DTSTART:20190402T230000Z
DTEND:20190403T000000Z
DTSTAMP:20260425T021828Z
SUMMARY:Goldfish Crackers FC vs. Purple Drank
DESCRIPTION:Purple Drank vs. Goldfish Crackers FCPlus d'info : #791
X-ALT-DESC;FMTTYPE=text/html:<!DOCTYPE HTML PUBLIC "-//W3C//DTD HTML 3.2//E
	N">\n<HTML>\n<HEAD>\n<TITLE></TITLE>\n</HEAD>\n<BODY>\n<h3>Purple Drank vs.
	 Goldfish Crackers FC</h3>Plus d'info : <a href="https://www.golnetwork.com
	/game/v/140044/">#791</a>\n\n</BODY>\n</HTML>
STATUS:CONFIRMED
CLASS:PUBLIC
URL:https://www.golnetwork.com/game/v/140044/
X-MICROSOFT-CDO-BUSYSTATUS:BUSY
X-MICROSOFT-CDO-IMPORTANCE:1
END:VEVENT
BEGIN:VEVENT
UID:ge8qq@games.golnetwork.com
LOCATION:Lamport Stadium - Field 3
GEO:43.6390028;-79.4232104
CREATED:20190130T182832Z
DTSTART:20190327T000000Z
DTEND:20190327T010000Z
DTSTAMP:20260425T021828Z
SUMMARY:Purple Drank vs. Bay Street United
DESCRIPTION:Bay Street United vs. Purple DrankPlus d'info : #764
X-ALT-DESC;FMTTYPE=text/html:<!DOCTYPE HTML PUBLIC "-//W3C//DTD HTML 3.2//E
	N">\n<HTML>\n<HEAD>\n<TITLE></TITLE>\n</HEAD>\n<BODY>\n<h3>Bay Street Unite
	d vs. Purple Drank</h3>Plus d'info : <a href="https://www.golnetwork.com/ga
	me/v/140062/">#764</a>\n\n</BODY>\n</HTML>
STATUS:CONFIRMED
CLASS:PUBLIC
URL:https://www.golnetwork.com/game/v/140062/
X-MICROSOFT-CDO-BUSYSTATUS:BUSY
X-MICROSOFT-CDO-IMPORTANCE:1
END:VEVENT
BEGIN:VEVENT
UID:ge8qk@games.golnetwork.com
LOCATION:Lamport Stadium - Field 2
GEO:43.6390028;-79.4232104
CREATED:20190130T182805Z
DTSTART:20190320T010000Z
DTEND:20190320T020000Z
DTSTAMP:20260425T021828Z
SUMMARY:Goldfish Crackers FC vs. Purple Drank
DESCRIPTION:Purple Drank vs. Goldfish Crackers FCPlus d'info : #730
X-ALT-DESC;FMTTYPE=text/html:<!DOCTYPE HTML PUBLIC "-//W3C//DTD HTML 3.2//E
	N">\n<HTML>\n<HEAD>\n<TITLE></TITLE>\n</HEAD>\n<BODY>\n<h3>Purple Drank vs.
	 Goldfish Crackers FC</h3>Plus d'info : <a href="https://www.golnetwork.com
	/game/v/140059/">#730</a>\n\n</BODY>\n</HTML>
STATUS:CONFIRMED
CLASS:PUBLIC
URL:https://www.golnetwork.com/game/v/140059/
X-MICROSOFT-CDO-BUSYSTATUS:BUSY
X-MICROSOFT-CDO-IMPORTANCE:1
END:VEVENT
BEGIN:VEVENT
UID:ge8qg@games.golnetwork.com
LOCATION:Lamport Stadium - Field 1
GEO:43.6390028;-79.4232104
CREATED:20190130T182743Z
DTSTART:20190313T020000Z
DTEND:20190313T030000Z
DTSTAMP:20260425T021828Z
SUMMARY:Uberflip FC vs. Purple Drank
DESCRIPTION:Purple Drank vs. Uberflip FCPlus d'info : #688
X-ALT-DESC;FMTTYPE=text/html:<!DOCTYPE HTML PUBLIC "-//W3C//DTD HTML 3.2//E
	N">\n<HTML>\n<HEAD>\n<TITLE></TITLE>\n</HEAD>\n<BODY>\n<h3>Purple Drank vs.
	 Uberflip FC</h3>Plus d'info : <a href="https://www.golnetwork.com/game/v/1
	40057/">#688</a>\n\n</BODY>\n</HTML>
STATUS:CONFIRMED
CLASS:PUBLIC
URL:https://www.golnetwork.com/game/v/140057/
X-MICROSOFT-CDO-BUSYSTATUS:BUSY
X-MICROSOFT-CDO-IMPORTANCE:1
END:VEVENT
BEGIN:VEVENT
UID:ge8q6@games.golnetwork.com
LOCATION:Lamport Stadium - Field 1
GEO:43.6390028;-79.4232104
CREATED:20190130T182702Z
DTSTART:20190305T230000Z
DTEND:20190306T000000Z
DTSTAMP:20260425T021828Z
SUMMARY:Purple Drank vs. Smurfs
DESCRIPTION:Smurfs vs. Purple DrankPlus d'info : #605
X-ALT-DESC;FMTTYPE=text/html:<!DOCTYPE HTML PUBLIC "-//W3C//DTD HTML 3.2//E
	N">\n<HTML>\n<HEAD>\n<TITLE></TITLE>\n</HEAD>\n<BODY>\n<h3>Smurfs vs. Purpl
	e Drank</h3>Plus d'info : <a href="https://www.golnetwork.com/game/v/140052
	/">#605</a>\n\n</BODY>\n</HTML>
STATUS:CONFIRMED
CLASS:PUBLIC
URL:https://www.golnetwork.com/game/v/140052/
X-MICROSOFT-CDO-BUSYSTATUS:BUSY
X-MICROSOFT-CDO-IMPORTANCE:1
END:VEVENT
BEGIN:VEVENT
UID:ge8q2@games.golnetwork.com
LOCATION:Lamport Stadium - Field 3
GEO:43.6390028;-79.4232104
CREATED:20190130T182640Z
DTSTART:20190227T010000Z
DTEND:20190227T020000Z
DTSTAMP:20260425T021828Z
SUMMARY:Purple Drank vs. Sundowns
DESCRIPTION:Sundowns vs. Purple DrankPlus d'info : #517
X-ALT-DESC;FMTTYPE=text/html:<!DOCTYPE HTML PUBLIC "-//W3C//DTD HTML 3.2//E
	N">\n<HTML>\n<HEAD>\n<TITLE></TITLE>\n</HEAD>\n<BODY>\n<h3>Sundowns vs. Pur
	ple Drank</h3>Plus d'info : <a href="https://www.golnetwork.com/game/v/1400
	50/">#517</a>\n\n</BODY>\n</HTML>
STATUS:CONFIRMED
CLASS:PUBLIC
URL:https://www.golnetwork.com/game/v/140050/
X-MICROSOFT-CDO-BUSYSTATUS:BUSY
X-MICROSOFT-CDO-IMPORTANCE:1
END:VEVENT
BEGIN:VEVENT
UID:ge8pn@games.golnetwork.com
LOCATION:Lamport Stadium - Field 1
GEO:43.6390028;-79.4232104
CREATED:20190130T182612Z
DTSTART:20190220T030000Z
DTEND:20190220T040000Z
DTSTAMP:20260425T021828Z
SUMMARY:Purple Drank vs. Bay Street United
DESCRIPTION:Bay Street United vs. Purple DrankPlus d'info : #434
X-ALT-DESC;FMTTYPE=text/html:<!DOCTYPE HTML PUBLIC "-//W3C//DTD HTML 3.2//E
	N">\n<HTML>\n<HEAD>\n<TITLE></TITLE>\n</HEAD>\n<BODY>\n<h3>Bay Street Unite
	d vs. Purple Drank</h3>Plus d'info : <a href="https://www.golnetwork.com/ga
	me/v/140047/">#434</a>\n\n</BODY>\n</HTML>
STATUS:CONFIRMED
CLASS:PUBLIC
URL:https://www.golnetwork.com/game/v/140047/
X-MICROSOFT-CDO-BUSYSTATUS:BUSY
X-MICROSOFT-CDO-IMPORTANCE:1
END:VEVENT
BEGIN:VEVENT
UID:ge8pd@games.golnetwork.com
LOCATION:Lamport Stadium - Field 2
GEO:43.6390028;-79.4232104
CREATED:20190130T182520Z
DTSTART:20190206T040000Z
DTEND:20190206T050000Z
DTSTAMP:20260425T021828Z
SUMMARY:Uberflip FC vs. Purple Drank
DESCRIPTION:Purple Drank vs. Uberflip FCPlus d'info : #307
X-ALT-DESC;FMTTYPE=text/html:<!DOCTYPE HTML PUBLIC "-//W3C//DTD HTML 3.2//E
	N">\n<HTML>\n<HEAD>\n<TITLE></TITLE>\n</HEAD>\n<BODY>\n<h3>Purple Drank vs.
	 Uberflip FC</h3>Plus d'info : <a href="https://www.golnetwork.com/game/v/1
	40042/">#307</a>\n\n</BODY>\n</HTML>
STATUS:CONFIRMED
CLASS:PUBLIC
URL:https://www.golnetwork.com/game/v/140042/
X-MICROSOFT-CDO-BUSYSTATUS:BUSY
X-MICROSOFT-CDO-IMPORTANCE:1
END:VEVENT
END:VCALENDAR
