BEGIN:VCALENDAR
PRODID:-//gdesolutions.com//MV Framework 1.0.0.1607 Calendar//EN
VERSION:2.0
METHOD:PUBLISH
CALSCALE:GREGORIAN
BEGIN:VEVENT
UID:ga1ip@games.golnetwork.com
LOCATION:Lamport Stadium - Field 3
GEO:43.6390028;-79.4232104
CREATED:20161104T173211Z
DTSTART:20170121T010000Z
DTEND:20170121T020000Z
DTSTAMP:20260421T052345Z
SUMMARY:Misfits vs. The Diplomats
DESCRIPTION:The Diplomats vs. MisfitsPlus d'info : #790
X-ALT-DESC;FMTTYPE=text/html:<!DOCTYPE HTML PUBLIC "-//W3C//DTD HTML 3.2//E
	N">\n<HTML>\n<HEAD>\n<TITLE></TITLE>\n</HEAD>\n<BODY>\n<h3>The Diplomats vs
	. Misfits</h3>Plus d'info : <a href="https://www.golnetwork.com/game/v/9803
	6/">#790</a>\n\n</BODY>\n</HTML>
STATUS:CONFIRMED
CLASS:PUBLIC
URL:https://www.golnetwork.com/game/v/98036/
X-MICROSOFT-CDO-BUSYSTATUS:BUSY
X-MICROSOFT-CDO-IMPORTANCE:1
END:VEVENT
BEGIN:VEVENT
UID:ga1il@games.golnetwork.com
LOCATION:Lamport Stadium - Field 2
GEO:43.6390028;-79.4232104
CREATED:20161104T173211Z
DTSTART:20170114T000000Z
DTEND:20170114T010000Z
DTSTAMP:20260421T052345Z
SUMMARY:The Diplomats vs. The Six Shooters
DESCRIPTION:The Six Shooters vs. The DiplomatsPlus d'info : #765
X-ALT-DESC;FMTTYPE=text/html:<!DOCTYPE HTML PUBLIC "-//W3C//DTD HTML 3.2//E
	N">\n<HTML>\n<HEAD>\n<TITLE></TITLE>\n</HEAD>\n<BODY>\n<h3>The Six Shooters
	 vs. The Diplomats</h3>Plus d'info : <a href="https://www.golnetwork.com/ga
	me/v/98034/">#765</a>\n\n</BODY>\n</HTML>
STATUS:CONFIRMED
CLASS:PUBLIC
URL:https://www.golnetwork.com/game/v/98034/
X-MICROSOFT-CDO-BUSYSTATUS:BUSY
X-MICROSOFT-CDO-IMPORTANCE:1
END:VEVENT
END:VCALENDAR
