BEGIN:VCALENDAR
PRODID:-//gdesolutions.com//MV Framework 1.0.0.1607 Calendar//EN
VERSION:2.0
METHOD:PUBLISH
CALSCALE:GREGORIAN
BEGIN:VEVENT
UID:geff8@games.golnetwork.com
LOCATION:Lamport Stadium - Field 3
GEO:43.6390028;-79.4232104
CREATED:20190502T201203Z
DTSTART:20190706T020000Z
DTEND:20190706T030000Z
DTSTAMP:20260422T160913Z
SUMMARY:XTSC TGIF vs. Views from The Pitch
DESCRIPTION:Views from The Pitch vs. XTSC TGIFPlus d'info : #523
X-ALT-DESC;FMTTYPE=text/html:<!DOCTYPE HTML PUBLIC "-//W3C//DTD HTML 3.2//E
	N">\n<HTML>\n<HEAD>\n<TITLE></TITLE>\n</HEAD>\n<BODY>\n<h3>Views from The P
	itch vs. XTSC TGIF</h3>Plus d'info : <a href="https://www.golnetwork.com/ga
	me/v/142456/">#523</a>\n\n</BODY>\n</HTML>
STATUS:CONFIRMED
CLASS:PUBLIC
URL:https://www.golnetwork.com/game/v/142456/
X-MICROSOFT-CDO-BUSYSTATUS:BUSY
X-MICROSOFT-CDO-IMPORTANCE:1
END:VEVENT
BEGIN:VEVENT
UID:gefef@games.golnetwork.com
LOCATION:Lamport Stadium - Field 3
GEO:43.6390028;-79.4232104
CREATED:20190502T200951Z
DTSTART:20190706T010000Z
DTEND:20190706T020000Z
DTSTAMP:20260422T160913Z
SUMMARY:ABCDE FC vs. Views from The Pitch
DESCRIPTION:Views from The Pitch vs. ABCDE FCPlus d'info : #522
X-ALT-DESC;FMTTYPE=text/html:<!DOCTYPE HTML PUBLIC "-//W3C//DTD HTML 3.2//E
	N">\n<HTML>\n<HEAD>\n<TITLE></TITLE>\n</HEAD>\n<BODY>\n<h3>Views from The P
	itch vs. ABCDE FC</h3>Plus d'info : <a href="https://www.golnetwork.com/gam
	e/v/142446/">#522</a>\n\n</BODY>\n</HTML>
STATUS:CONFIRMED
CLASS:PUBLIC
URL:https://www.golnetwork.com/game/v/142446/
X-MICROSOFT-CDO-BUSYSTATUS:BUSY
X-MICROSOFT-CDO-IMPORTANCE:1
END:VEVENT
BEGIN:VEVENT
UID:geff2@games.golnetwork.com
LOCATION:Lamport Stadium - Field 2
GEO:43.6390028;-79.4232104
CREATED:20190502T201121Z
DTSTART:20190622T000000Z
DTEND:20190622T010000Z
DTSTAMP:20260422T160913Z
SUMMARY:Views from The Pitch vs.  Drama Queens
DESCRIPTION: Drama Queens vs. Views from The PitchPlus d'info : #381
X-ALT-DESC;FMTTYPE=text/html:<!DOCTYPE HTML PUBLIC "-//W3C//DTD HTML 3.2//E
	N">\n<HTML>\n<HEAD>\n<TITLE></TITLE>\n</HEAD>\n<BODY>\n<h3> Drama Queens vs
	. Views from The Pitch</h3>Plus d'info : <a href="https://www.golnetwork.co
	m/game/v/142453/">#381</a>\n\n</BODY>\n</HTML>
STATUS:CONFIRMED
CLASS:PUBLIC
URL:https://www.golnetwork.com/game/v/142453/
X-MICROSOFT-CDO-BUSYSTATUS:BUSY
X-MICROSOFT-CDO-IMPORTANCE:1
END:VEVENT
BEGIN:VEVENT
UID:gefej@games.golnetwork.com
LOCATION:Lamport Stadium - Field 2
GEO:43.6390028;-79.4232104
CREATED:20190502T201032Z
DTSTART:20190615T000000Z
DTEND:20190615T010000Z
DTSTAMP:20260422T160913Z
SUMMARY:Views from The Pitch vs. EuroStars
DESCRIPTION:EuroStars vs. Views from The PitchPlus d'info : #300
X-ALT-DESC;FMTTYPE=text/html:<!DOCTYPE HTML PUBLIC "-//W3C//DTD HTML 3.2//E
	N">\n<HTML>\n<HEAD>\n<TITLE></TITLE>\n</HEAD>\n<BODY>\n<h3>EuroStars vs. Vi
	ews from The Pitch</h3>Plus d'info : <a href="https://www.golnetwork.com/ga
	me/v/142448/">#300</a>\n\n</BODY>\n</HTML>
STATUS:CONFIRMED
CLASS:PUBLIC
URL:https://www.golnetwork.com/game/v/142448/
X-MICROSOFT-CDO-BUSYSTATUS:BUSY
X-MICROSOFT-CDO-IMPORTANCE:1
END:VEVENT
BEGIN:VEVENT
UID:gefe7@games.golnetwork.com
LOCATION:Lamport Stadium - Field 2
GEO:43.6390028;-79.4232104
CREATED:20190502T200902Z
DTSTART:20190601T010000Z
DTEND:20190601T020000Z
DTSTAMP:20260422T160913Z
SUMMARY:Goodfellas vs. Views from The Pitch
DESCRIPTION:Views from The Pitch vs. GoodfellasPlus d'info : #148
X-ALT-DESC;FMTTYPE=text/html:<!DOCTYPE HTML PUBLIC "-//W3C//DTD HTML 3.2//E
	N">\n<HTML>\n<HEAD>\n<TITLE></TITLE>\n</HEAD>\n<BODY>\n<h3>Views from The P
	itch vs. Goodfellas</h3>Plus d'info : <a href="https://www.golnetwork.com/g
	ame/v/142442/">#148</a>\n\n</BODY>\n</HTML>
STATUS:CONFIRMED
CLASS:PUBLIC
URL:https://www.golnetwork.com/game/v/142442/
X-MICROSOFT-CDO-BUSYSTATUS:BUSY
X-MICROSOFT-CDO-IMPORTANCE:1
END:VEVENT
BEGIN:VEVENT
UID:gefe5@games.golnetwork.com
LOCATION:Lamport Stadium - Field 1
GEO:43.6390028;-79.4232104
CREATED:20190502T200828Z
DTSTART:20190525T020000Z
DTEND:20190525T030000Z
DTSTAMP:20260422T160913Z
SUMMARY:Views from The Pitch vs. XTSC TGIF
DESCRIPTION:XTSC TGIF vs. Views from The PitchPlus d'info : #91
X-ALT-DESC;FMTTYPE=text/html:<!DOCTYPE HTML PUBLIC "-//W3C//DTD HTML 3.2//E
	N">\n<HTML>\n<HEAD>\n<TITLE></TITLE>\n</HEAD>\n<BODY>\n<h3>XTSC TGIF vs. Vi
	ews from The Pitch</h3>Plus d'info : <a href="https://www.golnetwork.com/ga
	me/v/142441/">#91</a>\n\n</BODY>\n</HTML>
STATUS:CONFIRMED
CLASS:PUBLIC
URL:https://www.golnetwork.com/game/v/142441/
X-MICROSOFT-CDO-BUSYSTATUS:BUSY
X-MICROSOFT-CDO-IMPORTANCE:1
END:VEVENT
BEGIN:VEVENT
UID:gefdo@games.golnetwork.com
LOCATION:Lamport Stadium - Field 3
GEO:43.6390028;-79.4232104
CREATED:20190502T200744Z
DTSTART:20190510T230000Z
DTEND:20190511T000000Z
DTSTAMP:20260422T160913Z
SUMMARY:Views from The Pitch vs.  Drama Queens
DESCRIPTION: Drama Queens vs. Views from The PitchPlus d'info : #24
X-ALT-DESC;FMTTYPE=text/html:<!DOCTYPE HTML PUBLIC "-//W3C//DTD HTML 3.2//E
	N">\n<HTML>\n<HEAD>\n<TITLE></TITLE>\n</HEAD>\n<BODY>\n<h3> Drama Queens vs
	. Views from The Pitch</h3>Plus d'info : <a href="https://www.golnetwork.co
	m/game/v/142437/">#24</a>\n\n</BODY>\n</HTML>
STATUS:CONFIRMED
CLASS:PUBLIC
URL:https://www.golnetwork.com/game/v/142437/
X-MICROSOFT-CDO-BUSYSTATUS:BUSY
X-MICROSOFT-CDO-IMPORTANCE:1
END:VEVENT
BEGIN:VEVENT
UID:gefja@games.golnetwork.com
LOCATION:Lamport Stadium - Field 3
GEO:43.6390028;-79.4232104
CREATED:20190503T143231Z
DTSTART:20190503T230000Z
DTEND:20190504T000000Z
DTSTAMP:20260422T160913Z
SUMMARY:Views from The Pitch vs. EuroStars
DESCRIPTION:EuroStars vs. Views from The PitchPlus d'info : #1
X-ALT-DESC;FMTTYPE=text/html:<!DOCTYPE HTML PUBLIC "-//W3C//DTD HTML 3.2//E
	N">\n<HTML>\n<HEAD>\n<TITLE></TITLE>\n</HEAD>\n<BODY>\n<h3>EuroStars vs. Vi
	ews from The Pitch</h3>Plus d'info : <a href="https://www.golnetwork.com/ga
	me/v/142511/">#1</a>\n\n</BODY>\n</HTML>
STATUS:CONFIRMED
CLASS:PUBLIC
URL:https://www.golnetwork.com/game/v/142511/
X-MICROSOFT-CDO-BUSYSTATUS:BUSY
X-MICROSOFT-CDO-IMPORTANCE:1
END:VEVENT
END:VCALENDAR
