BEGIN:VCALENDAR
PRODID:-//gdesolutions.com//MV Framework 1.0.0.1607 Calendar//EN
VERSION:2.0
METHOD:PUBLISH
CALSCALE:GREGORIAN
BEGIN:VEVENT
UID:gfjak@games.golnetwork.com
LOCATION:Lamport Stadium - Field 1
GEO:43.6390028;-79.4232104
CREATED:20191203T024853Z
DTSTART:20200125T010000Z
DTEND:20200125T020000Z
DTSTAMP:20260426T013617Z
SUMMARY:Views from The Pitch vs. Team Jamaica and the Sweet Mickey All-Star
	s 🇯🇲
DESCRIPTION:Team Jamaica and the Sweet Mickey All-Stars 🇯🇲 vs. Views 
	from The PitchPlus d'info : #1013
X-ALT-DESC;FMTTYPE=text/html:<!DOCTYPE HTML PUBLIC "-//W3C//DTD HTML 3.2//E
	N">\n<HTML>\n<HEAD>\n<TITLE></TITLE>\n</HEAD>\n<BODY>\n<h3>Team Jamaica and
	 the Sweet Mickey All-Stars 🇯🇲 vs. Views from The Pitch</h3>Plus d'in
	fo : <a href="https://www.golnetwork.com/game/v/153694/">#1013</a>\n\n</BOD
	Y>\n</HTML>
STATUS:CONFIRMED
CLASS:PUBLIC
URL:https://www.golnetwork.com/game/v/153694/
X-MICROSOFT-CDO-BUSYSTATUS:BUSY
X-MICROSOFT-CDO-IMPORTANCE:1
END:VEVENT
END:VCALENDAR
