BEGIN:VCALENDAR
PRODID:-//gdesolutions.com//MV Framework 1.0.0.1607 Calendar//EN
VERSION:2.0
METHOD:PUBLISH
CALSCALE:GREGORIAN
BEGIN:VEVENT
UID:ga1o7@games.golnetwork.com
LOCATION:Lamport Stadium - Field 3
GEO:43.6390028;-79.4232104
CREATED:20161107T185855Z
DTSTART:20170128T200000Z
DTEND:20170128T210000Z
DTSTAMP:20260420T071356Z
SUMMARY:The Bearcats vs. XTSC Hardliners
DESCRIPTION:XTSC Hardliners vs. The BearcatsPlus d'info : #226
X-ALT-DESC;FMTTYPE=text/html:<!DOCTYPE HTML PUBLIC "-//W3C//DTD HTML 3.2//E
	N">\n<HTML>\n<HEAD>\n<TITLE></TITLE>\n</HEAD>\n<BODY>\n<h3>XTSC Hardliners 
	vs. The Bearcats</h3>Plus d'info : <a href="https://www.golnetwork.com/game
	/v/98108/">#226</a>\n\n</BODY>\n</HTML>
STATUS:CONFIRMED
CLASS:PUBLIC
URL:https://www.golnetwork.com/game/v/98108/
X-MICROSOFT-CDO-BUSYSTATUS:BUSY
X-MICROSOFT-CDO-IMPORTANCE:1
END:VEVENT
BEGIN:VEVENT
UID:ga1o3@games.golnetwork.com
LOCATION:Lamport Stadium - Field 1
GEO:43.6390028;-79.4232104
CREATED:20161107T185855Z
DTSTART:20170121T180000Z
DTEND:20170121T190000Z
DTSTAMP:20260420T071356Z
SUMMARY:The Bearcats vs. The Invincible Reds
DESCRIPTION:The Invincible Reds vs. The BearcatsPlus d'info : #217
X-ALT-DESC;FMTTYPE=text/html:<!DOCTYPE HTML PUBLIC "-//W3C//DTD HTML 3.2//E
	N">\n<HTML>\n<HEAD>\n<TITLE></TITLE>\n</HEAD>\n<BODY>\n<h3>The Invincible R
	eds vs. The Bearcats</h3>Plus d'info : <a href="https://www.golnetwork.com/
	game/v/98106/">#217</a>\n\n</BODY>\n</HTML>
STATUS:CONFIRMED
CLASS:PUBLIC
URL:https://www.golnetwork.com/game/v/98106/
X-MICROSOFT-CDO-BUSYSTATUS:BUSY
X-MICROSOFT-CDO-IMPORTANCE:1
END:VEVENT
BEGIN:VEVENT
UID:ga1ni@games.golnetwork.com
LOCATION:Lamport Stadium - Field 1
GEO:43.6390028;-79.4232104
CREATED:20161107T185855Z
DTSTART:20170107T210000Z
DTEND:20170107T220000Z
DTSTAMP:20260420T071356Z
SUMMARY:Cheatin Refs vs. The Bearcats
DESCRIPTION:The Bearcats vs. Cheatin RefsPlus d'info : #208
X-ALT-DESC;FMTTYPE=text/html:<!DOCTYPE HTML PUBLIC "-//W3C//DTD HTML 3.2//E
	N">\n<HTML>\n<HEAD>\n<TITLE></TITLE>\n</HEAD>\n<BODY>\n<h3>The Bearcats vs.
	 Cheatin Refs</h3>Plus d'info : <a href="https://www.golnetwork.com/game/v/
	98100/">#208</a>\n\n</BODY>\n</HTML>
STATUS:CONFIRMED
CLASS:PUBLIC
URL:https://www.golnetwork.com/game/v/98100/
X-MICROSOFT-CDO-BUSYSTATUS:BUSY
X-MICROSOFT-CDO-IMPORTANCE:1
END:VEVENT
BEGIN:VEVENT
UID:ga3pq@games.golnetwork.com
LOCATION:Lamport Stadium - Field 1
GEO:43.6390028;-79.4232104
CREATED:20161128T025853Z
DTSTART:20161210T180000Z
DTEND:20161210T190000Z
DTSTAMP:20260420T071356Z
SUMMARY:The Bearcats vs. The Wildlings
DESCRIPTION:The Wildlings vs. The BearcatsPlus d'info : #168
X-ALT-DESC;FMTTYPE=text/html:<!DOCTYPE HTML PUBLIC "-//W3C//DTD HTML 3.2//E
	N">\n<HTML>\n<HEAD>\n<TITLE></TITLE>\n</HEAD>\n<BODY>\n<h3>The Wildlings vs
	. The Bearcats</h3>Plus d'info : <a href="https://www.golnetwork.com/game/v
	/98860/">#168</a>\n\n</BODY>\n</HTML>
STATUS:CONFIRMED
CLASS:PUBLIC
URL:https://www.golnetwork.com/game/v/98860/
X-MICROSOFT-CDO-BUSYSTATUS:BUSY
X-MICROSOFT-CDO-IMPORTANCE:1
END:VEVENT
BEGIN:VEVENT
UID:ga1n2@games.golnetwork.com
LOCATION:Lamport Stadium - Field 1
GEO:43.6390028;-79.4232104
CREATED:20161107T185855Z
DTSTART:20161203T180000Z
DTEND:20161203T190000Z
DTSTAMP:20260420T071356Z
SUMMARY:The Bearcats vs. The Invincible Reds
DESCRIPTION:The Invincible Reds vs. The BearcatsPlus d'info : #141
X-ALT-DESC;FMTTYPE=text/html:<!DOCTYPE HTML PUBLIC "-//W3C//DTD HTML 3.2//E
	N">\n<HTML>\n<HEAD>\n<TITLE></TITLE>\n</HEAD>\n<BODY>\n<h3>The Invincible R
	eds vs. The Bearcats</h3>Plus d'info : <a href="https://www.golnetwork.com/
	game/v/98092/">#141</a>\n\n</BODY>\n</HTML>
STATUS:CONFIRMED
CLASS:PUBLIC
URL:https://www.golnetwork.com/game/v/98092/
X-MICROSOFT-CDO-BUSYSTATUS:BUSY
X-MICROSOFT-CDO-IMPORTANCE:1
END:VEVENT
BEGIN:VEVENT
UID:ga3j6@games.golnetwork.com
LOCATION:Lamport Stadium - Field 1
GEO:43.6390028;-79.4232104
CREATED:20161124T144051Z
DTSTART:20161126T210000Z
DTEND:20161126T220000Z
DTSTAMP:20260420T071356Z
SUMMARY:The Bearcats vs. Blood Orange
DESCRIPTION:Blood Orange vs. The BearcatsPlus d'info : #117
X-ALT-DESC;FMTTYPE=text/html:<!DOCTYPE HTML PUBLIC "-//W3C//DTD HTML 3.2//E
	N">\n<HTML>\n<HEAD>\n<TITLE></TITLE>\n</HEAD>\n<BODY>\n<h3>Blood Orange vs.
	 The Bearcats</h3>Plus d'info : <a href="https://www.golnetwork.com/game/v/
	98769/">#117</a>\n\n</BODY>\n</HTML>
STATUS:CONFIRMED
CLASS:PUBLIC
URL:https://www.golnetwork.com/game/v/98769/
X-MICROSOFT-CDO-BUSYSTATUS:BUSY
X-MICROSOFT-CDO-IMPORTANCE:1
END:VEVENT
BEGIN:VEVENT
UID:ga1ml@games.golnetwork.com
LOCATION:Lamport Stadium - Field 1
GEO:43.6390028;-79.4232104
CREATED:20161107T185855Z
DTSTART:20161126T200000Z
DTEND:20161126T210000Z
DTSTAMP:20260420T071356Z
SUMMARY:The Bearcats vs. XTSC Hardliners
DESCRIPTION:XTSC Hardliners vs. The BearcatsPlus d'info : #116
X-ALT-DESC;FMTTYPE=text/html:<!DOCTYPE HTML PUBLIC "-//W3C//DTD HTML 3.2//E
	N">\n<HTML>\n<HEAD>\n<TITLE></TITLE>\n</HEAD>\n<BODY>\n<h3>XTSC Hardliners 
	vs. The Bearcats</h3>Plus d'info : <a href="https://www.golnetwork.com/game
	/v/98088/">#116</a>\n\n</BODY>\n</HTML>
STATUS:CONFIRMED
CLASS:PUBLIC
URL:https://www.golnetwork.com/game/v/98088/
X-MICROSOFT-CDO-BUSYSTATUS:BUSY
X-MICROSOFT-CDO-IMPORTANCE:1
END:VEVENT
BEGIN:VEVENT
UID:ga1mf@games.golnetwork.com
LOCATION:Lamport Stadium - Field 1
GEO:43.6390028;-79.4232104
CREATED:20161107T185855Z
DTSTART:20161119T190000Z
DTEND:20161119T200000Z
DTSTAMP:20260420T071356Z
SUMMARY:The Bearcats vs. The Wildlings
DESCRIPTION:The Wildlings vs. The BearcatsPlus d'info : #87
X-ALT-DESC;FMTTYPE=text/html:<!DOCTYPE HTML PUBLIC "-//W3C//DTD HTML 3.2//E
	N">\n<HTML>\n<HEAD>\n<TITLE></TITLE>\n</HEAD>\n<BODY>\n<h3>The Wildlings vs
	. The Bearcats</h3>Plus d'info : <a href="https://www.golnetwork.com/game/v
	/98085/">#87</a>\n\n</BODY>\n</HTML>
STATUS:CONFIRMED
CLASS:PUBLIC
URL:https://www.golnetwork.com/game/v/98085/
X-MICROSOFT-CDO-BUSYSTATUS:BUSY
X-MICROSOFT-CDO-IMPORTANCE:1
END:VEVENT
BEGIN:VEVENT
UID:ga1mh@games.golnetwork.com
LOCATION:Lamport Stadium - Field 1
GEO:43.6390028;-79.4232104
CREATED:20161107T185855Z
DTSTART:20161119T180000Z
DTEND:20161119T190000Z
DTSTAMP:20260420T071356Z
SUMMARY:The Bearcats vs. Cheatin Refs
DESCRIPTION:Cheatin Refs vs. The BearcatsPlus d'info : #86
X-ALT-DESC;FMTTYPE=text/html:<!DOCTYPE HTML PUBLIC "-//W3C//DTD HTML 3.2//E
	N">\n<HTML>\n<HEAD>\n<TITLE></TITLE>\n</HEAD>\n<BODY>\n<h3>Cheatin Refs vs.
	 The Bearcats</h3>Plus d'info : <a href="https://www.golnetwork.com/game/v/
	98086/">#86</a>\n\n</BODY>\n</HTML>
STATUS:CONFIRMED
CLASS:PUBLIC
URL:https://www.golnetwork.com/game/v/98086/
X-MICROSOFT-CDO-BUSYSTATUS:BUSY
X-MICROSOFT-CDO-IMPORTANCE:1
END:VEVENT
BEGIN:VEVENT
UID:ga1md@games.golnetwork.com
LOCATION:Lamport Stadium - Field 1
GEO:43.6390028;-79.4232104
CREATED:20161107T185855Z
DTSTART:20161112T190000Z
DTEND:20161112T200000Z
DTSTAMP:20260420T071356Z
SUMMARY:The Bearcats vs. The Invincible Reds
DESCRIPTION:The Invincible Reds vs. The BearcatsPlus d'info : #60
X-ALT-DESC;FMTTYPE=text/html:<!DOCTYPE HTML PUBLIC "-//W3C//DTD HTML 3.2//E
	N">\n<HTML>\n<HEAD>\n<TITLE></TITLE>\n</HEAD>\n<BODY>\n<h3>The Invincible R
	eds vs. The Bearcats</h3>Plus d'info : <a href="https://www.golnetwork.com/
	game/v/98084/">#60</a>\n\n</BODY>\n</HTML>
STATUS:CONFIRMED
CLASS:PUBLIC
URL:https://www.golnetwork.com/game/v/98084/
X-MICROSOFT-CDO-BUSYSTATUS:BUSY
X-MICROSOFT-CDO-IMPORTANCE:1
END:VEVENT
END:VCALENDAR
