BEGIN:VCALENDAR
PRODID:-//gdesolutions.com//MV Framework 1.0.0.1607 Calendar//EN
VERSION:2.0
METHOD:PUBLISH
CALSCALE:GREGORIAN
BEGIN:VEVENT
UID:gaao8@games.golnetwork.com
LOCATION:Louis Riel #3
GEO:45.4410208;-75.5715394
CREATED:20170118T182515Z
DTSTART:20170203T013000Z
DTEND:20170203T022000Z
DTSTAMP:20260423T073845Z
SUMMARY:Metrofitted vs. Intermediate Individuals
DESCRIPTION:Intermediate Individuals vs. MetrofittedPlus d'info : #93
X-ALT-DESC;FMTTYPE=text/html:<!DOCTYPE HTML PUBLIC "-//W3C//DTD HTML 3.2//E
	N">\n<HTML>\n<HEAD>\n<TITLE></TITLE>\n</HEAD>\n<BODY>\n<h3>Intermediate Ind
	ividuals vs. Metrofitted</h3>Plus d'info : <a href="https://www.golnetwork.
	com/game/v/101389/">#93</a>\n\n</BODY>\n</HTML>
STATUS:CONFIRMED
CLASS:PUBLIC
URL:https://www.golnetwork.com/game/v/101389/
X-MICROSOFT-CDO-BUSYSTATUS:BUSY
X-MICROSOFT-CDO-IMPORTANCE:1
END:VEVENT
BEGIN:VEVENT
UID:ga51c@games.golnetwork.com
LOCATION:Louis Riel #3
GEO:45.4410208;-75.5715394
CREATED:20161229T214747Z
DTSTART:20170127T013000Z
DTEND:20170127T022000Z
DTSTAMP:20260423T073845Z
SUMMARY:Metrofitted vs. Fantasy Draught
DESCRIPTION:Fantasy Draught vs. MetrofittedPlus d'info : #45
X-ALT-DESC;FMTTYPE=text/html:<!DOCTYPE HTML PUBLIC "-//W3C//DTD HTML 3.2//E
	N">\n<HTML>\n<HEAD>\n<TITLE></TITLE>\n</HEAD>\n<BODY>\n<h3>Fantasy Draught 
	vs. Metrofitted</h3>Plus d'info : <a href="https://www.golnetwork.com/game/
	v/99258/">#45</a>\n\n</BODY>\n</HTML>
STATUS:CONFIRMED
CLASS:PUBLIC
URL:https://www.golnetwork.com/game/v/99258/
X-MICROSOFT-CDO-BUSYSTATUS:BUSY
X-MICROSOFT-CDO-IMPORTANCE:1
END:VEVENT
BEGIN:VEVENT
UID:ga50j@games.golnetwork.com
LOCATION:Louis Riel #3
GEO:45.4410208;-75.5715394
CREATED:20161229T214747Z
DTSTART:20170120T023000Z
DTEND:20170120T032000Z
DTSTAMP:20260423T073845Z
SUMMARY:Metrofitted vs. Power Rangers FC
DESCRIPTION:Power Rangers FC vs. MetrofittedPlus d'info : #35
X-ALT-DESC;FMTTYPE=text/html:<!DOCTYPE HTML PUBLIC "-//W3C//DTD HTML 3.2//E
	N">\n<HTML>\n<HEAD>\n<TITLE></TITLE>\n</HEAD>\n<BODY>\n<h3>Power Rangers FC
	 vs. Metrofitted</h3>Plus d'info : <a href="https://www.golnetwork.com/game
	/v/99248/">#35</a>\n\n</BODY>\n</HTML>
STATUS:CONFIRMED
CLASS:PUBLIC
URL:https://www.golnetwork.com/game/v/99248/
X-MICROSOFT-CDO-BUSYSTATUS:BUSY
X-MICROSOFT-CDO-IMPORTANCE:1
END:VEVENT
BEGIN:VEVENT
UID:ga4qe@games.golnetwork.com
LOCATION:Louis Riel #3
GEO:45.4410208;-75.5715394
CREATED:20161229T214746Z
DTSTART:20170113T033000Z
DTEND:20170113T042000Z
DTSTAMP:20260423T073845Z
SUMMARY:Hammerheads vs. Metrofitted
DESCRIPTION:Metrofitted vs. HammerheadsPlus d'info : #19
X-ALT-DESC;FMTTYPE=text/html:<!DOCTYPE HTML PUBLIC "-//W3C//DTD HTML 3.2//E
	N">\n<HTML>\n<HEAD>\n<TITLE></TITLE>\n</HEAD>\n<BODY>\n<h3>Metrofitted vs. 
	Hammerheads</h3>Plus d'info : <a href="https://www.golnetwork.com/game/v/99
	232/">#19</a>\n\n</BODY>\n</HTML>
STATUS:CONFIRMED
CLASS:PUBLIC
URL:https://www.golnetwork.com/game/v/99232/
X-MICROSOFT-CDO-BUSYSTATUS:BUSY
X-MICROSOFT-CDO-IMPORTANCE:1
END:VEVENT
BEGIN:VEVENT
UID:ga4ph@games.golnetwork.com
LOCATION:Lees Dome Field #3
GEO:45.415776;-75.6684899
CREATED:20161229T214745Z
DTSTART:20170106T010000Z
DTEND:20170106T015000Z
DTSTAMP:20260423T073845Z
SUMMARY:Metrofitted vs. Maroon 7
DESCRIPTION:Maroon 7 vs. MetrofittedPlus d'info : #7
X-ALT-DESC;FMTTYPE=text/html:<!DOCTYPE HTML PUBLIC "-//W3C//DTD HTML 3.2//E
	N">\n<HTML>\n<HEAD>\n<TITLE></TITLE>\n</HEAD>\n<BODY>\n<h3>Maroon 7 vs. Met
	rofitted</h3>Plus d'info : <a href="https://www.golnetwork.com/game/v/99220
	/">#7</a>\n\n</BODY>\n</HTML>
STATUS:CONFIRMED
CLASS:PUBLIC
URL:https://www.golnetwork.com/game/v/99220/
X-MICROSOFT-CDO-BUSYSTATUS:BUSY
X-MICROSOFT-CDO-IMPORTANCE:1
END:VEVENT
BEGIN:VEVENT
UID:ga4eq@games.golnetwork.com
LOCATION:Louis Riel #2
GEO:45.4410208;-75.5715394
CREATED:20161209T185226Z
DTSTART:20161216T023000Z
DTEND:20161216T032000Z
DTSTAMP:20260423T073845Z
SUMMARY:Gunners vs. Metrofitted
DESCRIPTION:Metrofitted vs. GunnersPlus d'info : #27
X-ALT-DESC;FMTTYPE=text/html:<!DOCTYPE HTML PUBLIC "-//W3C//DTD HTML 3.2//E
	N">\n<HTML>\n<HEAD>\n<TITLE></TITLE>\n</HEAD>\n<BODY>\n<h3>Metrofitted vs. 
	Gunners</h3>Plus d'info : <a href="https://www.golnetwork.com/game/v/99076/
	">#27</a>\n\n</BODY>\n</HTML>
STATUS:CONFIRMED
CLASS:PUBLIC
URL:https://www.golnetwork.com/game/v/99076/
X-MICROSOFT-CDO-BUSYSTATUS:BUSY
X-MICROSOFT-CDO-IMPORTANCE:1
END:VEVENT
BEGIN:VEVENT
UID:ga46k@games.golnetwork.com
LOCATION:Lees Dome Field #3
GEO:45.415776;-75.6684899
CREATED:20161205T064402Z
DTSTART:20161209T020000Z
DTEND:20161209T025000Z
DTSTAMP:20260423T073845Z
SUMMARY:Metrofitted vs. Junkyard Dogs
DESCRIPTION:Junkyard Dogs vs. MetrofittedPlus d'info : #6
X-ALT-DESC;FMTTYPE=text/html:<!DOCTYPE HTML PUBLIC "-//W3C//DTD HTML 3.2//E
	N">\n<HTML>\n<HEAD>\n<TITLE></TITLE>\n</HEAD>\n<BODY>\n<h3>Junkyard Dogs vs
	. Metrofitted</h3>Plus d'info : <a href="https://www.golnetwork.com/game/v/
	98965/">#6</a>\n\n</BODY>\n</HTML>
STATUS:CONFIRMED
CLASS:PUBLIC
URL:https://www.golnetwork.com/game/v/98965/
X-MICROSOFT-CDO-BUSYSTATUS:BUSY
X-MICROSOFT-CDO-IMPORTANCE:1
END:VEVENT
END:VCALENDAR
