BEGIN:VCALENDAR
PRODID:-//gdesolutions.com//MV Framework 1.0.0.1607 Calendar//EN
VERSION:2.0
METHOD:PUBLISH
CALSCALE:GREGORIAN
BEGIN:VEVENT
UID:gafeb@games.golnetwork.com
LOCATION:Central Tech - Field 3
CREATED:20170303T210512Z
DTSTART:20170512T000000Z
DTEND:20170512T010000Z
DTSTAMP:20260420T013847Z
SUMMARY:Breakfast Club FC vs. Team Awesome Part II
DESCRIPTION:Team Awesome Part II vs. Breakfast Club FCPlus d'info : #351
X-ALT-DESC;FMTTYPE=text/html:<!DOCTYPE HTML PUBLIC "-//W3C//DTD HTML 3.2//E
	N">\n<HTML>\n<HEAD>\n<TITLE></TITLE>\n</HEAD>\n<BODY>\n<h3>Team Awesome Par
	t II vs. Breakfast Club FC</h3>Plus d'info : <a href="https://www.golnetwor
	k.com/game/v/103078/">#351</a>\n\n</BODY>\n</HTML>
STATUS:CONFIRMED
CLASS:PUBLIC
URL:https://www.golnetwork.com/game/v/103078/
X-MICROSOFT-CDO-BUSYSTATUS:BUSY
X-MICROSOFT-CDO-IMPORTANCE:1
END:VEVENT
BEGIN:VEVENT
UID:gafe9@games.golnetwork.com
LOCATION:Central Tech - Field 4
CREATED:20170303T210512Z
DTSTART:20170505T010000Z
DTEND:20170505T020000Z
DTSTAMP:20260420T013847Z
SUMMARY:The Iguanodons vs. Breakfast Club FC
DESCRIPTION:Breakfast Club FC vs. The IguanodonsPlus d'info : #333
X-ALT-DESC;FMTTYPE=text/html:<!DOCTYPE HTML PUBLIC "-//W3C//DTD HTML 3.2//E
	N">\n<HTML>\n<HEAD>\n<TITLE></TITLE>\n</HEAD>\n<BODY>\n<h3>Breakfast Club F
	C vs. The Iguanodons</h3>Plus d'info : <a href="https://www.golnetwork.com/
	game/v/103077/">#333</a>\n\n</BODY>\n</HTML>
STATUS:CONFIRMED
CLASS:PUBLIC
URL:https://www.golnetwork.com/game/v/103077/
X-MICROSOFT-CDO-BUSYSTATUS:BUSY
X-MICROSOFT-CDO-IMPORTANCE:1
END:VEVENT
END:VCALENDAR
