BEGIN:VCALENDAR
PRODID:-//gdesolutions.com//MV Framework 1.0.0.1607 Calendar//EN
VERSION:2.0
METHOD:PUBLISH
CALSCALE:GREGORIAN
BEGIN:VEVENT
UID:gain3@games.golnetwork.com
LOCATION:Canoe Landing - Field 1
GEO:43.6396144;-79.3970577
CREATED:20170420T150935Z
DTSTART:20170628T233000Z
DTEND:20170629T003000Z
DTSTAMP:20260422T065759Z
SUMMARY:Les foufounes vs. TBD FC
DESCRIPTION:TBD FC vs. Les foufounesPlus d'info : #553
X-ALT-DESC;FMTTYPE=text/html:<!DOCTYPE HTML PUBLIC "-//W3C//DTD HTML 3.2//E
	N">\n<HTML>\n<HEAD>\n<TITLE></TITLE>\n</HEAD>\n<BODY>\n<h3>TBD FC vs. Les f
	oufounes</h3>Plus d'info : <a href="https://www.golnetwork.com/game/v/10428
	9/">#553</a>\n\n</BODY>\n</HTML>
STATUS:CONFIRMED
CLASS:PUBLIC
URL:https://www.golnetwork.com/game/v/104289/
X-MICROSOFT-CDO-BUSYSTATUS:BUSY
X-MICROSOFT-CDO-IMPORTANCE:1
END:VEVENT
BEGIN:VEVENT
UID:gaimq@games.golnetwork.com
LOCATION:Canoe Landing - Field 2
GEO:43.6396144;-79.3970577
CREATED:20170420T150935Z
DTSTART:20170622T003000Z
DTEND:20170622T013000Z
DTSTAMP:20260422T065759Z
SUMMARY:XTSC Payet Forward vs. TBD FC
DESCRIPTION:TBD FC vs. XTSC Payet ForwardPlus d'info : #473
X-ALT-DESC;FMTTYPE=text/html:<!DOCTYPE HTML PUBLIC "-//W3C//DTD HTML 3.2//E
	N">\n<HTML>\n<HEAD>\n<TITLE></TITLE>\n</HEAD>\n<BODY>\n<h3>TBD FC vs. XTSC 
	Payet Forward</h3>Plus d'info : <a href="https://www.golnetwork.com/game/v/
	104287/">#473</a>\n\n</BODY>\n</HTML>
STATUS:CONFIRMED
CLASS:PUBLIC
URL:https://www.golnetwork.com/game/v/104287/
X-MICROSOFT-CDO-BUSYSTATUS:BUSY
X-MICROSOFT-CDO-IMPORTANCE:1
END:VEVENT
END:VCALENDAR
