BEGIN:VCALENDAR
PRODID:-//gdesolutions.com//MV Framework 1.0.0.1607 Calendar//EN
VERSION:2.0
METHOD:PUBLISH
CALSCALE:GREGORIAN
BEGIN:VEVENT
UID:galgl@games.golnetwork.com
LOCATION:Marianopolis #1
GEO:45.4807868;-73.610845
CREATED:20170507T141150Z
DTSTART:20170825T001500Z
DTEND:20170825T011500Z
DTSTAMP:20260419T200805Z
SUMMARY:D BLOCK vs. NEUBARTH
DESCRIPTION:NEUBARTH vs. D BLOCKPlus d'info : #311
X-ALT-DESC;FMTTYPE=text/html:<!DOCTYPE HTML PUBLIC "-//W3C//DTD HTML 3.2//E
	N">\n<HTML>\n<HEAD>\n<TITLE></TITLE>\n</HEAD>\n<BODY>\n<h3>NEUBARTH vs. D B
	LOCK</h3>Plus d'info : <a href="https://www.golnetwork.com/game/v/105297/">
	#311</a>\n\n</BODY>\n</HTML>
STATUS:CONFIRMED
CLASS:PUBLIC
URL:https://www.golnetwork.com/game/v/105297/
X-MICROSOFT-CDO-BUSYSTATUS:BUSY
X-MICROSOFT-CDO-IMPORTANCE:1
END:VEVENT
BEGIN:VEVENT
UID:galha@games.golnetwork.com
LOCATION:CVM - Court #1
GEO:45.5146585;-73.5658635
CREATED:20170507T141150Z
DTSTART:20170822T233000Z
DTEND:20170823T003000Z
DTSTAMP:20260419T200805Z
SUMMARY:DADOLLE 2 vs. NEUBARTH
DESCRIPTION:NEUBARTH vs. DADOLLE 2Plus d'info : #297
X-ALT-DESC;FMTTYPE=text/html:<!DOCTYPE HTML PUBLIC "-//W3C//DTD HTML 3.2//E
	N">\n<HTML>\n<HEAD>\n<TITLE></TITLE>\n</HEAD>\n<BODY>\n<h3>NEUBARTH vs. DAD
	OLLE 2</h3>Plus d'info : <a href="https://www.golnetwork.com/game/v/105305/
	">#297</a>\n\n</BODY>\n</HTML>
STATUS:CONFIRMED
CLASS:PUBLIC
URL:https://www.golnetwork.com/game/v/105305/
X-MICROSOFT-CDO-BUSYSTATUS:BUSY
X-MICROSOFT-CDO-IMPORTANCE:1
END:VEVENT
BEGIN:VEVENT
UID:galg5@games.golnetwork.com
LOCATION:Marianopolis #1
GEO:45.4807868;-73.610845
CREATED:20170507T141150Z
DTSTART:20170816T013000Z
DTEND:20170816T023000Z
DTSTAMP:20260419T200805Z
SUMMARY:BLACK MAMBAS vs. NEUBARTH
DESCRIPTION:NEUBARTH vs. BLACK MAMBASPlus d'info : #280
X-ALT-DESC;FMTTYPE=text/html:<!DOCTYPE HTML PUBLIC "-//W3C//DTD HTML 3.2//E
	N">\n<HTML>\n<HEAD>\n<TITLE></TITLE>\n</HEAD>\n<BODY>\n<h3>NEUBARTH vs. BLA
	CK MAMBAS</h3>Plus d'info : <a href="https://www.golnetwork.com/game/v/1052
	89/">#280</a>\n\n</BODY>\n</HTML>
STATUS:CONFIRMED
CLASS:PUBLIC
URL:https://www.golnetwork.com/game/v/105289/
X-MICROSOFT-CDO-BUSYSTATUS:BUSY
X-MICROSOFT-CDO-IMPORTANCE:1
END:VEVENT
BEGIN:VEVENT
UID:gal9q@games.golnetwork.com
LOCATION:Marianopolis #1
GEO:45.4807868;-73.610845
CREATED:20170507T141150Z
DTSTART:20170811T003000Z
DTEND:20170811T013000Z
DTSTAMP:20260419T200805Z
SUMMARY:BLACK MAMBAS vs. NEUBARTH
DESCRIPTION:NEUBARTH vs. BLACK MAMBASPlus d'info : #265
X-ALT-DESC;FMTTYPE=text/html:<!DOCTYPE HTML PUBLIC "-//W3C//DTD HTML 3.2//E
	N">\n<HTML>\n<HEAD>\n<TITLE></TITLE>\n</HEAD>\n<BODY>\n<h3>NEUBARTH vs. BLA
	CK MAMBAS</h3>Plus d'info : <a href="https://www.golnetwork.com/game/v/1052
	05/">#265</a>\n\n</BODY>\n</HTML>
STATUS:CONFIRMED
CLASS:PUBLIC
URL:https://www.golnetwork.com/game/v/105205/
X-MICROSOFT-CDO-BUSYSTATUS:BUSY
X-MICROSOFT-CDO-IMPORTANCE:1
END:VEVENT
BEGIN:VEVENT
UID:galfe@games.golnetwork.com
LOCATION:CVM - Court #1
GEO:45.5146585;-73.5658635
CREATED:20170507T141150Z
DTSTART:20170809T003000Z
DTEND:20170809T013000Z
DTSTAMP:20260419T200805Z
SUMMARY:90s LEGENDS vs. NEUBARTH
DESCRIPTION:NEUBARTH vs. 90s LEGENDSPlus d'info : #247
X-ALT-DESC;FMTTYPE=text/html:<!DOCTYPE HTML PUBLIC "-//W3C//DTD HTML 3.2//E
	N">\n<HTML>\n<HEAD>\n<TITLE></TITLE>\n</HEAD>\n<BODY>\n<h3>NEUBARTH vs. 90s
	 LEGENDS</h3>Plus d'info : <a href="https://www.golnetwork.com/game/v/10528
	0/">#247</a>\n\n</BODY>\n</HTML>
STATUS:CONFIRMED
CLASS:PUBLIC
URL:https://www.golnetwork.com/game/v/105280/
X-MICROSOFT-CDO-BUSYSTATUS:BUSY
X-MICROSOFT-CDO-IMPORTANCE:1
END:VEVENT
BEGIN:VEVENT
UID:galep@games.golnetwork.com
LOCATION:Marianopolis #1
GEO:45.4807868;-73.610845
CREATED:20170507T141150Z
DTSTART:20170802T013000Z
DTEND:20170802T023000Z
DTSTAMP:20260419T200805Z
SUMMARY:WEIS-HEITNER vs. NEUBARTH
DESCRIPTION:NEUBARTH vs. WEIS-HEITNERPlus d'info : #227
X-ALT-DESC;FMTTYPE=text/html:<!DOCTYPE HTML PUBLIC "-//W3C//DTD HTML 3.2//E
	N">\n<HTML>\n<HEAD>\n<TITLE></TITLE>\n</HEAD>\n<BODY>\n<h3>NEUBARTH vs. WEI
	S-HEITNER</h3>Plus d'info : <a href="https://www.golnetwork.com/game/v/1052
	72/">#227</a>\n\n</BODY>\n</HTML>
STATUS:CONFIRMED
CLASS:PUBLIC
URL:https://www.golnetwork.com/game/v/105272/
X-MICROSOFT-CDO-BUSYSTATUS:BUSY
X-MICROSOFT-CDO-IMPORTANCE:1
END:VEVENT
BEGIN:VEVENT
UID:gale9@games.golnetwork.com
LOCATION:Marianopolis #1
GEO:45.4807868;-73.610845
CREATED:20170507T141150Z
DTSTART:20170726T013000Z
DTEND:20170726T023000Z
DTSTAMP:20260419T200805Z
SUMMARY:DO OR DIE vs. NEUBARTH
DESCRIPTION:NEUBARTH vs. DO OR DIEPlus d'info : #203
X-ALT-DESC;FMTTYPE=text/html:<!DOCTYPE HTML PUBLIC "-//W3C//DTD HTML 3.2//E
	N">\n<HTML>\n<HEAD>\n<TITLE></TITLE>\n</HEAD>\n<BODY>\n<h3>NEUBARTH vs. DO 
	OR DIE</h3>Plus d'info : <a href="https://www.golnetwork.com/game/v/105264/
	">#203</a>\n\n</BODY>\n</HTML>
STATUS:CONFIRMED
CLASS:PUBLIC
URL:https://www.golnetwork.com/game/v/105264/
X-MICROSOFT-CDO-BUSYSTATUS:BUSY
X-MICROSOFT-CDO-IMPORTANCE:1
END:VEVENT
BEGIN:VEVENT
UID:galdo@games.golnetwork.com
LOCATION:Marianopolis #1
GEO:45.4807868;-73.610845
CREATED:20170507T141150Z
DTSTART:20170719T003000Z
DTEND:20170719T013000Z
DTSTAMP:20260419T200805Z
SUMMARY:NEUBARTH vs. DADOLLE 2
DESCRIPTION:DADOLLE 2 vs. NEUBARTHPlus d'info : #178
X-ALT-DESC;FMTTYPE=text/html:<!DOCTYPE HTML PUBLIC "-//W3C//DTD HTML 3.2//E
	N">\n<HTML>\n<HEAD>\n<TITLE></TITLE>\n</HEAD>\n<BODY>\n<h3>DADOLLE 2 vs. NE
	UBARTH</h3>Plus d'info : <a href="https://www.golnetwork.com/game/v/105258/
	">#178</a>\n\n</BODY>\n</HTML>
STATUS:CONFIRMED
CLASS:PUBLIC
URL:https://www.golnetwork.com/game/v/105258/
X-MICROSOFT-CDO-BUSYSTATUS:BUSY
X-MICROSOFT-CDO-IMPORTANCE:1
END:VEVENT
BEGIN:VEVENT
UID:galdc@games.golnetwork.com
LOCATION:Marianopolis #1
GEO:45.4807868;-73.610845
CREATED:20170507T141150Z
DTSTART:20170714T003000Z
DTEND:20170714T013000Z
DTSTAMP:20260419T200805Z
SUMMARY:NEUBARTH vs. ASTROFUSEES
DESCRIPTION:ASTROFUSEES vs. NEUBARTHPlus d'info : #167
X-ALT-DESC;FMTTYPE=text/html:<!DOCTYPE HTML PUBLIC "-//W3C//DTD HTML 3.2//E
	N">\n<HTML>\n<HEAD>\n<TITLE></TITLE>\n</HEAD>\n<BODY>\n<h3>ASTROFUSEES vs. 
	NEUBARTH</h3>Plus d'info : <a href="https://www.golnetwork.com/game/v/10525
	2/">#167</a>\n\n</BODY>\n</HTML>
STATUS:CONFIRMED
CLASS:PUBLIC
URL:https://www.golnetwork.com/game/v/105252/
X-MICROSOFT-CDO-BUSYSTATUS:BUSY
X-MICROSOFT-CDO-IMPORTANCE:1
END:VEVENT
BEGIN:VEVENT
UID:gald0@games.golnetwork.com
LOCATION:CVM - Court #1
GEO:45.5146585;-73.5658635
CREATED:20170507T141150Z
DTSTART:20170704T233000Z
DTEND:20170705T003000Z
DTSTAMP:20260419T200805Z
SUMMARY:NEUBARTH vs. DEMONS
DESCRIPTION:DEMONS vs. NEUBARTHPlus d'info : #129
X-ALT-DESC;FMTTYPE=text/html:<!DOCTYPE HTML PUBLIC "-//W3C//DTD HTML 3.2//E
	N">\n<HTML>\n<HEAD>\n<TITLE></TITLE>\n</HEAD>\n<BODY>\n<h3>DEMONS vs. NEUBA
	RTH</h3>Plus d'info : <a href="https://www.golnetwork.com/game/v/105246/">#
	129</a>\n\n</BODY>\n</HTML>
STATUS:CONFIRMED
CLASS:PUBLIC
URL:https://www.golnetwork.com/game/v/105246/
X-MICROSOFT-CDO-BUSYSTATUS:BUSY
X-MICROSOFT-CDO-IMPORTANCE:1
END:VEVENT
BEGIN:VEVENT
UID:galcf@games.golnetwork.com
LOCATION:CVM - Court #1
GEO:45.5146585;-73.5658635
CREATED:20170507T141150Z
DTSTART:20170628T013000Z
DTEND:20170628T023000Z
DTSTAMP:20260419T200805Z
SUMMARY:NEUBARTH vs. PIPPEN AINT EASY
DESCRIPTION:PIPPEN AINT EASY vs. NEUBARTHPlus d'info : #111
X-ALT-DESC;FMTTYPE=text/html:<!DOCTYPE HTML PUBLIC "-//W3C//DTD HTML 3.2//E
	N">\n<HTML>\n<HEAD>\n<TITLE></TITLE>\n</HEAD>\n<BODY>\n<h3>PIPPEN AINT EASY
	 vs. NEUBARTH</h3>Plus d'info : <a href="https://www.golnetwork.com/game/v/
	105240/">#111</a>\n\n</BODY>\n</HTML>
STATUS:CONFIRMED
CLASS:PUBLIC
URL:https://www.golnetwork.com/game/v/105240/
X-MICROSOFT-CDO-BUSYSTATUS:BUSY
X-MICROSOFT-CDO-IMPORTANCE:1
END:VEVENT
BEGIN:VEVENT
UID:gal9a@games.golnetwork.com
LOCATION:Marianopolis #1
GEO:45.4807868;-73.610845
CREATED:20170507T141150Z
DTSTART:20170623T003000Z
DTEND:20170623T013000Z
DTSTAMP:20260419T200805Z
SUMMARY:SPBP vs. NEUBARTH
DESCRIPTION:NEUBARTH vs. SPBPPlus d'info : #101
X-ALT-DESC;FMTTYPE=text/html:<!DOCTYPE HTML PUBLIC "-//W3C//DTD HTML 3.2//E
	N">\n<HTML>\n<HEAD>\n<TITLE></TITLE>\n</HEAD>\n<BODY>\n<h3>NEUBARTH vs. SPB
	P</h3>Plus d'info : <a href="https://www.golnetwork.com/game/v/105197/">#10
	1</a>\n\n</BODY>\n</HTML>
STATUS:CONFIRMED
CLASS:PUBLIC
URL:https://www.golnetwork.com/game/v/105197/
X-MICROSOFT-CDO-BUSYSTATUS:BUSY
X-MICROSOFT-CDO-IMPORTANCE:1
END:VEVENT
BEGIN:VEVENT
UID:galc3@games.golnetwork.com
LOCATION:Marianopolis #1
GEO:45.4807868;-73.610845
CREATED:20170507T141150Z
DTSTART:20170621T003000Z
DTEND:20170621T013000Z
DTSTAMP:20260419T200805Z
SUMMARY:NEUBARTH vs. BALL BUSTERS
DESCRIPTION:BALL BUSTERS vs. NEUBARTHPlus d'info : #88
X-ALT-DESC;FMTTYPE=text/html:<!DOCTYPE HTML PUBLIC "-//W3C//DTD HTML 3.2//E
	N">\n<HTML>\n<HEAD>\n<TITLE></TITLE>\n</HEAD>\n<BODY>\n<h3>BALL BUSTERS vs.
	 NEUBARTH</h3>Plus d'info : <a href="https://www.golnetwork.com/game/v/1052
	34/">#88</a>\n\n</BODY>\n</HTML>
STATUS:CONFIRMED
CLASS:PUBLIC
URL:https://www.golnetwork.com/game/v/105234/
X-MICROSOFT-CDO-BUSYSTATUS:BUSY
X-MICROSOFT-CDO-IMPORTANCE:1
END:VEVENT
BEGIN:VEVENT
UID:galbi@games.golnetwork.com
LOCATION:CVM - Court #1
GEO:45.5146585;-73.5658635
CREATED:20170507T141150Z
DTSTART:20170615T233000Z
DTEND:20170616T003000Z
DTSTAMP:20260419T200805Z
SUMMARY:NEUBARTH vs. THE PROCESS
DESCRIPTION:THE PROCESS vs. NEUBARTHPlus d'info : #76
X-ALT-DESC;FMTTYPE=text/html:<!DOCTYPE HTML PUBLIC "-//W3C//DTD HTML 3.2//E
	N">\n<HTML>\n<HEAD>\n<TITLE></TITLE>\n</HEAD>\n<BODY>\n<h3>THE PROCESS vs. 
	NEUBARTH</h3>Plus d'info : <a href="https://www.golnetwork.com/game/v/10522
	8/">#76</a>\n\n</BODY>\n</HTML>
STATUS:CONFIRMED
CLASS:PUBLIC
URL:https://www.golnetwork.com/game/v/105228/
X-MICROSOFT-CDO-BUSYSTATUS:BUSY
X-MICROSOFT-CDO-IMPORTANCE:1
END:VEVENT
BEGIN:VEVENT
UID:galb4@games.golnetwork.com
LOCATION:Marianopolis #1
GEO:45.4807868;-73.610845
CREATED:20170507T141150Z
DTSTART:20170608T223000Z
DTEND:20170608T233000Z
DTSTAMP:20260419T200805Z
SUMMARY:D BLOCK vs. NEUBARTH
DESCRIPTION:NEUBARTH vs. D BLOCKPlus d'info : #52
X-ALT-DESC;FMTTYPE=text/html:<!DOCTYPE HTML PUBLIC "-//W3C//DTD HTML 3.2//E
	N">\n<HTML>\n<HEAD>\n<TITLE></TITLE>\n</HEAD>\n<BODY>\n<h3>NEUBARTH vs. D B
	LOCK</h3>Plus d'info : <a href="https://www.golnetwork.com/game/v/105221/">
	#52</a>\n\n</BODY>\n</HTML>
STATUS:CONFIRMED
CLASS:PUBLIC
URL:https://www.golnetwork.com/game/v/105221/
X-MICROSOFT-CDO-BUSYSTATUS:BUSY
X-MICROSOFT-CDO-IMPORTANCE:1
END:VEVENT
BEGIN:VEVENT
UID:galaf@games.golnetwork.com
LOCATION:Marianopolis #1
GEO:45.4807868;-73.610845
CREATED:20170507T141150Z
DTSTART:20170531T013000Z
DTEND:20170531T023000Z
DTSTAMP:20260419T200805Z
SUMMARY:PAX TOWN vs. NEUBARTH
DESCRIPTION:NEUBARTH vs. PAX TOWNPlus d'info : #24
X-ALT-DESC;FMTTYPE=text/html:<!DOCTYPE HTML PUBLIC "-//W3C//DTD HTML 3.2//E
	N">\n<HTML>\n<HEAD>\n<TITLE></TITLE>\n</HEAD>\n<BODY>\n<h3>NEUBARTH vs. PAX
	 TOWN</h3>Plus d'info : <a href="https://www.golnetwork.com/game/v/105213/"
	>#24</a>\n\n</BODY>\n</HTML>
STATUS:CONFIRMED
CLASS:PUBLIC
URL:https://www.golnetwork.com/game/v/105213/
X-MICROSOFT-CDO-BUSYSTATUS:BUSY
X-MICROSOFT-CDO-IMPORTANCE:1
END:VEVENT
END:VCALENDAR
