BEGIN:VCALENDAR
PRODID:-//gdesolutions.com//MV Framework 1.0.0.1607 Calendar//EN
VERSION:2.0
METHOD:PUBLISH
CALSCALE:GREGORIAN
BEGIN:VEVENT
UID:gb2h0@games.golnetwork.com
LOCATION:Bloor CI
CREATED:20170628T180553Z
DTSTART:20170828T220000Z
DTEND:20170828T230000Z
DTSTAMP:20260420T004704Z
SUMMARY:The Bad Guys vs. Baro FC
DESCRIPTION:Baro FC vs. The Bad GuysPlus d'info : #334
X-ALT-DESC;FMTTYPE=text/html:<!DOCTYPE HTML PUBLIC "-//W3C//DTD HTML 3.2//E
	N">\n<HTML>\n<HEAD>\n<TITLE></TITLE>\n</HEAD>\n<BODY>\n<h3>Baro FC vs. The 
	Bad Guys</h3>Plus d'info : <a href="https://www.golnetwork.com/game/v/10821
	6/">#334</a>\n\n</BODY>\n</HTML>
STATUS:CONFIRMED
CLASS:PUBLIC
URL:https://www.golnetwork.com/game/v/108216/
X-MICROSOFT-CDO-BUSYSTATUS:BUSY
X-MICROSOFT-CDO-IMPORTANCE:1
END:VEVENT
END:VCALENDAR
