BEGIN:VCALENDAR
PRODID:-//gdesolutions.com//MV Framework 1.0.0.1607 Calendar//EN
VERSION:2.0
METHOD:PUBLISH
CALSCALE:GREGORIAN
BEGIN:VEVENT
UID:gapk3@games.golnetwork.com
LOCATION:Jarvis CI Field
CREATED:20170519T180233Z
DTSTART:20170626T220000Z
DTEND:20170626T230000Z
DTSTAMP:20260422T022559Z
SUMMARY:Tigers vs. Sarnia FC
DESCRIPTION:Sarnia FC vs. TigersPlus d'info : #375
X-ALT-DESC;FMTTYPE=text/html:<!DOCTYPE HTML PUBLIC "-//W3C//DTD HTML 3.2//E
	N">\n<HTML>\n<HEAD>\n<TITLE></TITLE>\n</HEAD>\n<BODY>\n<h3>Sarnia FC vs. Ti
	gers</h3>Plus d'info : <a href="https://www.golnetwork.com/game/v/106800/">
	#375</a>\n\n</BODY>\n</HTML>
STATUS:CONFIRMED
CLASS:PUBLIC
URL:https://www.golnetwork.com/game/v/106800/
X-MICROSOFT-CDO-BUSYSTATUS:BUSY
X-MICROSOFT-CDO-IMPORTANCE:1
END:VEVENT
BEGIN:VEVENT
UID:gapjq@games.golnetwork.com
LOCATION:Jarvis CI Field
CREATED:20170519T180217Z
DTSTART:20170619T230000Z
DTEND:20170620T000000Z
DTSTAMP:20260422T022559Z
SUMMARY:MMC Architects vs. Tigers
DESCRIPTION:Tigers vs. MMC ArchitectsPlus d'info : #344
X-ALT-DESC;FMTTYPE=text/html:<!DOCTYPE HTML PUBLIC "-//W3C//DTD HTML 3.2//E
	N">\n<HTML>\n<HEAD>\n<TITLE></TITLE>\n</HEAD>\n<BODY>\n<h3>Tigers vs. MMC A
	rchitects</h3>Plus d'info : <a href="https://www.golnetwork.com/game/v/1067
	98/">#344</a>\n\n</BODY>\n</HTML>
STATUS:CONFIRMED
CLASS:PUBLIC
URL:https://www.golnetwork.com/game/v/106798/
X-MICROSOFT-CDO-BUSYSTATUS:BUSY
X-MICROSOFT-CDO-IMPORTANCE:1
END:VEVENT
BEGIN:VEVENT
UID:gapjm@games.golnetwork.com
LOCATION:Jarvis CI Field
CREATED:20170519T180201Z
DTSTART:20170612T230000Z
DTEND:20170613T000000Z
DTSTAMP:20260422T022559Z
SUMMARY:Sarnia FC vs. Tigers
DESCRIPTION:Tigers vs. Sarnia FCPlus d'info : #301
X-ALT-DESC;FMTTYPE=text/html:<!DOCTYPE HTML PUBLIC "-//W3C//DTD HTML 3.2//E
	N">\n<HTML>\n<HEAD>\n<TITLE></TITLE>\n</HEAD>\n<BODY>\n<h3>Tigers vs. Sarni
	a FC</h3>Plus d'info : <a href="https://www.golnetwork.com/game/v/106796/">
	#301</a>\n\n</BODY>\n</HTML>
STATUS:CONFIRMED
CLASS:PUBLIC
URL:https://www.golnetwork.com/game/v/106796/
X-MICROSOFT-CDO-BUSYSTATUS:BUSY
X-MICROSOFT-CDO-IMPORTANCE:1
END:VEVENT
BEGIN:VEVENT
UID:gapjg@games.golnetwork.com
LOCATION:Jarvis CI Field
CREATED:20170519T180114Z
DTSTART:20170605T230000Z
DTEND:20170606T000000Z
DTSTAMP:20260422T022559Z
SUMMARY:Tigers vs. XTSC Free Spirits
DESCRIPTION:XTSC Free Spirits vs. TigersPlus d'info : #251
X-ALT-DESC;FMTTYPE=text/html:<!DOCTYPE HTML PUBLIC "-//W3C//DTD HTML 3.2//E
	N">\n<HTML>\n<HEAD>\n<TITLE></TITLE>\n</HEAD>\n<BODY>\n<h3>XTSC Free Spirit
	s vs. Tigers</h3>Plus d'info : <a href="https://www.golnetwork.com/game/v/1
	06793/">#251</a>\n\n</BODY>\n</HTML>
STATUS:CONFIRMED
CLASS:PUBLIC
URL:https://www.golnetwork.com/game/v/106793/
X-MICROSOFT-CDO-BUSYSTATUS:BUSY
X-MICROSOFT-CDO-IMPORTANCE:1
END:VEVENT
BEGIN:VEVENT
UID:gapja@games.golnetwork.com
LOCATION:Jarvis CI Field
CREATED:20170519T180045Z
DTSTART:20170529T230000Z
DTEND:20170530T000000Z
DTSTAMP:20260422T022559Z
SUMMARY:AAFC vs. Tigers
DESCRIPTION:Tigers vs. AAFCPlus d'info : #200
X-ALT-DESC;FMTTYPE=text/html:<!DOCTYPE HTML PUBLIC "-//W3C//DTD HTML 3.2//E
	N">\n<HTML>\n<HEAD>\n<TITLE></TITLE>\n</HEAD>\n<BODY>\n<h3>Tigers vs. AAFC<
	/h3>Plus d'info : <a href="https://www.golnetwork.com/game/v/106790/">#200<
	/a>\n\n</BODY>\n</HTML>
STATUS:CONFIRMED
CLASS:PUBLIC
URL:https://www.golnetwork.com/game/v/106790/
X-MICROSOFT-CDO-BUSYSTATUS:BUSY
X-MICROSOFT-CDO-IMPORTANCE:1
END:VEVENT
BEGIN:VEVENT
UID:gapj8@games.golnetwork.com
LOCATION:Jarvis CI Field
CREATED:20170519T180037Z
DTSTART:20170529T220000Z
DTEND:20170529T230000Z
DTSTAMP:20260422T022559Z
SUMMARY:Sarnia FC vs. Tigers
DESCRIPTION:Tigers vs. Sarnia FCPlus d'info : #192
X-ALT-DESC;FMTTYPE=text/html:<!DOCTYPE HTML PUBLIC "-//W3C//DTD HTML 3.2//E
	N">\n<HTML>\n<HEAD>\n<TITLE></TITLE>\n</HEAD>\n<BODY>\n<h3>Tigers vs. Sarni
	a FC</h3>Plus d'info : <a href="https://www.golnetwork.com/game/v/106789/">
	#192</a>\n\n</BODY>\n</HTML>
STATUS:CONFIRMED
CLASS:PUBLIC
URL:https://www.golnetwork.com/game/v/106789/
X-MICROSOFT-CDO-BUSYSTATUS:BUSY
X-MICROSOFT-CDO-IMPORTANCE:1
END:VEVENT
BEGIN:VEVENT
UID:gaml9@games.golnetwork.com
LOCATION:Bloor CI
CREATED:20170510T150403Z
DTSTART:20170523T000000Z
DTEND:20170523T010000Z
DTSTAMP:20260422T022559Z
SUMMARY:MMC Architects vs. Tigers
DESCRIPTION:Tigers vs. MMC ArchitectsPlus d'info : #152
X-ALT-DESC;FMTTYPE=text/html:<!DOCTYPE HTML PUBLIC "-//W3C//DTD HTML 3.2//E
	N">\n<HTML>\n<HEAD>\n<TITLE></TITLE>\n</HEAD>\n<BODY>\n<h3>Tigers vs. MMC A
	rchitects</h3>Plus d'info : <a href="https://www.golnetwork.com/game/v/1057
	23/">#152</a>\n\n</BODY>\n</HTML>
STATUS:CONFIRMED
CLASS:PUBLIC
URL:https://www.golnetwork.com/game/v/105723/
X-MICROSOFT-CDO-BUSYSTATUS:BUSY
X-MICROSOFT-CDO-IMPORTANCE:1
END:VEVENT
BEGIN:VEVENT
UID:gaml3@games.golnetwork.com
LOCATION:Ryerson CS Field
CREATED:20170510T150333Z
DTSTART:20170516T000000Z
DTEND:20170516T010000Z
DTSTAMP:20260422T022559Z
SUMMARY:XTSC Free Spirits vs. Tigers
DESCRIPTION:Tigers vs. XTSC Free SpiritsPlus d'info : #113
X-ALT-DESC;FMTTYPE=text/html:<!DOCTYPE HTML PUBLIC "-//W3C//DTD HTML 3.2//E
	N">\n<HTML>\n<HEAD>\n<TITLE></TITLE>\n</HEAD>\n<BODY>\n<h3>Tigers vs. XTSC 
	Free Spirits</h3>Plus d'info : <a href="https://www.golnetwork.com/game/v/1
	05720/">#113</a>\n\n</BODY>\n</HTML>
STATUS:CONFIRMED
CLASS:PUBLIC
URL:https://www.golnetwork.com/game/v/105720/
X-MICROSOFT-CDO-BUSYSTATUS:BUSY
X-MICROSOFT-CDO-IMPORTANCE:1
END:VEVENT
END:VCALENDAR
