BEGIN:VCALENDAR
PRODID:-//gdesolutions.com//MV Framework 1.0.0.1607 Calendar//EN
VERSION:2.0
METHOD:PUBLISH
CALSCALE:GREGORIAN
BEGIN:VEVENT
UID:gbdo2@games.golnetwork.com
LOCATION:Bell Sensplex
GEO:45.2969975;-75.9090323
CREATED:20170926T183842Z
DTSTART:20171106T010000Z
DTEND:20171106T020000Z
DTSTAMP:20260422T022636Z
SUMMARY:Hairy Arsenal vs. Individuals 2
DESCRIPTION:Individuals 2 vs. Hairy ArsenalPlus d'info : #18
X-ALT-DESC;FMTTYPE=text/html:<!DOCTYPE HTML PUBLIC "-//W3C//DTD HTML 3.2//E
	N">\n<HTML>\n<HEAD>\n<TITLE></TITLE>\n</HEAD>\n<BODY>\n<h3>Individuals 2 vs
	. Hairy Arsenal</h3>Plus d'info : <a href="https://www.golnetwork.com/game/
	v/112321/">#18</a>\n\n</BODY>\n</HTML>
STATUS:CONFIRMED
CLASS:PUBLIC
URL:https://www.golnetwork.com/game/v/112321/
X-MICROSOFT-CDO-BUSYSTATUS:BUSY
X-MICROSOFT-CDO-IMPORTANCE:1
END:VEVENT
BEGIN:VEVENT
UID:gbdnf@games.golnetwork.com
LOCATION:Ben Franklin Dome Field 1
GEO:45.3235661;-75.7751222
CREATED:20170926T183842Z
DTSTART:20171029T230000Z
DTEND:20171030T000000Z
DTSTAMP:20260422T022636Z
SUMMARY:Individuals 2 vs. Foot Loose FC
DESCRIPTION:Foot Loose FC vs. Individuals 2Plus d'info : #11
X-ALT-DESC;FMTTYPE=text/html:<!DOCTYPE HTML PUBLIC "-//W3C//DTD HTML 3.2//E
	N">\n<HTML>\n<HEAD>\n<TITLE></TITLE>\n</HEAD>\n<BODY>\n<h3>Foot Loose FC vs
	. Individuals 2</h3>Plus d'info : <a href="https://www.golnetwork.com/game/
	v/112314/">#11</a>\n\n</BODY>\n</HTML>
STATUS:CONFIRMED
CLASS:PUBLIC
URL:https://www.golnetwork.com/game/v/112314/
X-MICROSOFT-CDO-BUSYSTATUS:BUSY
X-MICROSOFT-CDO-IMPORTANCE:1
END:VEVENT
BEGIN:VEVENT
UID:gbdn3@games.golnetwork.com
LOCATION:Ben Franklin Dome Field 1
GEO:45.3235661;-75.7751222
CREATED:20170926T183842Z
DTSTART:20171022T230000Z
DTEND:20171023T000000Z
DTSTAMP:20260422T022636Z
SUMMARY:Individuals 2 vs. Hot Tub Time Machine
DESCRIPTION:Hot Tub Time Machine vs. Individuals 2Plus d'info : #5
X-ALT-DESC;FMTTYPE=text/html:<!DOCTYPE HTML PUBLIC "-//W3C//DTD HTML 3.2//E
	N">\n<HTML>\n<HEAD>\n<TITLE></TITLE>\n</HEAD>\n<BODY>\n<h3>Hot Tub Time Mac
	hine vs. Individuals 2</h3>Plus d'info : <a href="https://www.golnetwork.co
	m/game/v/112308/">#5</a>\n\n</BODY>\n</HTML>
STATUS:CONFIRMED
CLASS:PUBLIC
URL:https://www.golnetwork.com/game/v/112308/
X-MICROSOFT-CDO-BUSYSTATUS:BUSY
X-MICROSOFT-CDO-IMPORTANCE:1
END:VEVENT
BEGIN:VEVENT
UID:gbdn1@games.golnetwork.com
LOCATION:Ben Franklin Dome Field 1
GEO:45.3235661;-75.7751222
CREATED:20170926T183842Z
DTSTART:20171022T220000Z
DTEND:20171022T230000Z
DTSTAMP:20260422T022636Z
SUMMARY:Individuals 2 vs. Winded FC
DESCRIPTION:Winded FC vs. Individuals 2Plus d'info : #4
X-ALT-DESC;FMTTYPE=text/html:<!DOCTYPE HTML PUBLIC "-//W3C//DTD HTML 3.2//E
	N">\n<HTML>\n<HEAD>\n<TITLE></TITLE>\n</HEAD>\n<BODY>\n<h3>Winded FC vs. In
	dividuals 2</h3>Plus d'info : <a href="https://www.golnetwork.com/game/v/11
	2307/">#4</a>\n\n</BODY>\n</HTML>
STATUS:CONFIRMED
CLASS:PUBLIC
URL:https://www.golnetwork.com/game/v/112307/
X-MICROSOFT-CDO-BUSYSTATUS:BUSY
X-MICROSOFT-CDO-IMPORTANCE:1
END:VEVENT
BEGIN:VEVENT
UID:gb9fj@games.golnetwork.com
LOCATION:Ben Franklin Dome Field 1
GEO:45.3235661;-75.7751222
CREATED:20170919T093135Z
DTSTART:20171016T000000Z
DTEND:20171016T010000Z
DTSTAMP:20260422T022636Z
SUMMARY:Individuals 2 vs. LifeDNA
DESCRIPTION:LifeDNA vs. Individuals 2Plus d'info : #18
X-ALT-DESC;FMTTYPE=text/html:<!DOCTYPE HTML PUBLIC "-//W3C//DTD HTML 3.2//E
	N">\n<HTML>\n<HEAD>\n<TITLE></TITLE>\n</HEAD>\n<BODY>\n<h3>LifeDNA vs. Indi
	viduals 2</h3>Plus d'info : <a href="https://www.golnetwork.com/game/v/1107
	50/">#18</a>\n\n</BODY>\n</HTML>
STATUS:CONFIRMED
CLASS:PUBLIC
URL:https://www.golnetwork.com/game/v/110750/
X-MICROSOFT-CDO-BUSYSTATUS:BUSY
X-MICROSOFT-CDO-IMPORTANCE:1
END:VEVENT
BEGIN:VEVENT
UID:gb9f1@games.golnetwork.com
LOCATION:Hornet's Nest #1
GEO:45.4428309;-75.575268
CREATED:20170919T093135Z
DTSTART:20171001T190000Z
DTEND:20171001T200000Z
DTSTAMP:20260422T022636Z
SUMMARY:Individuals 2 vs. Mambas FC
DESCRIPTION:Mambas FC vs. Individuals 2Plus d'info : #9
X-ALT-DESC;FMTTYPE=text/html:<!DOCTYPE HTML PUBLIC "-//W3C//DTD HTML 3.2//E
	N">\n<HTML>\n<HEAD>\n<TITLE></TITLE>\n</HEAD>\n<BODY>\n<h3>Mambas FC vs. In
	dividuals 2</h3>Plus d'info : <a href="https://www.golnetwork.com/game/v/11
	0741/">#9</a>\n\n</BODY>\n</HTML>
STATUS:CONFIRMED
CLASS:PUBLIC
URL:https://www.golnetwork.com/game/v/110741/
X-MICROSOFT-CDO-BUSYSTATUS:BUSY
X-MICROSOFT-CDO-IMPORTANCE:1
END:VEVENT
BEGIN:VEVENT
UID:gba94@games.golnetwork.com
LOCATION:Ben Franklin Dome Field 1
GEO:45.3235661;-75.7751222
CREATED:20170920T033235Z
DTSTART:20170925T000000Z
DTEND:20170925T010000Z
DTSTAMP:20260422T022636Z
SUMMARY:Individuals 2 vs. Sons of Pitches
DESCRIPTION:Sons of Pitches vs. Individuals 2Plus d'info : #11
X-ALT-DESC;FMTTYPE=text/html:<!DOCTYPE HTML PUBLIC "-//W3C//DTD HTML 3.2//E
	N">\n<HTML>\n<HEAD>\n<TITLE></TITLE>\n</HEAD>\n<BODY>\n<h3>Sons of Pitches 
	vs. Individuals 2</h3>Plus d'info : <a href="https://www.golnetwork.com/gam
	e/v/111026/">#11</a>\n\n</BODY>\n</HTML>
STATUS:CONFIRMED
CLASS:PUBLIC
URL:https://www.golnetwork.com/game/v/111026/
X-MICROSOFT-CDO-BUSYSTATUS:BUSY
X-MICROSOFT-CDO-IMPORTANCE:1
END:VEVENT
BEGIN:VEVENT
UID:gb825@games.golnetwork.com
LOCATION:Bell Sensplex
GEO:45.2969975;-75.9090323
CREATED:20170911T083907Z
DTSTART:20170918T000000Z
DTEND:20170918T010000Z
DTSTAMP:20260422T022636Z
SUMMARY:Individuals 2 vs. Hairy Arsenal
DESCRIPTION:Hairy Arsenal vs. Individuals 2Plus d'info : #5
X-ALT-DESC;FMTTYPE=text/html:<!DOCTYPE HTML PUBLIC "-//W3C//DTD HTML 3.2//E
	N">\n<HTML>\n<HEAD>\n<TITLE></TITLE>\n</HEAD>\n<BODY>\n<h3>Hairy Arsenal vs
	. Individuals 2</h3>Plus d'info : <a href="https://www.golnetwork.com/game/
	v/110203/">#5</a>\n\n</BODY>\n</HTML>
STATUS:CONFIRMED
CLASS:PUBLIC
URL:https://www.golnetwork.com/game/v/110203/
X-MICROSOFT-CDO-BUSYSTATUS:BUSY
X-MICROSOFT-CDO-IMPORTANCE:1
END:VEVENT
END:VCALENDAR
