BEGIN:VCALENDAR
PRODID:-//gdesolutions.com//MV Framework 1.0.0.1607 Calendar//EN
VERSION:2.0
METHOD:PUBLISH
CALSCALE:GREGORIAN
BEGIN:VEVENT
UID:gc7j4@games.golnetwork.com
LOCATION:Lamport Stadium - Field 1
GEO:43.6390028;-79.4232104
CREATED:20180122T194528Z
DTSTART:20180317T030000Z
DTEND:20180317T040000Z
DTSTAMP:20260420T004553Z
SUMMARY:Misfits vs. Six Shooters
DESCRIPTION:Six Shooters vs. MisfitsPlus d'info : #738
X-ALT-DESC;FMTTYPE=text/html:<!DOCTYPE HTML PUBLIC "-//W3C//DTD HTML 3.2//E
	N">\n<HTML>\n<HEAD>\n<TITLE></TITLE>\n</HEAD>\n<BODY>\n<h3>Six Shooters vs.
	 Misfits</h3>Plus d'info : <a href="https://www.golnetwork.com/game/v/11990
	9/">#738</a>\n\n</BODY>\n</HTML>
STATUS:CONFIRMED
CLASS:PUBLIC
URL:https://www.golnetwork.com/game/v/119909/
X-MICROSOFT-CDO-BUSYSTATUS:BUSY
X-MICROSOFT-CDO-IMPORTANCE:1
END:VEVENT
BEGIN:VEVENT
UID:gc7il@games.golnetwork.com
LOCATION:Lamport Stadium - Field 2
GEO:43.6390028;-79.4232104
CREATED:20180122T194433Z
DTSTART:20180303T040000Z
DTEND:20180303T050000Z
DTSTAMP:20260420T004553Z
SUMMARY:We Wear Black 4 vs. Six Shooters
DESCRIPTION:Six Shooters vs. We Wear Black 4Plus d'info : #634
X-ALT-DESC;FMTTYPE=text/html:<!DOCTYPE HTML PUBLIC "-//W3C//DTD HTML 3.2//E
	N">\n<HTML>\n<HEAD>\n<TITLE></TITLE>\n</HEAD>\n<BODY>\n<h3>Six Shooters vs.
	 We Wear Black 4</h3>Plus d'info : <a href="https://www.golnetwork.com/game
	/v/119904/">#634</a>\n\n</BODY>\n</HTML>
STATUS:CONFIRMED
CLASS:PUBLIC
URL:https://www.golnetwork.com/game/v/119904/
X-MICROSOFT-CDO-BUSYSTATUS:BUSY
X-MICROSOFT-CDO-IMPORTANCE:1
END:VEVENT
BEGIN:VEVENT
UID:gc7i1@games.golnetwork.com
LOCATION:Lamport Stadium - Field 1
GEO:43.6390028;-79.4232104
CREATED:20180122T194243Z
DTSTART:20180224T010000Z
DTEND:20180224T020000Z
DTSTAMP:20260420T004553Z
SUMMARY:XTSC Stars  vs. Six Shooters
DESCRIPTION:Six Shooters vs. XTSC Stars Plus d'info : #548
X-ALT-DESC;FMTTYPE=text/html:<!DOCTYPE HTML PUBLIC "-//W3C//DTD HTML 3.2//E
	N">\n<HTML>\n<HEAD>\n<TITLE></TITLE>\n</HEAD>\n<BODY>\n<h3>Six Shooters vs.
	 XTSC Stars </h3>Plus d'info : <a href="https://www.golnetwork.com/game/v/1
	19894/">#548</a>\n\n</BODY>\n</HTML>
STATUS:CONFIRMED
CLASS:PUBLIC
URL:https://www.golnetwork.com/game/v/119894/
X-MICROSOFT-CDO-BUSYSTATUS:BUSY
X-MICROSOFT-CDO-IMPORTANCE:1
END:VEVENT
BEGIN:VEVENT
UID:gc7ho@games.golnetwork.com
LOCATION:Lamport Stadium - Field 2
GEO:43.6390028;-79.4232104
CREATED:20180122T194211Z
DTSTART:20180224T000000Z
DTEND:20180224T010000Z
DTSTAMP:20260420T004553Z
SUMMARY:Der Hammers vs. Six Shooters
DESCRIPTION:Six Shooters vs. Der HammersPlus d'info : #547
X-ALT-DESC;FMTTYPE=text/html:<!DOCTYPE HTML PUBLIC "-//W3C//DTD HTML 3.2//E
	N">\n<HTML>\n<HEAD>\n<TITLE></TITLE>\n</HEAD>\n<BODY>\n<h3>Six Shooters vs.
	 Der Hammers</h3>Plus d'info : <a href="https://www.golnetwork.com/game/v/1
	19892/">#547</a>\n\n</BODY>\n</HTML>
STATUS:CONFIRMED
CLASS:PUBLIC
URL:https://www.golnetwork.com/game/v/119892/
X-MICROSOFT-CDO-BUSYSTATUS:BUSY
X-MICROSOFT-CDO-IMPORTANCE:1
END:VEVENT
BEGIN:VEVENT
UID:gc7hk@games.golnetwork.com
LOCATION:Lamport Stadium - Field 2
GEO:43.6390028;-79.4232104
CREATED:20180122T194004Z
DTSTART:20180217T030000Z
DTEND:20180217T040000Z
DTSTAMP:20260420T004553Z
SUMMARY:XTSC TGIF vs. Six Shooters
DESCRIPTION:Six Shooters vs. XTSC TGIFPlus d'info : #494
X-ALT-DESC;FMTTYPE=text/html:<!DOCTYPE HTML PUBLIC "-//W3C//DTD HTML 3.2//E
	N">\n<HTML>\n<HEAD>\n<TITLE></TITLE>\n</HEAD>\n<BODY>\n<h3>Six Shooters vs.
	 XTSC TGIF</h3>Plus d'info : <a href="https://www.golnetwork.com/game/v/119
	890/">#494</a>\n\n</BODY>\n</HTML>
STATUS:CONFIRMED
CLASS:PUBLIC
URL:https://www.golnetwork.com/game/v/119890/
X-MICROSOFT-CDO-BUSYSTATUS:BUSY
X-MICROSOFT-CDO-IMPORTANCE:1
END:VEVENT
BEGIN:VEVENT
UID:gc7h6@games.golnetwork.com
LOCATION:Lamport Stadium - Field 1
GEO:43.6390028;-79.4232104
CREATED:20180122T193854Z
DTSTART:20180210T040000Z
DTEND:20180210T050000Z
DTSTAMP:20260420T004553Z
SUMMARY:Shut Your Legs or I'll Meg Ya!  vs. Six Shooters
DESCRIPTION:Six Shooters vs. Shut Your Legs or I'll Meg Ya! Plus d'info : #
	410
X-ALT-DESC;FMTTYPE=text/html:<!DOCTYPE HTML PUBLIC "-//W3C//DTD HTML 3.2//E
	N">\n<HTML>\n<HEAD>\n<TITLE></TITLE>\n</HEAD>\n<BODY>\n<h3>Six Shooters vs.
	 Shut Your Legs or I'll Meg Ya! </h3>Plus d'info : <a href="https://www.gol
	network.com/game/v/119883/">#410</a>\n\n</BODY>\n</HTML>
STATUS:CONFIRMED
CLASS:PUBLIC
URL:https://www.golnetwork.com/game/v/119883/
X-MICROSOFT-CDO-BUSYSTATUS:BUSY
X-MICROSOFT-CDO-IMPORTANCE:1
END:VEVENT
BEGIN:VEVENT
UID:gc7gd@games.golnetwork.com
LOCATION:Lamport Stadium - Field 1
GEO:43.6390028;-79.4232104
CREATED:20180122T193659Z
DTSTART:20180203T010000Z
DTEND:20180203T020000Z
DTSTAMP:20260420T004553Z
SUMMARY:Six Shooters vs. FC Shooters
DESCRIPTION:FC Shooters vs. Six ShootersPlus d'info : #322
X-ALT-DESC;FMTTYPE=text/html:<!DOCTYPE HTML PUBLIC "-//W3C//DTD HTML 3.2//E
	N">\n<HTML>\n<HEAD>\n<TITLE></TITLE>\n</HEAD>\n<BODY>\n<h3>FC Shooters vs. 
	Six Shooters</h3>Plus d'info : <a href="https://www.golnetwork.com/game/v/1
	19873/">#322</a>\n\n</BODY>\n</HTML>
STATUS:CONFIRMED
CLASS:PUBLIC
URL:https://www.golnetwork.com/game/v/119873/
X-MICROSOFT-CDO-BUSYSTATUS:BUSY
X-MICROSOFT-CDO-IMPORTANCE:1
END:VEVENT
BEGIN:VEVENT
UID:gc7fq@games.golnetwork.com
LOCATION:Lamport Stadium - Field 1
GEO:43.6390028;-79.4232104
CREATED:20180122T193509Z
DTSTART:20180127T000000Z
DTEND:20180127T010000Z
DTSTAMP:20260420T004553Z
SUMMARY:Six Shooters vs. Victorious Secret
DESCRIPTION:Victorious Secret vs. Six ShootersPlus d'info : #228
X-ALT-DESC;FMTTYPE=text/html:<!DOCTYPE HTML PUBLIC "-//W3C//DTD HTML 3.2//E
	N">\n<HTML>\n<HEAD>\n<TITLE></TITLE>\n</HEAD>\n<BODY>\n<h3>Victorious Secre
	t vs. Six Shooters</h3>Plus d'info : <a href="https://www.golnetwork.com/ga
	me/v/119866/">#228</a>\n\n</BODY>\n</HTML>
STATUS:CONFIRMED
CLASS:PUBLIC
URL:https://www.golnetwork.com/game/v/119866/
X-MICROSOFT-CDO-BUSYSTATUS:BUSY
X-MICROSOFT-CDO-IMPORTANCE:1
END:VEVENT
BEGIN:VEVENT
UID:gc3lo@games.golnetwork.com
LOCATION:Lamport Stadium - Field 1
GEO:43.6390028;-79.4232104
CREATED:20180112T142636Z
DTSTART:20180120T020000Z
DTEND:20180120T030000Z
DTSTAMP:20260420T004553Z
SUMMARY:50 Shades of Green vs. Six Shooters
DESCRIPTION:Six Shooters vs. 50 Shades of GreenPlus d'info : #164
X-ALT-DESC;FMTTYPE=text/html:<!DOCTYPE HTML PUBLIC "-//W3C//DTD HTML 3.2//E
	N">\n<HTML>\n<HEAD>\n<TITLE></TITLE>\n</HEAD>\n<BODY>\n<h3>Six Shooters vs.
	 50 Shades of Green</h3>Plus d'info : <a href="https://www.golnetwork.com/g
	ame/v/118488/">#164</a>\n\n</BODY>\n</HTML>
STATUS:CONFIRMED
CLASS:PUBLIC
URL:https://www.golnetwork.com/game/v/118488/
X-MICROSOFT-CDO-BUSYSTATUS:BUSY
X-MICROSOFT-CDO-IMPORTANCE:1
END:VEVENT
END:VCALENDAR
