BEGIN:VCALENDAR
PRODID:-//gdesolutions.com//MV Framework 1.0.0.1607 Calendar//EN
VERSION:2.0
METHOD:PUBLISH
CALSCALE:GREGORIAN
BEGIN:VEVENT
UID:gc0fp@games.golnetwork.com
LOCATION:Jesse Ketchum Public School
GEO:43.6730545;-79.3911034
CREATED:20171128T155315Z
DTSTART:20180213T013000Z
DTEND:20180213T023000Z
DTSTAMP:20260422T160904Z
SUMMARY:Just for Kicks vs. Seal Madrid
DESCRIPTION:Seal Madrid vs. Just for KicksPlus d'info : #27
X-ALT-DESC;FMTTYPE=text/html:<!DOCTYPE HTML PUBLIC "-//W3C//DTD HTML 3.2//E
	N">\n<HTML>\n<HEAD>\n<TITLE></TITLE>\n</HEAD>\n<BODY>\n<h3>Seal Madrid vs. 
	Just for Kicks</h3>Plus d'info : <a href="https://www.golnetwork.com/game/v
	/117314/">#27</a>\n\n</BODY>\n</HTML>
STATUS:CONFIRMED
CLASS:PUBLIC
URL:https://www.golnetwork.com/game/v/117314/
X-MICROSOFT-CDO-BUSYSTATUS:BUSY
X-MICROSOFT-CDO-IMPORTANCE:1
END:VEVENT
BEGIN:VEVENT
UID:gc0fl@games.golnetwork.com
LOCATION:Jesse Ketchum Public School
GEO:43.6730545;-79.3911034
CREATED:20171128T155307Z
DTSTART:20180205T233000Z
DTEND:20180206T003000Z
DTSTAMP:20260422T160904Z
SUMMARY:XTSC Fun Squad vs. Seal Madrid
DESCRIPTION:Seal Madrid vs. XTSC Fun SquadPlus d'info : #22
X-ALT-DESC;FMTTYPE=text/html:<!DOCTYPE HTML PUBLIC "-//W3C//DTD HTML 3.2//E
	N">\n<HTML>\n<HEAD>\n<TITLE></TITLE>\n</HEAD>\n<BODY>\n<h3>Seal Madrid vs. 
	XTSC Fun Squad</h3>Plus d'info : <a href="https://www.golnetwork.com/game/v
	/117312/">#22</a>\n\n</BODY>\n</HTML>
STATUS:CONFIRMED
CLASS:PUBLIC
URL:https://www.golnetwork.com/game/v/117312/
X-MICROSOFT-CDO-BUSYSTATUS:BUSY
X-MICROSOFT-CDO-IMPORTANCE:1
END:VEVENT
BEGIN:VEVENT
UID:gc0ff@games.golnetwork.com
LOCATION:Jesse Ketchum Public School
GEO:43.6730545;-79.3911034
CREATED:20171128T155236Z
DTSTART:20180129T233000Z
DTEND:20180130T003000Z
DTSTAMP:20260422T160904Z
SUMMARY:Seal Madrid vs. XTSC Fun Squad
DESCRIPTION:XTSC Fun Squad vs. Seal MadridPlus d'info : #19
X-ALT-DESC;FMTTYPE=text/html:<!DOCTYPE HTML PUBLIC "-//W3C//DTD HTML 3.2//E
	N">\n<HTML>\n<HEAD>\n<TITLE></TITLE>\n</HEAD>\n<BODY>\n<h3>XTSC Fun Squad v
	s. Seal Madrid</h3>Plus d'info : <a href="https://www.golnetwork.com/game/v
	/117309/">#19</a>\n\n</BODY>\n</HTML>
STATUS:CONFIRMED
CLASS:PUBLIC
URL:https://www.golnetwork.com/game/v/117309/
X-MICROSOFT-CDO-BUSYSTATUS:BUSY
X-MICROSOFT-CDO-IMPORTANCE:1
END:VEVENT
BEGIN:VEVENT
UID:gc0fb@games.golnetwork.com
LOCATION:Jesse Ketchum Public School
GEO:43.6730545;-79.3911034
CREATED:20171128T155214Z
DTSTART:20180123T003000Z
DTEND:20180123T013000Z
DTSTAMP:20260422T160904Z
SUMMARY:Seal Madrid vs. Just for Kicks
DESCRIPTION:Just for Kicks vs. Seal MadridPlus d'info : #17
X-ALT-DESC;FMTTYPE=text/html:<!DOCTYPE HTML PUBLIC "-//W3C//DTD HTML 3.2//E
	N">\n<HTML>\n<HEAD>\n<TITLE></TITLE>\n</HEAD>\n<BODY>\n<h3>Just for Kicks v
	s. Seal Madrid</h3>Plus d'info : <a href="https://www.golnetwork.com/game/v
	/117307/">#17</a>\n\n</BODY>\n</HTML>
STATUS:CONFIRMED
CLASS:PUBLIC
URL:https://www.golnetwork.com/game/v/117307/
X-MICROSOFT-CDO-BUSYSTATUS:BUSY
X-MICROSOFT-CDO-IMPORTANCE:1
END:VEVENT
BEGIN:VEVENT
UID:gc0f7@games.golnetwork.com
LOCATION:Jesse Ketchum Public School
GEO:43.6730545;-79.3911034
CREATED:20171128T155155Z
DTSTART:20180116T013000Z
DTEND:20180116T023000Z
DTSTAMP:20260422T160904Z
SUMMARY:Seal Madrid vs. About to Get Messi
DESCRIPTION:About to Get Messi vs. Seal MadridPlus d'info : #15
X-ALT-DESC;FMTTYPE=text/html:<!DOCTYPE HTML PUBLIC "-//W3C//DTD HTML 3.2//E
	N">\n<HTML>\n<HEAD>\n<TITLE></TITLE>\n</HEAD>\n<BODY>\n<h3>About to Get Mes
	si vs. Seal Madrid</h3>Plus d'info : <a href="https://www.golnetwork.com/ga
	me/v/117305/">#15</a>\n\n</BODY>\n</HTML>
STATUS:CONFIRMED
CLASS:PUBLIC
URL:https://www.golnetwork.com/game/v/117305/
X-MICROSOFT-CDO-BUSYSTATUS:BUSY
X-MICROSOFT-CDO-IMPORTANCE:1
END:VEVENT
BEGIN:VEVENT
UID:gc0eo@games.golnetwork.com
LOCATION:Jesse Ketchum Public School
GEO:43.6730545;-79.3911034
CREATED:20171128T155109Z
DTSTART:20180108T233000Z
DTEND:20180109T003000Z
DTSTAMP:20260422T160904Z
SUMMARY:White Noise vs. Seal Madrid
DESCRIPTION:Seal Madrid vs. White NoisePlus d'info : #10
X-ALT-DESC;FMTTYPE=text/html:<!DOCTYPE HTML PUBLIC "-//W3C//DTD HTML 3.2//E
	N">\n<HTML>\n<HEAD>\n<TITLE></TITLE>\n</HEAD>\n<BODY>\n<h3>Seal Madrid vs. 
	White Noise</h3>Plus d'info : <a href="https://www.golnetwork.com/game/v/11
	7300/">#10</a>\n\n</BODY>\n</HTML>
STATUS:CONFIRMED
CLASS:PUBLIC
URL:https://www.golnetwork.com/game/v/117300/
X-MICROSOFT-CDO-BUSYSTATUS:BUSY
X-MICROSOFT-CDO-IMPORTANCE:1
END:VEVENT
BEGIN:VEVENT
UID:gc0em@games.golnetwork.com
LOCATION:Jesse Ketchum Public School
GEO:43.6730545;-79.3911034
CREATED:20171128T155054Z
DTSTART:20171219T013000Z
DTEND:20171219T023000Z
DTSTAMP:20260422T160904Z
SUMMARY:ITRG vs. Seal Madrid
DESCRIPTION:Seal Madrid vs. ITRGPlus d'info : #9
X-ALT-DESC;FMTTYPE=text/html:<!DOCTYPE HTML PUBLIC "-//W3C//DTD HTML 3.2//E
	N">\n<HTML>\n<HEAD>\n<TITLE></TITLE>\n</HEAD>\n<BODY>\n<h3>Seal Madrid vs. 
	ITRG</h3>Plus d'info : <a href="https://www.golnetwork.com/game/v/117299/">
	#9</a>\n\n</BODY>\n</HTML>
STATUS:CONFIRMED
CLASS:PUBLIC
URL:https://www.golnetwork.com/game/v/117299/
X-MICROSOFT-CDO-BUSYSTATUS:BUSY
X-MICROSOFT-CDO-IMPORTANCE:1
END:VEVENT
BEGIN:VEVENT
UID:gc0ec@games.golnetwork.com
LOCATION:Jesse Ketchum Public School
GEO:43.6730545;-79.3911034
CREATED:20171128T155007Z
DTSTART:20171211T233000Z
DTEND:20171212T003000Z
DTSTAMP:20260422T160904Z
SUMMARY:Seal Madrid vs. XTSC Fun Squad
DESCRIPTION:XTSC Fun Squad vs. Seal MadridPlus d'info : #4
X-ALT-DESC;FMTTYPE=text/html:<!DOCTYPE HTML PUBLIC "-//W3C//DTD HTML 3.2//E
	N">\n<HTML>\n<HEAD>\n<TITLE></TITLE>\n</HEAD>\n<BODY>\n<h3>XTSC Fun Squad v
	s. Seal Madrid</h3>Plus d'info : <a href="https://www.golnetwork.com/game/v
	/117294/">#4</a>\n\n</BODY>\n</HTML>
STATUS:CONFIRMED
CLASS:PUBLIC
URL:https://www.golnetwork.com/game/v/117294/
X-MICROSOFT-CDO-BUSYSTATUS:BUSY
X-MICROSOFT-CDO-IMPORTANCE:1
END:VEVENT
BEGIN:VEVENT
UID:gc0df@games.golnetwork.com
LOCATION:Jesse Ketchum Public School
GEO:43.6730545;-79.3911034
CREATED:20171127T152702Z
DTSTART:20171205T003000Z
DTEND:20171205T013000Z
DTSTAMP:20260422T160904Z
SUMMARY:Seal Madrid vs. Just for Kicks
DESCRIPTION:Just for Kicks vs. Seal MadridPlus d'info : #2
X-ALT-DESC;FMTTYPE=text/html:<!DOCTYPE HTML PUBLIC "-//W3C//DTD HTML 3.2//E
	N">\n<HTML>\n<HEAD>\n<TITLE></TITLE>\n</HEAD>\n<BODY>\n<h3>Just for Kicks v
	s. Seal Madrid</h3>Plus d'info : <a href="https://www.golnetwork.com/game/v
	/117282/">#2</a>\n\n</BODY>\n</HTML>
STATUS:CONFIRMED
CLASS:PUBLIC
URL:https://www.golnetwork.com/game/v/117282/
X-MICROSOFT-CDO-BUSYSTATUS:BUSY
X-MICROSOFT-CDO-IMPORTANCE:1
END:VEVENT
END:VCALENDAR
