BEGIN:VCALENDAR
PRODID:-//gdesolutions.com//MV Framework 1.0.0.1607 Calendar//EN
VERSION:2.0
METHOD:PUBLISH
CALSCALE:GREGORIAN
BEGIN:VEVENT
UID:gcbfi@games.golnetwork.com
LOCATION:Central Tech - Field 1
GEO:43.6637272;-79.4087613
CREATED:20180313T144718Z
DTSTART:20180506T230000Z
DTEND:20180507T000000Z
DTSTAMP:20260421T125516Z
SUMMARY:The Ball Kickers vs. The Orange
DESCRIPTION:The Orange vs. The Ball KickersPlus d'info : #396
X-ALT-DESC;FMTTYPE=text/html:<!DOCTYPE HTML PUBLIC "-//W3C//DTD HTML 3.2//E
	N">\n<HTML>\n<HEAD>\n<TITLE></TITLE>\n</HEAD>\n<BODY>\n<h3>The Orange vs. T
	he Ball Kickers</h3>Plus d'info : <a href="https://www.golnetwork.com/game/
	v/121320/">#396</a>\n\n</BODY>\n</HTML>
STATUS:CONFIRMED
CLASS:PUBLIC
URL:https://www.golnetwork.com/game/v/121320/
X-MICROSOFT-CDO-BUSYSTATUS:BUSY
X-MICROSOFT-CDO-IMPORTANCE:1
END:VEVENT
BEGIN:VEVENT
UID:gcbfg@games.golnetwork.com
LOCATION:Central Tech - Field 2
GEO:43.6637272;-79.4087613
CREATED:20180313T144640Z
DTSTART:20180430T020000Z
DTEND:20180430T030000Z
DTSTAMP:20260421T125516Z
SUMMARY:The Ball Kickers vs. Net Six & Chill
DESCRIPTION:Net Six & Chill vs. The Ball KickersPlus d'info : #382
X-ALT-DESC;FMTTYPE=text/html:<!DOCTYPE HTML PUBLIC "-//W3C//DTD HTML 3.2//E
	N">\n<HTML>\n<HEAD>\n<TITLE></TITLE>\n</HEAD>\n<BODY>\n<h3>Net Six & Chill 
	vs. The Ball Kickers</h3>Plus d'info : <a href="https://www.golnetwork.com/
	game/v/121319/">#382</a>\n\n</BODY>\n</HTML>
STATUS:CONFIRMED
CLASS:PUBLIC
URL:https://www.golnetwork.com/game/v/121319/
X-MICROSOFT-CDO-BUSYSTATUS:BUSY
X-MICROSOFT-CDO-IMPORTANCE:1
END:VEVENT
BEGIN:VEVENT
UID:gcbfc@games.golnetwork.com
LOCATION:Central Tech - Field 2
GEO:43.6637272;-79.4087613
CREATED:20180313T144608Z
DTSTART:20180423T010000Z
DTEND:20180423T020000Z
DTSTAMP:20260421T125516Z
SUMMARY:Hedgie FC vs. The Ball Kickers
DESCRIPTION:The Ball Kickers vs. Hedgie FCPlus d'info : #340
X-ALT-DESC;FMTTYPE=text/html:<!DOCTYPE HTML PUBLIC "-//W3C//DTD HTML 3.2//E
	N">\n<HTML>\n<HEAD>\n<TITLE></TITLE>\n</HEAD>\n<BODY>\n<h3>The Ball Kickers
	 vs. Hedgie FC</h3>Plus d'info : <a href="https://www.golnetwork.com/game/v
	/121317/">#340</a>\n\n</BODY>\n</HTML>
STATUS:CONFIRMED
CLASS:PUBLIC
URL:https://www.golnetwork.com/game/v/121317/
X-MICROSOFT-CDO-BUSYSTATUS:BUSY
X-MICROSOFT-CDO-IMPORTANCE:1
END:VEVENT
BEGIN:VEVENT
UID:gcbf8@games.golnetwork.com
LOCATION:Central Tech - Field 2
GEO:43.6637272;-79.4087613
CREATED:20180313T144548Z
DTSTART:20180416T030000Z
DTEND:20180416T040000Z
DTSTAMP:20260421T125516Z
SUMMARY:The Ball Kickers vs. All Ballz
DESCRIPTION:All Ballz vs. The Ball KickersPlus d'info : #296
X-ALT-DESC;FMTTYPE=text/html:<!DOCTYPE HTML PUBLIC "-//W3C//DTD HTML 3.2//E
	N">\n<HTML>\n<HEAD>\n<TITLE></TITLE>\n</HEAD>\n<BODY>\n<h3>All Ballz vs. Th
	e Ball Kickers</h3>Plus d'info : <a href="https://www.golnetwork.com/game/v
	/121315/">#296</a>\n\n</BODY>\n</HTML>
STATUS:CONFIRMED
CLASS:PUBLIC
URL:https://www.golnetwork.com/game/v/121315/
X-MICROSOFT-CDO-BUSYSTATUS:BUSY
X-MICROSOFT-CDO-IMPORTANCE:1
END:VEVENT
BEGIN:VEVENT
UID:gcbf0@games.golnetwork.com
LOCATION:Central Tech - Field 2
GEO:43.6637272;-79.4087613
CREATED:20180313T144517Z
DTSTART:20180409T010000Z
DTEND:20180409T020000Z
DTSTAMP:20260421T125516Z
SUMMARY:The Ball Kickers vs. The Orange
DESCRIPTION:The Orange vs. The Ball KickersPlus d'info : #247
X-ALT-DESC;FMTTYPE=text/html:<!DOCTYPE HTML PUBLIC "-//W3C//DTD HTML 3.2//E
	N">\n<HTML>\n<HEAD>\n<TITLE></TITLE>\n</HEAD>\n<BODY>\n<h3>The Orange vs. T
	he Ball Kickers</h3>Plus d'info : <a href="https://www.golnetwork.com/game/
	v/121311/">#247</a>\n\n</BODY>\n</HTML>
STATUS:CONFIRMED
CLASS:PUBLIC
URL:https://www.golnetwork.com/game/v/121311/
X-MICROSOFT-CDO-BUSYSTATUS:BUSY
X-MICROSOFT-CDO-IMPORTANCE:1
END:VEVENT
BEGIN:VEVENT
UID:gcbel@games.golnetwork.com
LOCATION:Central Tech - Field 2
GEO:43.6637272;-79.4087613
CREATED:20180313T144447Z
DTSTART:20180326T020000Z
DTEND:20180326T030000Z
DTSTAMP:20260421T125516Z
SUMMARY:Forced Sales vs. The Ball Kickers
DESCRIPTION:The Ball Kickers vs. Forced SalesPlus d'info : #155
X-ALT-DESC;FMTTYPE=text/html:<!DOCTYPE HTML PUBLIC "-//W3C//DTD HTML 3.2//E
	N">\n<HTML>\n<HEAD>\n<TITLE></TITLE>\n</HEAD>\n<BODY>\n<h3>The Ball Kickers
	 vs. Forced Sales</h3>Plus d'info : <a href="https://www.golnetwork.com/gam
	e/v/121308/">#155</a>\n\n</BODY>\n</HTML>
STATUS:CONFIRMED
CLASS:PUBLIC
URL:https://www.golnetwork.com/game/v/121308/
X-MICROSOFT-CDO-BUSYSTATUS:BUSY
X-MICROSOFT-CDO-IMPORTANCE:1
END:VEVENT
BEGIN:VEVENT
UID:gcbed@games.golnetwork.com
LOCATION:Central Tech - Field 2
GEO:43.6637272;-79.4087613
CREATED:20180313T144417Z
DTSTART:20180319T000000Z
DTEND:20180319T010000Z
DTSTAMP:20260421T125516Z
SUMMARY:Net Six & Chill vs. The Ball Kickers
DESCRIPTION:The Ball Kickers vs. Net Six & ChillPlus d'info : #112
X-ALT-DESC;FMTTYPE=text/html:<!DOCTYPE HTML PUBLIC "-//W3C//DTD HTML 3.2//E
	N">\n<HTML>\n<HEAD>\n<TITLE></TITLE>\n</HEAD>\n<BODY>\n<h3>The Ball Kickers
	 vs. Net Six & Chill</h3>Plus d'info : <a href="https://www.golnetwork.com/
	game/v/121304/">#112</a>\n\n</BODY>\n</HTML>
STATUS:CONFIRMED
CLASS:PUBLIC
URL:https://www.golnetwork.com/game/v/121304/
X-MICROSOFT-CDO-BUSYSTATUS:BUSY
X-MICROSOFT-CDO-IMPORTANCE:1
END:VEVENT
BEGIN:VEVENT
UID:gcake@games.golnetwork.com
LOCATION:Central Tech - Field 2
GEO:43.6637272;-79.4087613
CREATED:20180306T150913Z
DTSTART:20180312T000000Z
DTEND:20180312T010000Z
DTSTAMP:20260421T125516Z
SUMMARY:Hedgie FC vs. The Ball Kickers
DESCRIPTION:The Ball Kickers vs. Hedgie FCPlus d'info : #73
X-ALT-DESC;FMTTYPE=text/html:<!DOCTYPE HTML PUBLIC "-//W3C//DTD HTML 3.2//E
	N">\n<HTML>\n<HEAD>\n<TITLE></TITLE>\n</HEAD>\n<BODY>\n<h3>The Ball Kickers
	 vs. Hedgie FC</h3>Plus d'info : <a href="https://www.golnetwork.com/game/v
	/121021/">#73</a>\n\n</BODY>\n</HTML>
STATUS:CONFIRMED
CLASS:PUBLIC
URL:https://www.golnetwork.com/game/v/121021/
X-MICROSOFT-CDO-BUSYSTATUS:BUSY
X-MICROSOFT-CDO-IMPORTANCE:1
END:VEVENT
BEGIN:VEVENT
UID:gcab7@games.golnetwork.com
LOCATION:Central Tech - Field 3
CREATED:20180302T162800Z
DTSTART:20180305T030000Z
DTEND:20180305T040000Z
DTSTAMP:20260421T125516Z
SUMMARY:The Ball Kickers vs. All Ballz
DESCRIPTION:All Ballz vs. The Ball KickersPlus d'info : #47
X-ALT-DESC;FMTTYPE=text/html:<!DOCTYPE HTML PUBLIC "-//W3C//DTD HTML 3.2//E
	N">\n<HTML>\n<HEAD>\n<TITLE></TITLE>\n</HEAD>\n<BODY>\n<h3>All Ballz vs. Th
	e Ball Kickers</h3>Plus d'info : <a href="https://www.golnetwork.com/game/v
	/120896/">#47</a>\n\n</BODY>\n</HTML>
STATUS:CONFIRMED
CLASS:PUBLIC
URL:https://www.golnetwork.com/game/v/120896/
X-MICROSOFT-CDO-BUSYSTATUS:BUSY
X-MICROSOFT-CDO-IMPORTANCE:1
END:VEVENT
END:VCALENDAR
