BEGIN:VCALENDAR
PRODID:-//gdesolutions.com//MV Framework 1.0.0.1607 Calendar//EN
VERSION:2.0
METHOD:PUBLISH
CALSCALE:GREGORIAN
BEGIN:VEVENT
UID:gbn44@games.golnetwork.com
LOCATION:Central Tech - Field 3
CREATED:20171020T173301Z
DTSTART:20171216T000000Z
DTEND:20171216T010000Z
DTSTAMP:20260420T004505Z
SUMMARY:RPIA vs. XTSC Rebels
DESCRIPTION:XTSC Rebels vs. RPIAPlus d'info : #667
X-ALT-DESC;FMTTYPE=text/html:<!DOCTYPE HTML PUBLIC "-//W3C//DTD HTML 3.2//E
	N">\n<HTML>\n<HEAD>\n<TITLE></TITLE>\n</HEAD>\n<BODY>\n<h3>XTSC Rebels vs. 
	RPIA</h3>Plus d'info : <a href="https://www.golnetwork.com/game/v/115697/">
	#667</a>\n\n</BODY>\n</HTML>
STATUS:CONFIRMED
CLASS:PUBLIC
URL:https://www.golnetwork.com/game/v/115697/
X-MICROSOFT-CDO-BUSYSTATUS:BUSY
X-MICROSOFT-CDO-IMPORTANCE:1
END:VEVENT
BEGIN:VEVENT
UID:gbn40@games.golnetwork.com
LOCATION:Central Tech - Field 3
CREATED:20171020T173233Z
DTSTART:20171202T000000Z
DTEND:20171202T010000Z
DTSTAMP:20260420T004505Z
SUMMARY:XTSC Rebels vs. RPIA
DESCRIPTION:RPIA vs. XTSC RebelsPlus d'info : #499
X-ALT-DESC;FMTTYPE=text/html:<!DOCTYPE HTML PUBLIC "-//W3C//DTD HTML 3.2//E
	N">\n<HTML>\n<HEAD>\n<TITLE></TITLE>\n</HEAD>\n<BODY>\n<h3>RPIA vs. XTSC Re
	bels</h3>Plus d'info : <a href="https://www.golnetwork.com/game/v/115695/">
	#499</a>\n\n</BODY>\n</HTML>
STATUS:CONFIRMED
CLASS:PUBLIC
URL:https://www.golnetwork.com/game/v/115695/
X-MICROSOFT-CDO-BUSYSTATUS:BUSY
X-MICROSOFT-CDO-IMPORTANCE:1
END:VEVENT
BEGIN:VEVENT
UID:gbn3p@games.golnetwork.com
LOCATION:Central Tech - Field 2
GEO:43.6637272;-79.4087613
CREATED:20171020T173218Z
DTSTART:20171125T040000Z
DTEND:20171125T050000Z
DTSTAMP:20260420T004505Z
SUMMARY:Team Jamaica and the Sweet Mickey All-Stars 🇯🇲 vs. RPIA
DESCRIPTION:RPIA vs. Team Jamaica and the Sweet Mickey All-Stars 🇯🇲Pl
	us d'info : #426
X-ALT-DESC;FMTTYPE=text/html:<!DOCTYPE HTML PUBLIC "-//W3C//DTD HTML 3.2//E
	N">\n<HTML>\n<HEAD>\n<TITLE></TITLE>\n</HEAD>\n<BODY>\n<h3>RPIA vs. Team Ja
	maica and the Sweet Mickey All-Stars 🇯🇲</h3>Plus d'info : <a href="ht
	tps://www.golnetwork.com/game/v/115694/">#426</a>\n\n</BODY>\n</HTML>
STATUS:CONFIRMED
CLASS:PUBLIC
URL:https://www.golnetwork.com/game/v/115694/
X-MICROSOFT-CDO-BUSYSTATUS:BUSY
X-MICROSOFT-CDO-IMPORTANCE:1
END:VEVENT
BEGIN:VEVENT
UID:gbn3h@games.golnetwork.com
LOCATION:Central Tech - Field 3
CREATED:20171020T173142Z
DTSTART:20171117T230000Z
DTEND:20171118T000000Z
DTSTAMP:20260420T004505Z
SUMMARY:RPIA vs. XTSC Friday Night Lights
DESCRIPTION:XTSC Friday Night Lights vs. RPIAPlus d'info : #320
X-ALT-DESC;FMTTYPE=text/html:<!DOCTYPE HTML PUBLIC "-//W3C//DTD HTML 3.2//E
	N">\n<HTML>\n<HEAD>\n<TITLE></TITLE>\n</HEAD>\n<BODY>\n<h3>XTSC Friday Nigh
	t Lights vs. RPIA</h3>Plus d'info : <a href="https://www.golnetwork.com/gam
	e/v/115690/">#320</a>\n\n</BODY>\n</HTML>
STATUS:CONFIRMED
CLASS:PUBLIC
URL:https://www.golnetwork.com/game/v/115690/
X-MICROSOFT-CDO-BUSYSTATUS:BUSY
X-MICROSOFT-CDO-IMPORTANCE:1
END:VEVENT
BEGIN:VEVENT
UID:gbn3f@games.golnetwork.com
LOCATION:Central Tech - Field 3
CREATED:20171020T173126Z
DTSTART:20171111T000000Z
DTEND:20171111T010000Z
DTSTAMP:20260420T004505Z
SUMMARY:XTSC Rebels vs. RPIA
DESCRIPTION:RPIA vs. XTSC RebelsPlus d'info : #249
X-ALT-DESC;FMTTYPE=text/html:<!DOCTYPE HTML PUBLIC "-//W3C//DTD HTML 3.2//E
	N">\n<HTML>\n<HEAD>\n<TITLE></TITLE>\n</HEAD>\n<BODY>\n<h3>RPIA vs. XTSC Re
	bels</h3>Plus d'info : <a href="https://www.golnetwork.com/game/v/115689/">
	#249</a>\n\n</BODY>\n</HTML>
STATUS:CONFIRMED
CLASS:PUBLIC
URL:https://www.golnetwork.com/game/v/115689/
X-MICROSOFT-CDO-BUSYSTATUS:BUSY
X-MICROSOFT-CDO-IMPORTANCE:1
END:VEVENT
BEGIN:VEVENT
UID:gbn39@games.golnetwork.com
LOCATION:Central Tech - Field 2
GEO:43.6637272;-79.4087613
CREATED:20171020T173054Z
DTSTART:20171104T010000Z
DTEND:20171104T020000Z
DTSTAMP:20260420T004505Z
SUMMARY:Team Jamaica and the Sweet Mickey All-Stars 🇯🇲 vs. RPIA
DESCRIPTION:RPIA vs. Team Jamaica and the Sweet Mickey All-Stars 🇯🇲Pl
	us d'info : #176
X-ALT-DESC;FMTTYPE=text/html:<!DOCTYPE HTML PUBLIC "-//W3C//DTD HTML 3.2//E
	N">\n<HTML>\n<HEAD>\n<TITLE></TITLE>\n</HEAD>\n<BODY>\n<h3>RPIA vs. Team Ja
	maica and the Sweet Mickey All-Stars 🇯🇲</h3>Plus d'info : <a href="ht
	tps://www.golnetwork.com/game/v/115686/">#176</a>\n\n</BODY>\n</HTML>
STATUS:CONFIRMED
CLASS:PUBLIC
URL:https://www.golnetwork.com/game/v/115686/
X-MICROSOFT-CDO-BUSYSTATUS:BUSY
X-MICROSOFT-CDO-IMPORTANCE:1
END:VEVENT
BEGIN:VEVENT
UID:gbf7l@games.golnetwork.com
LOCATION:Central Tech - Field 4
CREATED:20171012T151441Z
DTSTART:20171021T010000Z
DTEND:20171021T020000Z
DTSTAMP:20260420T004505Z
SUMMARY:XTSC Friday Night Lights vs. RPIA
DESCRIPTION:RPIA vs. XTSC Friday Night LightsPlus d'info : #84
X-ALT-DESC;FMTTYPE=text/html:<!DOCTYPE HTML PUBLIC "-//W3C//DTD HTML 3.2//E
	N">\n<HTML>\n<HEAD>\n<TITLE></TITLE>\n</HEAD>\n<BODY>\n<h3>RPIA vs. XTSC Fr
	iday Night Lights</h3>Plus d'info : <a href="https://www.golnetwork.com/gam
	e/v/112830/">#84</a>\n\n</BODY>\n</HTML>
STATUS:CONFIRMED
CLASS:PUBLIC
URL:https://www.golnetwork.com/game/v/112830/
X-MICROSOFT-CDO-BUSYSTATUS:BUSY
X-MICROSOFT-CDO-IMPORTANCE:1
END:VEVENT
BEGIN:VEVENT
UID:gbf5b@games.golnetwork.com
LOCATION:Central Tech - Field 4
CREATED:20171011T180340Z
DTSTART:20171014T020000Z
DTEND:20171014T030000Z
DTSTAMP:20260420T004505Z
SUMMARY:XTSC Rebels vs. RPIA
DESCRIPTION:RPIA vs. XTSC RebelsPlus d'info : #52
X-ALT-DESC;FMTTYPE=text/html:<!DOCTYPE HTML PUBLIC "-//W3C//DTD HTML 3.2//E
	N">\n<HTML>\n<HEAD>\n<TITLE></TITLE>\n</HEAD>\n<BODY>\n<h3>RPIA vs. XTSC Re
	bels</h3>Plus d'info : <a href="https://www.golnetwork.com/game/v/112798/">
	#52</a>\n\n</BODY>\n</HTML>
STATUS:CONFIRMED
CLASS:PUBLIC
URL:https://www.golnetwork.com/game/v/112798/
X-MICROSOFT-CDO-BUSYSTATUS:BUSY
X-MICROSOFT-CDO-IMPORTANCE:1
END:VEVENT
END:VCALENDAR
