BEGIN:VCALENDAR
PRODID:-//gdesolutions.com//MV Framework 1.0.0.1607 Calendar//EN
VERSION:2.0
METHOD:PUBLISH
CALSCALE:GREGORIAN
BEGIN:VEVENT
UID:gc5p0@games.golnetwork.com
LOCATION:Central Tech - Field 2
GEO:43.6637272;-79.4087613
CREATED:20180116T153901Z
DTSTART:20180320T020000Z
DTEND:20180320T030000Z
DTSTAMP:20260421T052507Z
SUMMARY:Medcan FC vs. FIFA '98 for Sega Dreamcast
DESCRIPTION:FIFA '98 for Sega Dreamcast vs. Medcan FCPlus d'info : #755
X-ALT-DESC;FMTTYPE=text/html:<!DOCTYPE HTML PUBLIC "-//W3C//DTD HTML 3.2//E
	N">\n<HTML>\n<HEAD>\n<TITLE></TITLE>\n</HEAD>\n<BODY>\n<h3>FIFA '98 for Seg
	a Dreamcast vs. Medcan FC</h3>Plus d'info : <a href="https://www.golnetwork
	.com/game/v/119259/">#755</a>\n\n</BODY>\n</HTML>
STATUS:CONFIRMED
CLASS:PUBLIC
URL:https://www.golnetwork.com/game/v/119259/
X-MICROSOFT-CDO-BUSYSTATUS:BUSY
X-MICROSOFT-CDO-IMPORTANCE:1
END:VEVENT
BEGIN:VEVENT
UID:gc5ob@games.golnetwork.com
LOCATION:Central Tech - Field 2
GEO:43.6637272;-79.4087613
CREATED:20180116T153804Z
DTSTART:20180306T020000Z
DTEND:20180306T030000Z
DTSTAMP:20260421T052507Z
SUMMARY:FIFA '98 for Sega Dreamcast vs. ABCDE-FC
DESCRIPTION:ABCDE-FC vs. FIFA '98 for Sega DreamcastPlus d'info : #654
X-ALT-DESC;FMTTYPE=text/html:<!DOCTYPE HTML PUBLIC "-//W3C//DTD HTML 3.2//E
	N">\n<HTML>\n<HEAD>\n<TITLE></TITLE>\n</HEAD>\n<BODY>\n<h3>ABCDE-FC vs. FIF
	A '98 for Sega Dreamcast</h3>Plus d'info : <a href="https://www.golnetwork.
	com/game/v/119251/">#654</a>\n\n</BODY>\n</HTML>
STATUS:CONFIRMED
CLASS:PUBLIC
URL:https://www.golnetwork.com/game/v/119251/
X-MICROSOFT-CDO-BUSYSTATUS:BUSY
X-MICROSOFT-CDO-IMPORTANCE:1
END:VEVENT
BEGIN:VEVENT
UID:gc5nq@games.golnetwork.com
LOCATION:Central Tech - Field 2
GEO:43.6637272;-79.4087613
CREATED:20180116T153656Z
DTSTART:20180227T010000Z
DTEND:20180227T020000Z
DTSTAMP:20260421T052507Z
SUMMARY:6ix Club vs. FIFA '98 for Sega Dreamcast
DESCRIPTION:FIFA '98 for Sega Dreamcast vs. 6ix ClubPlus d'info : #581
X-ALT-DESC;FMTTYPE=text/html:<!DOCTYPE HTML PUBLIC "-//W3C//DTD HTML 3.2//E
	N">\n<HTML>\n<HEAD>\n<TITLE></TITLE>\n</HEAD>\n<BODY>\n<h3>FIFA '98 for Seg
	a Dreamcast vs. 6ix Club</h3>Plus d'info : <a href="https://www.golnetwork.
	com/game/v/119245/">#581</a>\n\n</BODY>\n</HTML>
STATUS:CONFIRMED
CLASS:PUBLIC
URL:https://www.golnetwork.com/game/v/119245/
X-MICROSOFT-CDO-BUSYSTATUS:BUSY
X-MICROSOFT-CDO-IMPORTANCE:1
END:VEVENT
BEGIN:VEVENT
UID:gc5no@games.golnetwork.com
LOCATION:Central Tech - Field 3
CREATED:20180116T153639Z
DTSTART:20180220T040000Z
DTEND:20180220T050000Z
DTSTAMP:20260421T052507Z
SUMMARY:RodicornSquad vs. FIFA '98 for Sega Dreamcast
DESCRIPTION:FIFA '98 for Sega Dreamcast vs. RodicornSquadPlus d'info : #510
X-ALT-DESC;FMTTYPE=text/html:<!DOCTYPE HTML PUBLIC "-//W3C//DTD HTML 3.2//E
	N">\n<HTML>\n<HEAD>\n<TITLE></TITLE>\n</HEAD>\n<BODY>\n<h3>FIFA '98 for Seg
	a Dreamcast vs. RodicornSquad</h3>Plus d'info : <a href="https://www.golnet
	work.com/game/v/119244/">#510</a>\n\n</BODY>\n</HTML>
STATUS:CONFIRMED
CLASS:PUBLIC
URL:https://www.golnetwork.com/game/v/119244/
X-MICROSOFT-CDO-BUSYSTATUS:BUSY
X-MICROSOFT-CDO-IMPORTANCE:1
END:VEVENT
BEGIN:VEVENT
UID:gc5na@games.golnetwork.com
LOCATION:Central Tech - Field 2
GEO:43.6637272;-79.4087613
CREATED:20180116T153528Z
DTSTART:20180213T030000Z
DTEND:20180213T040000Z
DTSTAMP:20260421T052507Z
SUMMARY:Dynamo Kebab vs. FIFA '98 for Sega Dreamcast
DESCRIPTION:FIFA '98 for Sega Dreamcast vs. Dynamo KebabPlus d'info : #441
X-ALT-DESC;FMTTYPE=text/html:<!DOCTYPE HTML PUBLIC "-//W3C//DTD HTML 3.2//E
	N">\n<HTML>\n<HEAD>\n<TITLE></TITLE>\n</HEAD>\n<BODY>\n<h3>FIFA '98 for Seg
	a Dreamcast vs. Dynamo Kebab</h3>Plus d'info : <a href="https://www.golnetw
	ork.com/game/v/119237/">#441</a>\n\n</BODY>\n</HTML>
STATUS:CONFIRMED
CLASS:PUBLIC
URL:https://www.golnetwork.com/game/v/119237/
X-MICROSOFT-CDO-BUSYSTATUS:BUSY
X-MICROSOFT-CDO-IMPORTANCE:1
END:VEVENT
BEGIN:VEVENT
UID:gc5n2@games.golnetwork.com
LOCATION:Central Tech - Field 2
GEO:43.6637272;-79.4087613
CREATED:20180116T153440Z
DTSTART:20180206T040000Z
DTEND:20180206T050000Z
DTSTAMP:20260421T052507Z
SUMMARY:FIFA '98 for Sega Dreamcast vs. Pink Panthers
DESCRIPTION:Pink Panthers vs. FIFA '98 for Sega DreamcastPlus d'info : #362
X-ALT-DESC;FMTTYPE=text/html:<!DOCTYPE HTML PUBLIC "-//W3C//DTD HTML 3.2//E
	N">\n<HTML>\n<HEAD>\n<TITLE></TITLE>\n</HEAD>\n<BODY>\n<h3>Pink Panthers vs
	. FIFA '98 for Sega Dreamcast</h3>Plus d'info : <a href="https://www.golnet
	work.com/game/v/119233/">#362</a>\n\n</BODY>\n</HTML>
STATUS:CONFIRMED
CLASS:PUBLIC
URL:https://www.golnetwork.com/game/v/119233/
X-MICROSOFT-CDO-BUSYSTATUS:BUSY
X-MICROSOFT-CDO-IMPORTANCE:1
END:VEVENT
BEGIN:VEVENT
UID:gc5mj@games.golnetwork.com
LOCATION:Central Tech - Field 3
CREATED:20180116T153348Z
DTSTART:20180130T030000Z
DTEND:20180130T040000Z
DTSTAMP:20260421T052507Z
SUMMARY:Oliver Jewellery vs. FIFA '98 for Sega Dreamcast
DESCRIPTION:FIFA '98 for Sega Dreamcast vs. Oliver JewelleryPlus d'info : #
	268
X-ALT-DESC;FMTTYPE=text/html:<!DOCTYPE HTML PUBLIC "-//W3C//DTD HTML 3.2//E
	N">\n<HTML>\n<HEAD>\n<TITLE></TITLE>\n</HEAD>\n<BODY>\n<h3>FIFA '98 for Seg
	a Dreamcast vs. Oliver Jewellery</h3>Plus d'info : <a href="https://www.gol
	network.com/game/v/119228/">#268</a>\n\n</BODY>\n</HTML>
STATUS:CONFIRMED
CLASS:PUBLIC
URL:https://www.golnetwork.com/game/v/119228/
X-MICROSOFT-CDO-BUSYSTATUS:BUSY
X-MICROSOFT-CDO-IMPORTANCE:1
END:VEVENT
BEGIN:VEVENT
UID:gc5m5@games.golnetwork.com
LOCATION:Central Tech - Field 2
GEO:43.6637272;-79.4087613
CREATED:20180116T153244Z
DTSTART:20180123T020000Z
DTEND:20180123T030000Z
DTSTAMP:20260421T052507Z
SUMMARY:FIFA '98 for Sega Dreamcast vs. Abominable Penguins
DESCRIPTION:Abominable Penguins vs. FIFA '98 for Sega DreamcastPlus d'info 
	: #190
X-ALT-DESC;FMTTYPE=text/html:<!DOCTYPE HTML PUBLIC "-//W3C//DTD HTML 3.2//E
	N">\n<HTML>\n<HEAD>\n<TITLE></TITLE>\n</HEAD>\n<BODY>\n<h3>Abominable Pengu
	ins vs. FIFA '98 for Sega Dreamcast</h3>Plus d'info : <a href="https://www.
	golnetwork.com/game/v/119221/">#190</a>\n\n</BODY>\n</HTML>
STATUS:CONFIRMED
CLASS:PUBLIC
URL:https://www.golnetwork.com/game/v/119221/
X-MICROSOFT-CDO-BUSYSTATUS:BUSY
X-MICROSOFT-CDO-IMPORTANCE:1
END:VEVENT
END:VCALENDAR
