BEGIN:VCALENDAR
PRODID:-//gdesolutions.com//MV Framework 1.0.0.1607 Calendar//EN
VERSION:2.0
METHOD:PUBLISH
CALSCALE:GREGORIAN
BEGIN:VEVENT
UID:gc5pa@games.golnetwork.com
LOCATION:Central Tech - Field 2
GEO:43.6637272;-79.4087613
CREATED:20180116T154026Z
DTSTART:20180320T000000Z
DTEND:20180320T010000Z
DTSTAMP:20260419T212558Z
SUMMARY:6ix Club vs. Abominable Penguins
DESCRIPTION:Abominable Penguins vs. 6ix ClubPlus d'info : #750
X-ALT-DESC;FMTTYPE=text/html:<!DOCTYPE HTML PUBLIC "-//W3C//DTD HTML 3.2//E
	N">\n<HTML>\n<HEAD>\n<TITLE></TITLE>\n</HEAD>\n<BODY>\n<h3>Abominable Pengu
	ins vs. 6ix Club</h3>Plus d'info : <a href="https://www.golnetwork.com/game
	/v/119264/">#750</a>\n\n</BODY>\n</HTML>
STATUS:CONFIRMED
CLASS:PUBLIC
URL:https://www.golnetwork.com/game/v/119264/
X-MICROSOFT-CDO-BUSYSTATUS:BUSY
X-MICROSOFT-CDO-IMPORTANCE:1
END:VEVENT
BEGIN:VEVENT
UID:gc5p6@games.golnetwork.com
LOCATION:Central Tech - Field 2
GEO:43.6637272;-79.4087613
CREATED:20180116T154026Z
DTSTART:20180313T000000Z
DTEND:20180313T010000Z
DTSTAMP:20260419T212558Z
SUMMARY:FIFA '98 for Sega Dreamcast vs. Abominable Penguins
DESCRIPTION:Abominable Penguins vs. FIFA '98 for Sega DreamcastPlus d'info 
	: #707
X-ALT-DESC;FMTTYPE=text/html:<!DOCTYPE HTML PUBLIC "-//W3C//DTD HTML 3.2//E
	N">\n<HTML>\n<HEAD>\n<TITLE></TITLE>\n</HEAD>\n<BODY>\n<h3>Abominable Pengu
	ins vs. FIFA '98 for Sega Dreamcast</h3>Plus d'info : <a href="https://www.
	golnetwork.com/game/v/119262/">#707</a>\n\n</BODY>\n</HTML>
STATUS:CONFIRMED
CLASS:PUBLIC
URL:https://www.golnetwork.com/game/v/119262/
X-MICROSOFT-CDO-BUSYSTATUS:BUSY
X-MICROSOFT-CDO-IMPORTANCE:1
END:VEVENT
END:VCALENDAR
