BEGIN:VCALENDAR
PRODID:-//gdesolutions.com//MV Framework 1.0.0.1607 Calendar//EN
VERSION:2.0
METHOD:PUBLISH
CALSCALE:GREGORIAN
BEGIN:VEVENT
UID:gdo0j@games.golnetwork.com
LOCATION:Lamport Stadium - Field 2
GEO:43.6390028;-79.4232104
CREATED:20181109T160953Z
DTSTART:20190116T000000Z
DTEND:20190116T010000Z
DTSTAMP:20260421T215926Z
SUMMARY:Goldfish Crackers FC vs. XTSC ToeTappers
DESCRIPTION:XTSC ToeTappers vs. Goldfish Crackers FCPlus d'info : #801
X-ALT-DESC;FMTTYPE=text/html:<!DOCTYPE HTML PUBLIC "-//W3C//DTD HTML 3.2//E
	N">\n<HTML>\n<HEAD>\n<TITLE></TITLE>\n</HEAD>\n<BODY>\n<h3>XTSC ToeTappers 
	vs. Goldfish Crackers FC</h3>Plus d'info : <a href="https://www.golnetwork.
	com/game/v/135698/">#801</a>\n\n</BODY>\n</HTML>
STATUS:CONFIRMED
CLASS:PUBLIC
URL:https://www.golnetwork.com/game/v/135698/
X-MICROSOFT-CDO-BUSYSTATUS:BUSY
X-MICROSOFT-CDO-IMPORTANCE:1
END:VEVENT
BEGIN:VEVENT
UID:gdo0f@games.golnetwork.com
LOCATION:Lamport Stadium - Field 2
GEO:43.6390028;-79.4232104
CREATED:20181109T160909Z
DTSTART:20190109T040000Z
DTEND:20190109T050000Z
DTSTAMP:20260421T215926Z
SUMMARY:Sundowns vs. Goldfish Crackers FC
DESCRIPTION:Goldfish Crackers FC vs. SundownsPlus d'info : #761
X-ALT-DESC;FMTTYPE=text/html:<!DOCTYPE HTML PUBLIC "-//W3C//DTD HTML 3.2//E
	N">\n<HTML>\n<HEAD>\n<TITLE></TITLE>\n</HEAD>\n<BODY>\n<h3>Goldfish Cracker
	s FC vs. Sundowns</h3>Plus d'info : <a href="https://www.golnetwork.com/gam
	e/v/135696/">#761</a>\n\n</BODY>\n</HTML>
STATUS:CONFIRMED
CLASS:PUBLIC
URL:https://www.golnetwork.com/game/v/135696/
X-MICROSOFT-CDO-BUSYSTATUS:BUSY
X-MICROSOFT-CDO-IMPORTANCE:1
END:VEVENT
BEGIN:VEVENT
UID:gdo05@games.golnetwork.com
LOCATION:Lamport Stadium - Field 2
GEO:43.6390028;-79.4232104
CREATED:20181109T160625Z
DTSTART:20181219T010000Z
DTEND:20181219T020000Z
DTSTAMP:20260421T215926Z
SUMMARY:Goldfish Crackers FC vs. Purple Drank
DESCRIPTION:Purple Drank vs. Goldfish Crackers FCPlus d'info : #652
X-ALT-DESC;FMTTYPE=text/html:<!DOCTYPE HTML PUBLIC "-//W3C//DTD HTML 3.2//E
	N">\n<HTML>\n<HEAD>\n<TITLE></TITLE>\n</HEAD>\n<BODY>\n<h3>Purple Drank vs.
	 Goldfish Crackers FC</h3>Plus d'info : <a href="https://www.golnetwork.com
	/game/v/135691/">#652</a>\n\n</BODY>\n</HTML>
STATUS:CONFIRMED
CLASS:PUBLIC
URL:https://www.golnetwork.com/game/v/135691/
X-MICROSOFT-CDO-BUSYSTATUS:BUSY
X-MICROSOFT-CDO-IMPORTANCE:1
END:VEVENT
BEGIN:VEVENT
UID:gdnqm@games.golnetwork.com
LOCATION:Lamport Stadium - Field 2
GEO:43.6390028;-79.4232104
CREATED:20181109T160507Z
DTSTART:20181212T030000Z
DTEND:20181212T040000Z
DTSTAMP:20260421T215926Z
SUMMARY:The Grass Kickers vs. Goldfish Crackers FC
DESCRIPTION:Goldfish Crackers FC vs. The Grass KickersPlus d'info : #569
X-ALT-DESC;FMTTYPE=text/html:<!DOCTYPE HTML PUBLIC "-//W3C//DTD HTML 3.2//E
	N">\n<HTML>\n<HEAD>\n<TITLE></TITLE>\n</HEAD>\n<BODY>\n<h3>Goldfish Cracker
	s FC vs. The Grass Kickers</h3>Plus d'info : <a href="https://www.golnetwor
	k.com/game/v/135686/">#569</a>\n\n</BODY>\n</HTML>
STATUS:CONFIRMED
CLASS:PUBLIC
URL:https://www.golnetwork.com/game/v/135686/
X-MICROSOFT-CDO-BUSYSTATUS:BUSY
X-MICROSOFT-CDO-IMPORTANCE:1
END:VEVENT
BEGIN:VEVENT
UID:gdnqc@games.golnetwork.com
LOCATION:Lamport Stadium - Field 2
GEO:43.6390028;-79.4232104
CREATED:20181109T160344Z
DTSTART:20181204T230000Z
DTEND:20181205T000000Z
DTSTAMP:20260421T215926Z
SUMMARY:Goldfish Crackers FC vs. Liberty Street Hooligans
DESCRIPTION:Liberty Street Hooligans vs. Goldfish Crackers FCPlus d'info : 
	#463
X-ALT-DESC;FMTTYPE=text/html:<!DOCTYPE HTML PUBLIC "-//W3C//DTD HTML 3.2//E
	N">\n<HTML>\n<HEAD>\n<TITLE></TITLE>\n</HEAD>\n<BODY>\n<h3>Liberty Street H
	ooligans vs. Goldfish Crackers FC</h3>Plus d'info : <a href="https://www.go
	lnetwork.com/game/v/135681/">#463</a>\n\n</BODY>\n</HTML>
STATUS:CONFIRMED
CLASS:PUBLIC
URL:https://www.golnetwork.com/game/v/135681/
X-MICROSOFT-CDO-BUSYSTATUS:BUSY
X-MICROSOFT-CDO-IMPORTANCE:1
END:VEVENT
BEGIN:VEVENT
UID:gdnq6@games.golnetwork.com
LOCATION:Lamport Stadium - Field 2
GEO:43.6390028;-79.4232104
CREATED:20181109T160300Z
DTSTART:20181128T000000Z
DTEND:20181128T010000Z
DTSTAMP:20260421T215926Z
SUMMARY:TORONTO KFC vs. Goldfish Crackers FC
DESCRIPTION:Goldfish Crackers FC vs. TORONTO KFCPlus d'info : #373
X-ALT-DESC;FMTTYPE=text/html:<!DOCTYPE HTML PUBLIC "-//W3C//DTD HTML 3.2//E
	N">\n<HTML>\n<HEAD>\n<TITLE></TITLE>\n</HEAD>\n<BODY>\n<h3>Goldfish Cracker
	s FC vs. TORONTO KFC</h3>Plus d'info : <a href="https://www.golnetwork.com/
	game/v/135678/">#373</a>\n\n</BODY>\n</HTML>
STATUS:CONFIRMED
CLASS:PUBLIC
URL:https://www.golnetwork.com/game/v/135678/
X-MICROSOFT-CDO-BUSYSTATUS:BUSY
X-MICROSOFT-CDO-IMPORTANCE:1
END:VEVENT
BEGIN:VEVENT
UID:gdnq2@games.golnetwork.com
LOCATION:Lamport Stadium - Field 2
GEO:43.6390028;-79.4232104
CREATED:20181109T160210Z
DTSTART:20181121T040000Z
DTEND:20181121T050000Z
DTSTAMP:20260421T215926Z
SUMMARY:Uberflip FC vs. Goldfish Crackers FC
DESCRIPTION:Goldfish Crackers FC vs. Uberflip FCPlus d'info : #295
X-ALT-DESC;FMTTYPE=text/html:<!DOCTYPE HTML PUBLIC "-//W3C//DTD HTML 3.2//E
	N">\n<HTML>\n<HEAD>\n<TITLE></TITLE>\n</HEAD>\n<BODY>\n<h3>Goldfish Cracker
	s FC vs. Uberflip FC</h3>Plus d'info : <a href="https://www.golnetwork.com/
	game/v/135676/">#295</a>\n\n</BODY>\n</HTML>
STATUS:CONFIRMED
CLASS:PUBLIC
URL:https://www.golnetwork.com/game/v/135676/
X-MICROSOFT-CDO-BUSYSTATUS:BUSY
X-MICROSOFT-CDO-IMPORTANCE:1
END:VEVENT
BEGIN:VEVENT
UID:gdnp9@games.golnetwork.com
LOCATION:Lamport Stadium - Field 2
GEO:43.6390028;-79.4232104
CREATED:20181109T155711Z
DTSTART:20181114T020000Z
DTEND:20181114T030000Z
DTSTAMP:20260421T215926Z
SUMMARY:Goldfish Crackers FC vs. XTSC ToeTappers
DESCRIPTION:XTSC ToeTappers vs. Goldfish Crackers FCPlus d'info : #195
X-ALT-DESC;FMTTYPE=text/html:<!DOCTYPE HTML PUBLIC "-//W3C//DTD HTML 3.2//E
	N">\n<HTML>\n<HEAD>\n<TITLE></TITLE>\n</HEAD>\n<BODY>\n<h3>XTSC ToeTappers 
	vs. Goldfish Crackers FC</h3>Plus d'info : <a href="https://www.golnetwork.
	com/game/v/135666/">#195</a>\n\n</BODY>\n</HTML>
STATUS:CONFIRMED
CLASS:PUBLIC
URL:https://www.golnetwork.com/game/v/135666/
X-MICROSOFT-CDO-BUSYSTATUS:BUSY
X-MICROSOFT-CDO-IMPORTANCE:1
END:VEVENT
END:VCALENDAR
