BEGIN:VCALENDAR
PRODID:-//gdesolutions.com//MV Framework 1.0.0.1607 Calendar//EN
VERSION:2.0
METHOD:PUBLISH
CALSCALE:GREGORIAN
BEGIN:VEVENT
UID:gc7fg@games.golnetwork.com
LOCATION:Lamport Stadium - Field 2
GEO:43.6390028;-79.4232104
CREATED:20180122T180840Z
DTSTART:20180317T020000Z
DTEND:20180317T030000Z
DTSTAMP:20260422T022549Z
SUMMARY:The Knights Who Say NEE!!!! vs. Gladiators FC
DESCRIPTION:Gladiators FC vs. The Knights Who Say NEE!!!!Plus d'info : #737
X-ALT-DESC;FMTTYPE=text/html:<!DOCTYPE HTML PUBLIC "-//W3C//DTD HTML 3.2//E
	N">\n<HTML>\n<HEAD>\n<TITLE></TITLE>\n</HEAD>\n<BODY>\n<h3>Gladiators FC vs
	. The Knights Who Say NEE!!!!</h3>Plus d'info : <a href="https://www.golnet
	work.com/game/v/119861/">#737</a>\n\n</BODY>\n</HTML>
STATUS:CONFIRMED
CLASS:PUBLIC
URL:https://www.golnetwork.com/game/v/119861/
X-MICROSOFT-CDO-BUSYSTATUS:BUSY
X-MICROSOFT-CDO-IMPORTANCE:1
END:VEVENT
BEGIN:VEVENT
UID:gc7fe@games.golnetwork.com
LOCATION:Lamport Stadium - Field 2
GEO:43.6390028;-79.4232104
CREATED:20180122T180835Z
DTSTART:20180310T040000Z
DTEND:20180310T050000Z
DTSTAMP:20260422T022549Z
SUMMARY:Bugatti Baby Bottle Poppers vs. Gladiators FC
DESCRIPTION:Gladiators FC vs. Bugatti Baby Bottle PoppersPlus d'info : #692
X-ALT-DESC;FMTTYPE=text/html:<!DOCTYPE HTML PUBLIC "-//W3C//DTD HTML 3.2//E
	N">\n<HTML>\n<HEAD>\n<TITLE></TITLE>\n</HEAD>\n<BODY>\n<h3>Gladiators FC vs
	. Bugatti Baby Bottle Poppers</h3>Plus d'info : <a href="https://www.golnet
	work.com/game/v/119860/">#692</a>\n\n</BODY>\n</HTML>
STATUS:CONFIRMED
CLASS:PUBLIC
URL:https://www.golnetwork.com/game/v/119860/
X-MICROSOFT-CDO-BUSYSTATUS:BUSY
X-MICROSOFT-CDO-IMPORTANCE:1
END:VEVENT
BEGIN:VEVENT
UID:gc7f8@games.golnetwork.com
LOCATION:Lamport Stadium - Field 2
GEO:43.6390028;-79.4232104
CREATED:20180122T180750Z
DTSTART:20180303T010000Z
DTEND:20180303T020000Z
DTSTAMP:20260422T022549Z
SUMMARY: Drama Queens vs. Gladiators FC
DESCRIPTION:Gladiators FC vs.  Drama QueensPlus d'info : #628
X-ALT-DESC;FMTTYPE=text/html:<!DOCTYPE HTML PUBLIC "-//W3C//DTD HTML 3.2//E
	N">\n<HTML>\n<HEAD>\n<TITLE></TITLE>\n</HEAD>\n<BODY>\n<h3>Gladiators FC vs
	.  Drama Queens</h3>Plus d'info : <a href="https://www.golnetwork.com/game/
	v/119857/">#628</a>\n\n</BODY>\n</HTML>
STATUS:CONFIRMED
CLASS:PUBLIC
URL:https://www.golnetwork.com/game/v/119857/
X-MICROSOFT-CDO-BUSYSTATUS:BUSY
X-MICROSOFT-CDO-IMPORTANCE:1
END:VEVENT
BEGIN:VEVENT
UID:gc7f6@games.golnetwork.com
LOCATION:Lamport Stadium - Field 2
GEO:43.6390028;-79.4232104
CREATED:20180122T180737Z
DTSTART:20180224T040000Z
DTEND:20180224T050000Z
DTSTAMP:20260422T022549Z
SUMMARY:Gladiators FC vs. All Ballz
DESCRIPTION:All Ballz vs. Gladiators FCPlus d'info : #555
X-ALT-DESC;FMTTYPE=text/html:<!DOCTYPE HTML PUBLIC "-//W3C//DTD HTML 3.2//E
	N">\n<HTML>\n<HEAD>\n<TITLE></TITLE>\n</HEAD>\n<BODY>\n<h3>All Ballz vs. Gl
	adiators FC</h3>Plus d'info : <a href="https://www.golnetwork.com/game/v/11
	9856/">#555</a>\n\n</BODY>\n</HTML>
STATUS:CONFIRMED
CLASS:PUBLIC
URL:https://www.golnetwork.com/game/v/119856/
X-MICROSOFT-CDO-BUSYSTATUS:BUSY
X-MICROSOFT-CDO-IMPORTANCE:1
END:VEVENT
BEGIN:VEVENT
UID:gc7ep@games.golnetwork.com
LOCATION:Lamport Stadium - Field 2
GEO:43.6390028;-79.4232104
CREATED:20180122T180311Z
DTSTART:20180217T010000Z
DTEND:20180217T020000Z
DTSTAMP:20260422T022549Z
SUMMARY:Gladiators FC vs. Olifanten FC
DESCRIPTION:Olifanten FC vs. Gladiators FCPlus d'info : #491
X-ALT-DESC;FMTTYPE=text/html:<!DOCTYPE HTML PUBLIC "-//W3C//DTD HTML 3.2//E
	N">\n<HTML>\n<HEAD>\n<TITLE></TITLE>\n</HEAD>\n<BODY>\n<h3>Olifanten FC vs.
	 Gladiators FC</h3>Plus d'info : <a href="https://www.golnetwork.com/game/v
	/119852/">#491</a>\n\n</BODY>\n</HTML>
STATUS:CONFIRMED
CLASS:PUBLIC
URL:https://www.golnetwork.com/game/v/119852/
X-MICROSOFT-CDO-BUSYSTATUS:BUSY
X-MICROSOFT-CDO-IMPORTANCE:1
END:VEVENT
BEGIN:VEVENT
UID:gc7ej@games.golnetwork.com
LOCATION:Lamport Stadium - Field 2
GEO:43.6390028;-79.4232104
CREATED:20180122T180230Z
DTSTART:20180210T020000Z
DTEND:20180210T030000Z
DTSTAMP:20260422T022549Z
SUMMARY:The Knights Who Say NEE!!!! vs. Gladiators FC
DESCRIPTION:Gladiators FC vs. The Knights Who Say NEE!!!!Plus d'info : #408
X-ALT-DESC;FMTTYPE=text/html:<!DOCTYPE HTML PUBLIC "-//W3C//DTD HTML 3.2//E
	N">\n<HTML>\n<HEAD>\n<TITLE></TITLE>\n</HEAD>\n<BODY>\n<h3>Gladiators FC vs
	. The Knights Who Say NEE!!!!</h3>Plus d'info : <a href="https://www.golnet
	work.com/game/v/119849/">#408</a>\n\n</BODY>\n</HTML>
STATUS:CONFIRMED
CLASS:PUBLIC
URL:https://www.golnetwork.com/game/v/119849/
X-MICROSOFT-CDO-BUSYSTATUS:BUSY
X-MICROSOFT-CDO-IMPORTANCE:1
END:VEVENT
BEGIN:VEVENT
UID:gc7eb@games.golnetwork.com
LOCATION:Lamport Stadium - Field 2
GEO:43.6390028;-79.4232104
CREATED:20180122T180141Z
DTSTART:20180203T000000Z
DTEND:20180203T010000Z
DTSTAMP:20260422T022549Z
SUMMARY:Bugatti Baby Bottle Poppers vs. Gladiators FC
DESCRIPTION:Gladiators FC vs. Bugatti Baby Bottle PoppersPlus d'info : #321
X-ALT-DESC;FMTTYPE=text/html:<!DOCTYPE HTML PUBLIC "-//W3C//DTD HTML 3.2//E
	N">\n<HTML>\n<HEAD>\n<TITLE></TITLE>\n</HEAD>\n<BODY>\n<h3>Gladiators FC vs
	. Bugatti Baby Bottle Poppers</h3>Plus d'info : <a href="https://www.golnet
	work.com/game/v/119845/">#321</a>\n\n</BODY>\n</HTML>
STATUS:CONFIRMED
CLASS:PUBLIC
URL:https://www.golnetwork.com/game/v/119845/
X-MICROSOFT-CDO-BUSYSTATUS:BUSY
X-MICROSOFT-CDO-IMPORTANCE:1
END:VEVENT
BEGIN:VEVENT
UID:gc7e5@games.golnetwork.com
LOCATION:Lamport Stadium - Field 2
GEO:43.6390028;-79.4232104
CREATED:20180122T180102Z
DTSTART:20180127T000000Z
DTEND:20180127T010000Z
DTSTAMP:20260422T022549Z
SUMMARY: Drama Queens vs. Gladiators FC
DESCRIPTION:Gladiators FC vs.  Drama QueensPlus d'info : #229
X-ALT-DESC;FMTTYPE=text/html:<!DOCTYPE HTML PUBLIC "-//W3C//DTD HTML 3.2//E
	N">\n<HTML>\n<HEAD>\n<TITLE></TITLE>\n</HEAD>\n<BODY>\n<h3>Gladiators FC vs
	.  Drama Queens</h3>Plus d'info : <a href="https://www.golnetwork.com/game/
	v/119842/">#229</a>\n\n</BODY>\n</HTML>
STATUS:CONFIRMED
CLASS:PUBLIC
URL:https://www.golnetwork.com/game/v/119842/
X-MICROSOFT-CDO-BUSYSTATUS:BUSY
X-MICROSOFT-CDO-IMPORTANCE:1
END:VEVENT
BEGIN:VEVENT
UID:gc3m7@games.golnetwork.com
LOCATION:Lamport Stadium - Field 2
GEO:43.6390028;-79.4232104
CREATED:20180112T142949Z
DTSTART:20180120T030000Z
DTEND:20180120T040000Z
DTSTAMP:20260422T022549Z
SUMMARY:Gladiators FC vs. All Ballz
DESCRIPTION:All Ballz vs. Gladiators FCPlus d'info : #167
X-ALT-DESC;FMTTYPE=text/html:<!DOCTYPE HTML PUBLIC "-//W3C//DTD HTML 3.2//E
	N">\n<HTML>\n<HEAD>\n<TITLE></TITLE>\n</HEAD>\n<BODY>\n<h3>All Ballz vs. Gl
	adiators FC</h3>Plus d'info : <a href="https://www.golnetwork.com/game/v/11
	8493/">#167</a>\n\n</BODY>\n</HTML>
STATUS:CONFIRMED
CLASS:PUBLIC
URL:https://www.golnetwork.com/game/v/118493/
X-MICROSOFT-CDO-BUSYSTATUS:BUSY
X-MICROSOFT-CDO-IMPORTANCE:1
END:VEVENT
END:VCALENDAR
