BEGIN:VCALENDAR
PRODID:-//gdesolutions.com//MV Framework 1.0.0.1607 Calendar//EN
VERSION:2.0
METHOD:PUBLISH
CALSCALE:GREGORIAN
BEGIN:VEVENT
UID:gf22b@games.golnetwork.com
LOCATION:St Patrick - Field 3
CREATED:20190712T173931Z
DTSTART:20190904T005000Z
DTEND:20190904T015000Z
DTSTAMP:20260422T154640Z
SUMMARY:Wii Not Fit FC vs. Wellington United
DESCRIPTION:Wellington United vs. Wii Not Fit FCPlus d'info : #461
X-ALT-DESC;FMTTYPE=text/html:<!DOCTYPE HTML PUBLIC "-//W3C//DTD HTML 3.2//E
	N">\n<HTML>\n<HEAD>\n<TITLE></TITLE>\n</HEAD>\n<BODY>\n<h3>Wellington Unite
	d vs. Wii Not Fit FC</h3>Plus d'info : <a href="https://www.golnetwork.com/
	game/v/147385/">#461</a>\n\n</BODY>\n</HTML>
STATUS:CONFIRMED
CLASS:PUBLIC
URL:https://www.golnetwork.com/game/v/147385/
X-MICROSOFT-CDO-BUSYSTATUS:BUSY
X-MICROSOFT-CDO-IMPORTANCE:1
END:VEVENT
END:VCALENDAR
