BEGIN:VCALENDAR
PRODID:-//gdesolutions.com//MV Framework 1.0.0.1607 Calendar//EN
VERSION:2.0
METHOD:PUBLISH
CALSCALE:GREGORIAN
BEGIN:VEVENT
UID:gf68f@games.golnetwork.com
LOCATION:Cherry Beach East 2
CREATED:20190814T185837Z
DTSTART:20191120T020000Z
DTEND:20191120T030000Z
DTSTAMP:20260419T195457Z
SUMMARY:School of Scoulos vs. SWAT
DESCRIPTION:SWAT vs. School of ScoulosPlus d'info : #1136
X-ALT-DESC;FMTTYPE=text/html:<!DOCTYPE HTML PUBLIC "-//W3C//DTD HTML 3.2//E
	N">\n<HTML>\n<HEAD>\n<TITLE></TITLE>\n</HEAD>\n<BODY>\n<h3>SWAT vs. School 
	of Scoulos</h3>Plus d'info : <a href="https://www.golnetwork.com/game/v/148
	926/">#1136</a>\n\n</BODY>\n</HTML>
STATUS:CONFIRMED
CLASS:PUBLIC
URL:https://www.golnetwork.com/game/v/148926/
X-MICROSOFT-CDO-BUSYSTATUS:BUSY
X-MICROSOFT-CDO-IMPORTANCE:1
END:VEVENT
BEGIN:VEVENT
UID:gf68b@games.golnetwork.com
LOCATION:Cherry Beach East 2
CREATED:20190814T185837Z
DTSTART:20191106T020000Z
DTEND:20191106T030000Z
DTSTAMP:20260419T195457Z
SUMMARY:The Hot Messi's vs. SWAT
DESCRIPTION:SWAT vs. The Hot Messi'sPlus d'info : #1120
X-ALT-DESC;FMTTYPE=text/html:<!DOCTYPE HTML PUBLIC "-//W3C//DTD HTML 3.2//E
	N">\n<HTML>\n<HEAD>\n<TITLE></TITLE>\n</HEAD>\n<BODY>\n<h3>SWAT vs. The Hot
	 Messi's</h3>Plus d'info : <a href="https://www.golnetwork.com/game/v/14892
	4/">#1120</a>\n\n</BODY>\n</HTML>
STATUS:CONFIRMED
CLASS:PUBLIC
URL:https://www.golnetwork.com/game/v/148924/
X-MICROSOFT-CDO-BUSYSTATUS:BUSY
X-MICROSOFT-CDO-IMPORTANCE:1
END:VEVENT
BEGIN:VEVENT
UID:gf683@games.golnetwork.com
LOCATION:Cherry Beach East 2
CREATED:20190814T185837Z
DTSTART:20191030T010000Z
DTEND:20191030T020000Z
DTSTAMP:20260419T195457Z
SUMMARY:Low Expectations vs. SWAT
DESCRIPTION:SWAT vs. Low ExpectationsPlus d'info : #1095
X-ALT-DESC;FMTTYPE=text/html:<!DOCTYPE HTML PUBLIC "-//W3C//DTD HTML 3.2//E
	N">\n<HTML>\n<HEAD>\n<TITLE></TITLE>\n</HEAD>\n<BODY>\n<h3>SWAT vs. Low Exp
	ectations</h3>Plus d'info : <a href="https://www.golnetwork.com/game/v/1489
	20/">#1095</a>\n\n</BODY>\n</HTML>
STATUS:CONFIRMED
CLASS:PUBLIC
URL:https://www.golnetwork.com/game/v/148920/
X-MICROSOFT-CDO-BUSYSTATUS:BUSY
X-MICROSOFT-CDO-IMPORTANCE:1
END:VEVENT
END:VCALENDAR
