BEGIN:VCALENDAR
PRODID:-//gdesolutions.com//MV Framework 1.0.0.1607 Calendar//EN
VERSION:2.0
METHOD:PUBLISH
CALSCALE:GREGORIAN
BEGIN:VEVENT
UID:gejed@games.golnetwork.com
LOCATION:King Edward - Field 1
CREATED:20190517T202943Z
DTSTART:20190701T230000Z
DTEND:20190702T000000Z
DTSTAMP:20260421T235254Z
SUMMARY:Buddy Bears vs. eOne
DESCRIPTION:eOne vs. Buddy BearsPlus d'info : #469
X-ALT-DESC;FMTTYPE=text/html:<!DOCTYPE HTML PUBLIC "-//W3C//DTD HTML 3.2//E
	N">\n<HTML>\n<HEAD>\n<TITLE></TITLE>\n</HEAD>\n<BODY>\n<h3>eOne vs. Buddy B
	ears</h3>Plus d'info : <a href="https://www.golnetwork.com/game/v/143903/">
	#469</a>\n\n</BODY>\n</HTML>
STATUS:CONFIRMED
CLASS:PUBLIC
URL:https://www.golnetwork.com/game/v/143903/
X-MICROSOFT-CDO-BUSYSTATUS:BUSY
X-MICROSOFT-CDO-IMPORTANCE:1
END:VEVENT
BEGIN:VEVENT
UID:geje9@games.golnetwork.com
LOCATION:King Edward - Field 1
CREATED:20190517T202926Z
DTSTART:20190625T000000Z
DTEND:20190625T010000Z
DTSTAMP:20260421T235254Z
SUMMARY:eOne vs. Pub United
DESCRIPTION:Pub United vs. eOnePlus d'info : #431
X-ALT-DESC;FMTTYPE=text/html:<!DOCTYPE HTML PUBLIC "-//W3C//DTD HTML 3.2//E
	N">\n<HTML>\n<HEAD>\n<TITLE></TITLE>\n</HEAD>\n<BODY>\n<h3>Pub United vs. e
	One</h3>Plus d'info : <a href="https://www.golnetwork.com/game/v/143901/">#
	431</a>\n\n</BODY>\n</HTML>
STATUS:CONFIRMED
CLASS:PUBLIC
URL:https://www.golnetwork.com/game/v/143901/
X-MICROSOFT-CDO-BUSYSTATUS:BUSY
X-MICROSOFT-CDO-IMPORTANCE:1
END:VEVENT
BEGIN:VEVENT
UID:geje1@games.golnetwork.com
LOCATION:King Edward - Field 1
CREATED:20190517T202857Z
DTSTART:20190617T230000Z
DTEND:20190618T000000Z
DTSTAMP:20260421T235254Z
SUMMARY:WE FC vs. eOne
DESCRIPTION:eOne vs. WE FCPlus d'info : #372
X-ALT-DESC;FMTTYPE=text/html:<!DOCTYPE HTML PUBLIC "-//W3C//DTD HTML 3.2//E
	N">\n<HTML>\n<HEAD>\n<TITLE></TITLE>\n</HEAD>\n<BODY>\n<h3>eOne vs. WE FC</
	h3>Plus d'info : <a href="https://www.golnetwork.com/game/v/143897/">#372</
	a>\n\n</BODY>\n</HTML>
STATUS:CONFIRMED
CLASS:PUBLIC
URL:https://www.golnetwork.com/game/v/143897/
X-MICROSOFT-CDO-BUSYSTATUS:BUSY
X-MICROSOFT-CDO-IMPORTANCE:1
END:VEVENT
BEGIN:VEVENT
UID:gejdq@games.golnetwork.com
LOCATION:King Edward - Field 1
CREATED:20190517T202851Z
DTSTART:20190617T220000Z
DTEND:20190617T230000Z
DTSTAMP:20260421T235254Z
SUMMARY:Buddy Bears vs. eOne
DESCRIPTION:eOne vs. Buddy BearsPlus d'info : #366
X-ALT-DESC;FMTTYPE=text/html:<!DOCTYPE HTML PUBLIC "-//W3C//DTD HTML 3.2//E
	N">\n<HTML>\n<HEAD>\n<TITLE></TITLE>\n</HEAD>\n<BODY>\n<h3>eOne vs. Buddy B
	ears</h3>Plus d'info : <a href="https://www.golnetwork.com/game/v/143896/">
	#366</a>\n\n</BODY>\n</HTML>
STATUS:CONFIRMED
CLASS:PUBLIC
URL:https://www.golnetwork.com/game/v/143896/
X-MICROSOFT-CDO-BUSYSTATUS:BUSY
X-MICROSOFT-CDO-IMPORTANCE:1
END:VEVENT
BEGIN:VEVENT
UID:gejdo@games.golnetwork.com
LOCATION:King Edward - Field 1
CREATED:20190517T202842Z
DTSTART:20190611T000000Z
DTEND:20190611T010000Z
DTSTAMP:20260421T235254Z
SUMMARY:Tie Dye vs. eOne
DESCRIPTION:eOne vs. Tie DyePlus d'info : #329
X-ALT-DESC;FMTTYPE=text/html:<!DOCTYPE HTML PUBLIC "-//W3C//DTD HTML 3.2//E
	N">\n<HTML>\n<HEAD>\n<TITLE></TITLE>\n</HEAD>\n<BODY>\n<h3>eOne vs. Tie Dye
	</h3>Plus d'info : <a href="https://www.golnetwork.com/game/v/143895/">#329
	</a>\n\n</BODY>\n</HTML>
STATUS:CONFIRMED
CLASS:PUBLIC
URL:https://www.golnetwork.com/game/v/143895/
X-MICROSOFT-CDO-BUSYSTATUS:BUSY
X-MICROSOFT-CDO-IMPORTANCE:1
END:VEVENT
BEGIN:VEVENT
UID:gej3a@games.golnetwork.com
LOCATION:King Edward - Field 1
CREATED:20190514T205158Z
DTSTART:20190603T220000Z
DTEND:20190603T230000Z
DTSTAMP:20260421T235254Z
SUMMARY:Pub United vs. eOne
DESCRIPTION:eOne vs. Pub UnitedPlus d'info : #247
X-ALT-DESC;FMTTYPE=text/html:<!DOCTYPE HTML PUBLIC "-//W3C//DTD HTML 3.2//E
	N">\n<HTML>\n<HEAD>\n<TITLE></TITLE>\n</HEAD>\n<BODY>\n<h3>eOne vs. Pub Uni
	ted</h3>Plus d'info : <a href="https://www.golnetwork.com/game/v/143753/">#
	247</a>\n\n</BODY>\n</HTML>
STATUS:CONFIRMED
CLASS:PUBLIC
URL:https://www.golnetwork.com/game/v/143753/
X-MICROSOFT-CDO-BUSYSTATUS:BUSY
X-MICROSOFT-CDO-IMPORTANCE:1
END:VEVENT
END:VCALENDAR
