BEGIN:VCALENDAR
PRODID:-//gdesolutions.com//MV Framework 1.0.0.1607 Calendar//EN
VERSION:2.0
METHOD:PUBLISH
CALSCALE:GREGORIAN
BEGIN:VEVENT
UID:gdma3@games.golnetwork.com
LOCATION:Central Tech - Field 2
GEO:43.6637272;-79.4087613
CREATED:20181030T190807Z
DTSTART:20190110T020000Z
DTEND:20190110T025000Z
DTSTAMP:20260422T065703Z
SUMMARY:Gran Reserva vs. MOTORSPORT
DESCRIPTION:MOTORSPORT vs. Gran ReservaPlus d'info : #420
X-ALT-DESC;FMTTYPE=text/html:<!DOCTYPE HTML PUBLIC "-//W3C//DTD HTML 3.2//E
	N">\n<HTML>\n<HEAD>\n<TITLE></TITLE>\n</HEAD>\n<BODY>\n<h3>MOTORSPORT vs. G
	ran Reserva</h3>Plus d'info : <a href="https://www.golnetwork.com/game/v/13
	5096/">#420</a>\n\n</BODY>\n</HTML>
STATUS:CONFIRMED
CLASS:PUBLIC
URL:https://www.golnetwork.com/game/v/135096/
X-MICROSOFT-CDO-BUSYSTATUS:BUSY
X-MICROSOFT-CDO-IMPORTANCE:1
END:VEVENT
BEGIN:VEVENT
UID:gdma1@games.golnetwork.com
LOCATION:Central Tech - Field 3
CREATED:20181030T190803Z
DTSTART:20190103T020000Z
DTEND:20190103T025000Z
DTSTAMP:20260422T065703Z
SUMMARY:Akelius vs. Gran Reserva
DESCRIPTION:Gran Reserva vs. AkeliusPlus d'info : #388
X-ALT-DESC;FMTTYPE=text/html:<!DOCTYPE HTML PUBLIC "-//W3C//DTD HTML 3.2//E
	N">\n<HTML>\n<HEAD>\n<TITLE></TITLE>\n</HEAD>\n<BODY>\n<h3>Gran Reserva vs.
	 Akelius</h3>Plus d'info : <a href="https://www.golnetwork.com/game/v/13509
	5/">#388</a>\n\n</BODY>\n</HTML>
STATUS:CONFIRMED
CLASS:PUBLIC
URL:https://www.golnetwork.com/game/v/135095/
X-MICROSOFT-CDO-BUSYSTATUS:BUSY
X-MICROSOFT-CDO-IMPORTANCE:1
END:VEVENT
BEGIN:VEVENT
UID:gdm9m@games.golnetwork.com
LOCATION:Central Tech - Field 2
GEO:43.6637272;-79.4087613
CREATED:20181030T190735Z
DTSTART:20181220T010000Z
DTEND:20181220T015000Z
DTSTAMP:20260422T065703Z
SUMMARY:Gran Reserva vs. Panna FC
DESCRIPTION:Panna FC vs. Gran ReservaPlus d'info : #363
X-ALT-DESC;FMTTYPE=text/html:<!DOCTYPE HTML PUBLIC "-//W3C//DTD HTML 3.2//E
	N">\n<HTML>\n<HEAD>\n<TITLE></TITLE>\n</HEAD>\n<BODY>\n<h3>Panna FC vs. Gra
	n Reserva</h3>Plus d'info : <a href="https://www.golnetwork.com/game/v/1350
	92/">#363</a>\n\n</BODY>\n</HTML>
STATUS:CONFIRMED
CLASS:PUBLIC
URL:https://www.golnetwork.com/game/v/135092/
X-MICROSOFT-CDO-BUSYSTATUS:BUSY
X-MICROSOFT-CDO-IMPORTANCE:1
END:VEVENT
BEGIN:VEVENT
UID:gdm9i@games.golnetwork.com
LOCATION:Central Tech - Field 2
GEO:43.6637272;-79.4087613
CREATED:20181030T190659Z
DTSTART:20181213T030000Z
DTEND:20181213T035000Z
DTSTAMP:20260422T065703Z
SUMMARY:Akelius vs. Gran Reserva
DESCRIPTION:Gran Reserva vs. AkeliusPlus d'info : #311
X-ALT-DESC;FMTTYPE=text/html:<!DOCTYPE HTML PUBLIC "-//W3C//DTD HTML 3.2//E
	N">\n<HTML>\n<HEAD>\n<TITLE></TITLE>\n</HEAD>\n<BODY>\n<h3>Gran Reserva vs.
	 Akelius</h3>Plus d'info : <a href="https://www.golnetwork.com/game/v/13509
	0/">#311</a>\n\n</BODY>\n</HTML>
STATUS:CONFIRMED
CLASS:PUBLIC
URL:https://www.golnetwork.com/game/v/135090/
X-MICROSOFT-CDO-BUSYSTATUS:BUSY
X-MICROSOFT-CDO-IMPORTANCE:1
END:VEVENT
BEGIN:VEVENT
UID:gdm9e@games.golnetwork.com
LOCATION:Central Tech - Field 3
CREATED:20181030T190634Z
DTSTART:20181206T030000Z
DTEND:20181206T035000Z
DTSTAMP:20260422T065703Z
SUMMARY:Gran Reserva vs. Annex FC
DESCRIPTION:Annex FC vs. Gran ReservaPlus d'info : #260
X-ALT-DESC;FMTTYPE=text/html:<!DOCTYPE HTML PUBLIC "-//W3C//DTD HTML 3.2//E
	N">\n<HTML>\n<HEAD>\n<TITLE></TITLE>\n</HEAD>\n<BODY>\n<h3>Annex FC vs. Gra
	n Reserva</h3>Plus d'info : <a href="https://www.golnetwork.com/game/v/1350
	88/">#260</a>\n\n</BODY>\n</HTML>
STATUS:CONFIRMED
CLASS:PUBLIC
URL:https://www.golnetwork.com/game/v/135088/
X-MICROSOFT-CDO-BUSYSTATUS:BUSY
X-MICROSOFT-CDO-IMPORTANCE:1
END:VEVENT
BEGIN:VEVENT
UID:gdm94@games.golnetwork.com
LOCATION:Central Tech - Field 3
CREATED:20181030T190549Z
DTSTART:20181129T000000Z
DTEND:20181129T005000Z
DTSTAMP:20260422T065703Z
SUMMARY:MOTORSPORT vs. Gran Reserva
DESCRIPTION:Gran Reserva vs. MOTORSPORTPlus d'info : #205
X-ALT-DESC;FMTTYPE=text/html:<!DOCTYPE HTML PUBLIC "-//W3C//DTD HTML 3.2//E
	N">\n<HTML>\n<HEAD>\n<TITLE></TITLE>\n</HEAD>\n<BODY>\n<h3>Gran Reserva vs.
	 MOTORSPORT</h3>Plus d'info : <a href="https://www.golnetwork.com/game/v/13
	5083/">#205</a>\n\n</BODY>\n</HTML>
STATUS:CONFIRMED
CLASS:PUBLIC
URL:https://www.golnetwork.com/game/v/135083/
X-MICROSOFT-CDO-BUSYSTATUS:BUSY
X-MICROSOFT-CDO-IMPORTANCE:1
END:VEVENT
BEGIN:VEVENT
UID:gdm92@games.golnetwork.com
LOCATION:Central Tech - Field 3
CREATED:20181030T190539Z
DTSTART:20181122T040000Z
DTEND:20181122T045000Z
DTSTAMP:20260422T065703Z
SUMMARY:Saulter St Brewers vs. Gran Reserva
DESCRIPTION:Gran Reserva vs. Saulter St BrewersPlus d'info : #156
X-ALT-DESC;FMTTYPE=text/html:<!DOCTYPE HTML PUBLIC "-//W3C//DTD HTML 3.2//E
	N">\n<HTML>\n<HEAD>\n<TITLE></TITLE>\n</HEAD>\n<BODY>\n<h3>Gran Reserva vs.
	 Saulter St Brewers</h3>Plus d'info : <a href="https://www.golnetwork.com/g
	ame/v/135082/">#156</a>\n\n</BODY>\n</HTML>
STATUS:CONFIRMED
CLASS:PUBLIC
URL:https://www.golnetwork.com/game/v/135082/
X-MICROSOFT-CDO-BUSYSTATUS:BUSY
X-MICROSOFT-CDO-IMPORTANCE:1
END:VEVENT
BEGIN:VEVENT
UID:gdm8j@games.golnetwork.com
LOCATION:Central Tech - Field 2
GEO:43.6637272;-79.4087613
CREATED:20181030T190449Z
DTSTART:20181115T010000Z
DTEND:20181115T015000Z
DTSTAMP:20260422T065703Z
SUMMARY:Gran Reserva vs. Panna FC
DESCRIPTION:Panna FC vs. Gran ReservaPlus d'info : #104
X-ALT-DESC;FMTTYPE=text/html:<!DOCTYPE HTML PUBLIC "-//W3C//DTD HTML 3.2//E
	N">\n<HTML>\n<HEAD>\n<TITLE></TITLE>\n</HEAD>\n<BODY>\n<h3>Panna FC vs. Gra
	n Reserva</h3>Plus d'info : <a href="https://www.golnetwork.com/game/v/1350
	77/">#104</a>\n\n</BODY>\n</HTML>
STATUS:CONFIRMED
CLASS:PUBLIC
URL:https://www.golnetwork.com/game/v/135077/
X-MICROSOFT-CDO-BUSYSTATUS:BUSY
X-MICROSOFT-CDO-IMPORTANCE:1
END:VEVENT
BEGIN:VEVENT
UID:gdm8f@games.golnetwork.com
LOCATION:Central Tech - Field 2
GEO:43.6637272;-79.4087613
CREATED:20181030T190429Z
DTSTART:20181108T020000Z
DTEND:20181108T025000Z
DTSTAMP:20260422T065703Z
SUMMARY:Gran Reserva vs. Akelius
DESCRIPTION:Akelius vs. Gran ReservaPlus d'info : #64
X-ALT-DESC;FMTTYPE=text/html:<!DOCTYPE HTML PUBLIC "-//W3C//DTD HTML 3.2//E
	N">\n<HTML>\n<HEAD>\n<TITLE></TITLE>\n</HEAD>\n<BODY>\n<h3>Akelius vs. Gran
	 Reserva</h3>Plus d'info : <a href="https://www.golnetwork.com/game/v/13507
	5/">#64</a>\n\n</BODY>\n</HTML>
STATUS:CONFIRMED
CLASS:PUBLIC
URL:https://www.golnetwork.com/game/v/135075/
X-MICROSOFT-CDO-BUSYSTATUS:BUSY
X-MICROSOFT-CDO-IMPORTANCE:1
END:VEVENT
END:VCALENDAR
