BEGIN:VCALENDAR
PRODID:-//gdesolutions.com//MV Framework 1.0.0.1607 Calendar//EN
VERSION:2.0
METHOD:PUBLISH
CALSCALE:GREGORIAN
BEGIN:VEVENT
UID:ge5pe@games.golnetwork.com
LOCATION:Fieldhouse B
GEO:45.10662;-94.578209
CREATED:20190109T182759Z
DTSTART:20190324T210000Z
DTEND:20190324T220000Z
DTSTAMP:20260419T224445Z
SUMMARY:Rim Jabs vs. Hot Pockets
DESCRIPTION:Hot Pockets vs. Rim JabsPlus d'info : #123
X-ALT-DESC;FMTTYPE=text/html:<!DOCTYPE HTML PUBLIC "-//W3C//DTD HTML 3.2//E
	N">\n<HTML>\n<HEAD>\n<TITLE></TITLE>\n</HEAD>\n<BODY>\n<h3>Hot Pockets vs. 
	Rim Jabs</h3>Plus d'info : <a href="https://www.golnetwork.com/game/v/13894
	9/">#123</a>\n\n</BODY>\n</HTML>
STATUS:CONFIRMED
CLASS:PUBLIC
URL:https://www.golnetwork.com/game/v/138949/
X-MICROSOFT-CDO-BUSYSTATUS:BUSY
X-MICROSOFT-CDO-IMPORTANCE:1
END:VEVENT
BEGIN:VEVENT
UID:ge5on@games.golnetwork.com
LOCATION:Fieldhouse B
GEO:45.10662;-94.578209
CREATED:20190109T182759Z
DTSTART:20190324T203000Z
DTEND:20190324T213000Z
DTSTAMP:20260419T224445Z
SUMMARY:Rim Jabs vs. Spike and Morty
DESCRIPTION:Spike and Morty vs. Rim JabsPlus d'info : #114
X-ALT-DESC;FMTTYPE=text/html:<!DOCTYPE HTML PUBLIC "-//W3C//DTD HTML 3.2//E
	N">\n<HTML>\n<HEAD>\n<TITLE></TITLE>\n</HEAD>\n<BODY>\n<h3>Spike and Morty 
	vs. Rim Jabs</h3>Plus d'info : <a href="https://www.golnetwork.com/game/v/1
	38940/">#114</a>\n\n</BODY>\n</HTML>
STATUS:CONFIRMED
CLASS:PUBLIC
URL:https://www.golnetwork.com/game/v/138940/
X-MICROSOFT-CDO-BUSYSTATUS:BUSY
X-MICROSOFT-CDO-IMPORTANCE:1
END:VEVENT
BEGIN:VEVENT
UID:ge5of@games.golnetwork.com
LOCATION:Fieldhouse B
GEO:45.10662;-94.578209
CREATED:20190109T182759Z
DTSTART:20190324T200000Z
DTEND:20190324T210000Z
DTSTAMP:20260419T224445Z
SUMMARY:Rim Jabs vs. 3544
DESCRIPTION:3544 vs. Rim JabsPlus d'info : #110
X-ALT-DESC;FMTTYPE=text/html:<!DOCTYPE HTML PUBLIC "-//W3C//DTD HTML 3.2//E
	N">\n<HTML>\n<HEAD>\n<TITLE></TITLE>\n</HEAD>\n<BODY>\n<h3>3544 vs. Rim Jab
	s</h3>Plus d'info : <a href="https://www.golnetwork.com/game/v/138936/">#11
	0</a>\n\n</BODY>\n</HTML>
STATUS:CONFIRMED
CLASS:PUBLIC
URL:https://www.golnetwork.com/game/v/138936/
X-MICROSOFT-CDO-BUSYSTATUS:BUSY
X-MICROSOFT-CDO-IMPORTANCE:1
END:VEVENT
BEGIN:VEVENT
UID:ge5o9@games.golnetwork.com
LOCATION:Fieldhouse B
GEO:45.10662;-94.578209
CREATED:20190109T182759Z
DTSTART:20190321T011500Z
DTEND:20190321T021500Z
DTSTAMP:20260419T224445Z
SUMMARY:Spikological Warfare vs. Rim Jabs
DESCRIPTION:Rim Jabs vs. Spikological WarfarePlus d'info : #107
X-ALT-DESC;FMTTYPE=text/html:<!DOCTYPE HTML PUBLIC "-//W3C//DTD HTML 3.2//E
	N">\n<HTML>\n<HEAD>\n<TITLE></TITLE>\n</HEAD>\n<BODY>\n<h3>Rim Jabs vs. Spi
	kological Warfare</h3>Plus d'info : <a href="https://www.golnetwork.com/gam
	e/v/138933/">#107</a>\n\n</BODY>\n</HTML>
STATUS:CONFIRMED
CLASS:PUBLIC
URL:https://www.golnetwork.com/game/v/138933/
X-MICROSOFT-CDO-BUSYSTATUS:BUSY
X-MICROSOFT-CDO-IMPORTANCE:1
END:VEVENT
BEGIN:VEVENT
UID:ge5nq@games.golnetwork.com
LOCATION:Fieldhouse B
GEO:45.10662;-94.578209
CREATED:20190109T182759Z
DTSTART:20190321T004500Z
DTEND:20190321T014500Z
DTSTAMP:20260419T224445Z
SUMMARY:BoAs vs. Rim Jabs
DESCRIPTION:Rim Jabs vs. BoAsPlus d'info : #102
X-ALT-DESC;FMTTYPE=text/html:<!DOCTYPE HTML PUBLIC "-//W3C//DTD HTML 3.2//E
	N">\n<HTML>\n<HEAD>\n<TITLE></TITLE>\n</HEAD>\n<BODY>\n<h3>Rim Jabs vs. BoA
	s</h3>Plus d'info : <a href="https://www.golnetwork.com/game/v/138928/">#10
	2</a>\n\n</BODY>\n</HTML>
STATUS:CONFIRMED
CLASS:PUBLIC
URL:https://www.golnetwork.com/game/v/138928/
X-MICROSOFT-CDO-BUSYSTATUS:BUSY
X-MICROSOFT-CDO-IMPORTANCE:1
END:VEVENT
BEGIN:VEVENT
UID:ge5ng@games.golnetwork.com
LOCATION:Fieldhouse B
GEO:45.10662;-94.578209
CREATED:20190109T182759Z
DTSTART:20190321T001500Z
DTEND:20190321T011500Z
DTSTAMP:20260419T224445Z
SUMMARY:Rim Jabs vs. 3 Good Pals Play Spikeball!
DESCRIPTION:3 Good Pals Play Spikeball! vs. Rim JabsPlus d'info : #97
X-ALT-DESC;FMTTYPE=text/html:<!DOCTYPE HTML PUBLIC "-//W3C//DTD HTML 3.2//E
	N">\n<HTML>\n<HEAD>\n<TITLE></TITLE>\n</HEAD>\n<BODY>\n<h3>3 Good Pals Play
	 Spikeball! vs. Rim Jabs</h3>Plus d'info : <a href="https://www.golnetwork.
	com/game/v/138923/">#97</a>\n\n</BODY>\n</HTML>
STATUS:CONFIRMED
CLASS:PUBLIC
URL:https://www.golnetwork.com/game/v/138923/
X-MICROSOFT-CDO-BUSYSTATUS:BUSY
X-MICROSOFT-CDO-IMPORTANCE:1
END:VEVENT
BEGIN:VEVENT
UID:ge5i1@games.golnetwork.com
LOCATION:Fieldhouse B
GEO:45.10662;-94.578209
CREATED:20190109T182757Z
DTSTART:20190124T021500Z
DTEND:20190124T031500Z
DTSTAMP:20260419T224445Z
SUMMARY:Rim Jabs vs. Round Netters
DESCRIPTION:Round Netters vs. Rim JabsPlus d'info : #22
X-ALT-DESC;FMTTYPE=text/html:<!DOCTYPE HTML PUBLIC "-//W3C//DTD HTML 3.2//E
	N">\n<HTML>\n<HEAD>\n<TITLE></TITLE>\n</HEAD>\n<BODY>\n<h3>Round Netters vs
	. Rim Jabs</h3>Plus d'info : <a href="https://www.golnetwork.com/game/v/138
	848/">#22</a>\n\n</BODY>\n</HTML>
STATUS:CONFIRMED
CLASS:PUBLIC
URL:https://www.golnetwork.com/game/v/138848/
X-MICROSOFT-CDO-BUSYSTATUS:BUSY
X-MICROSOFT-CDO-IMPORTANCE:1
END:VEVENT
BEGIN:VEVENT
UID:ge5hm@games.golnetwork.com
LOCATION:Fieldhouse B
GEO:45.10662;-94.578209
CREATED:20190109T182757Z
DTSTART:20190124T014500Z
DTEND:20190124T024500Z
DTSTAMP:20260419T224445Z
SUMMARY:Rim Jabs vs. MORE problem
DESCRIPTION:MORE problem vs. Rim JabsPlus d'info : #19
X-ALT-DESC;FMTTYPE=text/html:<!DOCTYPE HTML PUBLIC "-//W3C//DTD HTML 3.2//E
	N">\n<HTML>\n<HEAD>\n<TITLE></TITLE>\n</HEAD>\n<BODY>\n<h3>MORE problem vs.
	 Rim Jabs</h3>Plus d'info : <a href="https://www.golnetwork.com/game/v/1388
	45/">#19</a>\n\n</BODY>\n</HTML>
STATUS:CONFIRMED
CLASS:PUBLIC
URL:https://www.golnetwork.com/game/v/138845/
X-MICROSOFT-CDO-BUSYSTATUS:BUSY
X-MICROSOFT-CDO-IMPORTANCE:1
END:VEVENT
BEGIN:VEVENT
UID:ge5hg@games.golnetwork.com
LOCATION:Fieldhouse B
GEO:45.10662;-94.578209
CREATED:20190109T182757Z
DTSTART:20190124T011500Z
DTEND:20190124T021500Z
DTSTAMP:20260419T224445Z
SUMMARY:Rim Jabs vs. Inbetweeners
DESCRIPTION:Inbetweeners vs. Rim JabsPlus d'info : #16
X-ALT-DESC;FMTTYPE=text/html:<!DOCTYPE HTML PUBLIC "-//W3C//DTD HTML 3.2//E
	N">\n<HTML>\n<HEAD>\n<TITLE></TITLE>\n</HEAD>\n<BODY>\n<h3>Inbetweeners vs.
	 Rim Jabs</h3>Plus d'info : <a href="https://www.golnetwork.com/game/v/1388
	42/">#16</a>\n\n</BODY>\n</HTML>
STATUS:CONFIRMED
CLASS:PUBLIC
URL:https://www.golnetwork.com/game/v/138842/
X-MICROSOFT-CDO-BUSYSTATUS:BUSY
X-MICROSOFT-CDO-IMPORTANCE:1
END:VEVENT
END:VCALENDAR
