BEGIN:VCALENDAR
PRODID:-//gdesolutions.com//MV Framework 1.0.0.1607 Calendar//EN
VERSION:2.0
METHOD:PUBLISH
CALSCALE:GREGORIAN
BEGIN:VEVENT
UID:gdf4c@games.golnetwork.com
LOCATION:CVM - Court #1
GEO:45.5146585;-73.5658635
CREATED:20181021T140701Z
DTSTART:20190317T223000Z
DTEND:20190317T233000Z
DTSTAMP:20260420T071445Z
SUMMARY:HEAT vs. WILDCATS
DESCRIPTION:WILDCATS vs. HEATPlus d'info : #419
X-ALT-DESC;FMTTYPE=text/html:<!DOCTYPE HTML PUBLIC "-//W3C//DTD HTML 3.2//E
	N">\n<HTML>\n<HEAD>\n<TITLE></TITLE>\n</HEAD>\n<BODY>\n<h3>WILDCATS vs. HEA
	T</h3>Plus d'info : <a href="https://www.golnetwork.com/game/v/132468/">#41
	9</a>\n\n</BODY>\n</HTML>
STATUS:CONFIRMED
CLASS:PUBLIC
URL:https://www.golnetwork.com/game/v/132468/
X-MICROSOFT-CDO-BUSYSTATUS:BUSY
X-MICROSOFT-CDO-IMPORTANCE:1
END:VEVENT
BEGIN:VEVENT
UID:gdf9n@games.golnetwork.com
LOCATION:CVM - Court #1
GEO:45.5146585;-73.5658635
CREATED:20181021T140701Z
DTSTART:20190310T213000Z
DTEND:20190310T223000Z
DTSTAMP:20260420T071445Z
SUMMARY:WILDCATS vs. AMBITIOUS RHINOS
DESCRIPTION:AMBITIOUS RHINOS vs. WILDCATSPlus d'info : #389
X-ALT-DESC;FMTTYPE=text/html:<!DOCTYPE HTML PUBLIC "-//W3C//DTD HTML 3.2//E
	N">\n<HTML>\n<HEAD>\n<TITLE></TITLE>\n</HEAD>\n<BODY>\n<h3>AMBITIOUS RHINOS
	 vs. WILDCATS</h3>Plus d'info : <a href="https://www.golnetwork.com/game/v/
	132541/">#389</a>\n\n</BODY>\n</HTML>
STATUS:CONFIRMED
CLASS:PUBLIC
URL:https://www.golnetwork.com/game/v/132541/
X-MICROSOFT-CDO-BUSYSTATUS:BUSY
X-MICROSOFT-CDO-IMPORTANCE:1
END:VEVENT
BEGIN:VEVENT
UID:gdf95@games.golnetwork.com
LOCATION:CVM - Court #1
GEO:45.5146585;-73.5658635
CREATED:20181021T140701Z
DTSTART:20190305T024500Z
DTEND:20190305T034500Z
DTSTAMP:20260420T071445Z
SUMMARY:WILDCATS vs. PAX TOWN
DESCRIPTION:PAX TOWN vs. WILDCATSPlus d'info : #379
X-ALT-DESC;FMTTYPE=text/html:<!DOCTYPE HTML PUBLIC "-//W3C//DTD HTML 3.2//E
	N">\n<HTML>\n<HEAD>\n<TITLE></TITLE>\n</HEAD>\n<BODY>\n<h3>PAX TOWN vs. WIL
	DCATS</h3>Plus d'info : <a href="https://www.golnetwork.com/game/v/132532/"
	>#379</a>\n\n</BODY>\n</HTML>
STATUS:CONFIRMED
CLASS:PUBLIC
URL:https://www.golnetwork.com/game/v/132532/
X-MICROSOFT-CDO-BUSYSTATUS:BUSY
X-MICROSOFT-CDO-IMPORTANCE:1
END:VEVENT
BEGIN:VEVENT
UID:gdf8e@games.golnetwork.com
LOCATION:CVM - Court #1
GEO:45.5146585;-73.5658635
CREATED:20181021T140701Z
DTSTART:20190225T003000Z
DTEND:20190225T013000Z
DTSTAMP:20260420T071445Z
SUMMARY:WILDCATS vs. HOOP HUNTERS
DESCRIPTION:HOOP HUNTERS vs. WILDCATSPlus d'info : #336
X-ALT-DESC;FMTTYPE=text/html:<!DOCTYPE HTML PUBLIC "-//W3C//DTD HTML 3.2//E
	N">\n<HTML>\n<HEAD>\n<TITLE></TITLE>\n</HEAD>\n<BODY>\n<h3>HOOP HUNTERS vs.
	 WILDCATS</h3>Plus d'info : <a href="https://www.golnetwork.com/game/v/1325
	23/">#336</a>\n\n</BODY>\n</HTML>
STATUS:CONFIRMED
CLASS:PUBLIC
URL:https://www.golnetwork.com/game/v/132523/
X-MICROSOFT-CDO-BUSYSTATUS:BUSY
X-MICROSOFT-CDO-IMPORTANCE:1
END:VEVENT
BEGIN:VEVENT
UID:gdf7n@games.golnetwork.com
LOCATION:CVM - Court #1
GEO:45.5146585;-73.5658635
CREATED:20181021T140701Z
DTSTART:20190218T013000Z
DTEND:20190218T023000Z
DTSTAMP:20260420T071445Z
SUMMARY:WILDCATS vs. NO EZ BASKET
DESCRIPTION:NO EZ BASKET vs. WILDCATSPlus d'info : #309
X-ALT-DESC;FMTTYPE=text/html:<!DOCTYPE HTML PUBLIC "-//W3C//DTD HTML 3.2//E
	N">\n<HTML>\n<HEAD>\n<TITLE></TITLE>\n</HEAD>\n<BODY>\n<h3>NO EZ BASKET vs.
	 WILDCATS</h3>Plus d'info : <a href="https://www.golnetwork.com/game/v/1325
	14/">#309</a>\n\n</BODY>\n</HTML>
STATUS:CONFIRMED
CLASS:PUBLIC
URL:https://www.golnetwork.com/game/v/132514/
X-MICROSOFT-CDO-BUSYSTATUS:BUSY
X-MICROSOFT-CDO-IMPORTANCE:1
END:VEVENT
BEGIN:VEVENT
UID:gdf75@games.golnetwork.com
LOCATION:CVM - Court #1
GEO:45.5146585;-73.5658635
CREATED:20181021T140701Z
DTSTART:20190211T013000Z
DTEND:20190211T023000Z
DTSTAMP:20260420T071445Z
SUMMARY:WILDCATS vs. FLINT MICHIGAN TROPICS
DESCRIPTION:FLINT MICHIGAN TROPICS vs. WILDCATSPlus d'info : #285
X-ALT-DESC;FMTTYPE=text/html:<!DOCTYPE HTML PUBLIC "-//W3C//DTD HTML 3.2//E
	N">\n<HTML>\n<HEAD>\n<TITLE></TITLE>\n</HEAD>\n<BODY>\n<h3>FLINT MICHIGAN T
	ROPICS vs. WILDCATS</h3>Plus d'info : <a href="https://www.golnetwork.com/g
	ame/v/132505/">#285</a>\n\n</BODY>\n</HTML>
STATUS:CONFIRMED
CLASS:PUBLIC
URL:https://www.golnetwork.com/game/v/132505/
X-MICROSOFT-CDO-BUSYSTATUS:BUSY
X-MICROSOFT-CDO-IMPORTANCE:1
END:VEVENT
BEGIN:VEVENT
UID:gdf6e@games.golnetwork.com
LOCATION:Trafalgar
GEO:45.4987672;-73.5845067
CREATED:20181021T140701Z
DTSTART:20190204T233000Z
DTEND:20190205T003000Z
DTSTAMP:20260420T071445Z
SUMMARY:WILDCATS vs. IN BABY
DESCRIPTION:IN BABY vs. WILDCATSPlus d'info : #255
X-ALT-DESC;FMTTYPE=text/html:<!DOCTYPE HTML PUBLIC "-//W3C//DTD HTML 3.2//E
	N">\n<HTML>\n<HEAD>\n<TITLE></TITLE>\n</HEAD>\n<BODY>\n<h3>IN BABY vs. WILD
	CATS</h3>Plus d'info : <a href="https://www.golnetwork.com/game/v/132496/">
	#255</a>\n\n</BODY>\n</HTML>
STATUS:CONFIRMED
CLASS:PUBLIC
URL:https://www.golnetwork.com/game/v/132496/
X-MICROSOFT-CDO-BUSYSTATUS:BUSY
X-MICROSOFT-CDO-IMPORTANCE:1
END:VEVENT
BEGIN:VEVENT
UID:gdf5n@games.golnetwork.com
LOCATION:CVM - Court #1
GEO:45.5146585;-73.5658635
CREATED:20181021T140701Z
DTSTART:20190131T013000Z
DTEND:20190131T023000Z
DTSTAMP:20260420T071445Z
SUMMARY:WILDCATS vs. ASTROFUSEES
DESCRIPTION:ASTROFUSEES vs. WILDCATSPlus d'info : #248
X-ALT-DESC;FMTTYPE=text/html:<!DOCTYPE HTML PUBLIC "-//W3C//DTD HTML 3.2//E
	N">\n<HTML>\n<HEAD>\n<TITLE></TITLE>\n</HEAD>\n<BODY>\n<h3>ASTROFUSEES vs. 
	WILDCATS</h3>Plus d'info : <a href="https://www.golnetwork.com/game/v/13248
	7/">#248</a>\n\n</BODY>\n</HTML>
STATUS:CONFIRMED
CLASS:PUBLIC
URL:https://www.golnetwork.com/game/v/132487/
X-MICROSOFT-CDO-BUSYSTATUS:BUSY
X-MICROSOFT-CDO-IMPORTANCE:1
END:VEVENT
BEGIN:VEVENT
UID:gdf55@games.golnetwork.com
LOCATION:CVM - Court #1
GEO:45.5146585;-73.5658635
CREATED:20181021T140701Z
DTSTART:20190121T003000Z
DTEND:20190121T013000Z
DTSTAMP:20260420T071445Z
SUMMARY:WILDCATS vs. DADOLLE 2
DESCRIPTION:DADOLLE 2 vs. WILDCATSPlus d'info : #202
X-ALT-DESC;FMTTYPE=text/html:<!DOCTYPE HTML PUBLIC "-//W3C//DTD HTML 3.2//E
	N">\n<HTML>\n<HEAD>\n<TITLE></TITLE>\n</HEAD>\n<BODY>\n<h3>DADOLLE 2 vs. WI
	LDCATS</h3>Plus d'info : <a href="https://www.golnetwork.com/game/v/132478/
	">#202</a>\n\n</BODY>\n</HTML>
STATUS:CONFIRMED
CLASS:PUBLIC
URL:https://www.golnetwork.com/game/v/132478/
X-MICROSOFT-CDO-BUSYSTATUS:BUSY
X-MICROSOFT-CDO-IMPORTANCE:1
END:VEVENT
BEGIN:VEVENT
UID:gdf3h@games.golnetwork.com
LOCATION:CVM - Court #1
GEO:45.5146585;-73.5658635
CREATED:20181021T140701Z
DTSTART:20181211T013000Z
DTEND:20181211T023000Z
DTSTAMP:20260420T071445Z
SUMMARY:TOP GUNZ vs. WILDCATS
DESCRIPTION:WILDCATS vs. TOP GUNZPlus d'info : #178
X-ALT-DESC;FMTTYPE=text/html:<!DOCTYPE HTML PUBLIC "-//W3C//DTD HTML 3.2//E
	N">\n<HTML>\n<HEAD>\n<TITLE></TITLE>\n</HEAD>\n<BODY>\n<h3>WILDCATS vs. TOP
	 GUNZ</h3>Plus d'info : <a href="https://www.golnetwork.com/game/v/132457/"
	>#178</a>\n\n</BODY>\n</HTML>
STATUS:CONFIRMED
CLASS:PUBLIC
URL:https://www.golnetwork.com/game/v/132457/
X-MICROSOFT-CDO-BUSYSTATUS:BUSY
X-MICROSOFT-CDO-IMPORTANCE:1
END:VEVENT
BEGIN:VEVENT
UID:gdf2m@games.golnetwork.com
LOCATION:CVM - Court #1
GEO:45.5146585;-73.5658635
CREATED:20181021T140701Z
DTSTART:20181202T233000Z
DTEND:20181203T003000Z
DTSTAMP:20260420T071445Z
SUMMARY:BLUE vs. WILDCATS
DESCRIPTION:WILDCATS vs. BLUEPlus d'info : #143
X-ALT-DESC;FMTTYPE=text/html:<!DOCTYPE HTML PUBLIC "-//W3C//DTD HTML 3.2//E
	N">\n<HTML>\n<HEAD>\n<TITLE></TITLE>\n</HEAD>\n<BODY>\n<h3>WILDCATS vs. BLU
	E</h3>Plus d'info : <a href="https://www.golnetwork.com/game/v/132446/">#14
	3</a>\n\n</BODY>\n</HTML>
STATUS:CONFIRMED
CLASS:PUBLIC
URL:https://www.golnetwork.com/game/v/132446/
X-MICROSOFT-CDO-BUSYSTATUS:BUSY
X-MICROSOFT-CDO-IMPORTANCE:1
END:VEVENT
BEGIN:VEVENT
UID:gdf20@games.golnetwork.com
LOCATION:Marianopolis #1
GEO:45.4807868;-73.610845
CREATED:20181021T140701Z
DTSTART:20181125T230000Z
DTEND:20181126T000000Z
DTSTAMP:20260420T071445Z
SUMMARY:MIAOWWW vs. WILDCATS
DESCRIPTION:WILDCATS vs. MIAOWWWPlus d'info : #111
X-ALT-DESC;FMTTYPE=text/html:<!DOCTYPE HTML PUBLIC "-//W3C//DTD HTML 3.2//E
	N">\n<HTML>\n<HEAD>\n<TITLE></TITLE>\n</HEAD>\n<BODY>\n<h3>WILDCATS vs. MIA
	OWWW</h3>Plus d'info : <a href="https://www.golnetwork.com/game/v/132435/">
	#111</a>\n\n</BODY>\n</HTML>
STATUS:CONFIRMED
CLASS:PUBLIC
URL:https://www.golnetwork.com/game/v/132435/
X-MICROSOFT-CDO-BUSYSTATUS:BUSY
X-MICROSOFT-CDO-IMPORTANCE:1
END:VEVENT
BEGIN:VEVENT
UID:gdf15@games.golnetwork.com
LOCATION:École Alex Manoogian
GEO:45.5176467;-73.667044
CREATED:20181021T140701Z
DTSTART:20181120T023000Z
DTEND:20181120T033000Z
DTSTAMP:20260420T071445Z
SUMMARY:AGBU SR vs. WILDCATS
DESCRIPTION:WILDCATS vs. AGBU SRPlus d'info : #95
X-ALT-DESC;FMTTYPE=text/html:<!DOCTYPE HTML PUBLIC "-//W3C//DTD HTML 3.2//E
	N">\n<HTML>\n<HEAD>\n<TITLE></TITLE>\n</HEAD>\n<BODY>\n<h3>WILDCATS vs. AGB
	U SR</h3>Plus d'info : <a href="https://www.golnetwork.com/game/v/132424/">
	#95</a>\n\n</BODY>\n</HTML>
STATUS:CONFIRMED
CLASS:PUBLIC
URL:https://www.golnetwork.com/game/v/132424/
X-MICROSOFT-CDO-BUSYSTATUS:BUSY
X-MICROSOFT-CDO-IMPORTANCE:1
END:VEVENT
BEGIN:VEVENT
UID:gdf0a@games.golnetwork.com
LOCATION:CVM - Court #1
GEO:45.5146585;-73.5658635
CREATED:20181021T140701Z
DTSTART:20181112T013000Z
DTEND:20181112T023000Z
DTSTAMP:20260420T071445Z
SUMMARY:THE REPLACEMENTS vs. WILDCATS
DESCRIPTION:WILDCATS vs. THE REPLACEMENTSPlus d'info : #60
X-ALT-DESC;FMTTYPE=text/html:<!DOCTYPE HTML PUBLIC "-//W3C//DTD HTML 3.2//E
	N">\n<HTML>\n<HEAD>\n<TITLE></TITLE>\n</HEAD>\n<BODY>\n<h3>WILDCATS vs. THE
	 REPLACEMENTS</h3>Plus d'info : <a href="https://www.golnetwork.com/game/v/
	132413/">#60</a>\n\n</BODY>\n</HTML>
STATUS:CONFIRMED
CLASS:PUBLIC
URL:https://www.golnetwork.com/game/v/132413/
X-MICROSOFT-CDO-BUSYSTATUS:BUSY
X-MICROSOFT-CDO-IMPORTANCE:1
END:VEVENT
BEGIN:VEVENT
UID:gdeqf@games.golnetwork.com
LOCATION:CVM - Court #1
GEO:45.5146585;-73.5658635
CREATED:20181021T140701Z
DTSTART:20181104T230000Z
DTEND:20181105T000000Z
DTSTAMP:20260420T071445Z
SUMMARY:PIPPEN AIN'T EASY vs. WILDCATS
DESCRIPTION:WILDCATS vs. PIPPEN AIN'T EASYPlus d'info : #29
X-ALT-DESC;FMTTYPE=text/html:<!DOCTYPE HTML PUBLIC "-//W3C//DTD HTML 3.2//E
	N">\n<HTML>\n<HEAD>\n<TITLE></TITLE>\n</HEAD>\n<BODY>\n<h3>WILDCATS vs. PIP
	PEN AIN'T EASY</h3>Plus d'info : <a href="https://www.golnetwork.com/game/v
	/132402/">#29</a>\n\n</BODY>\n</HTML>
STATUS:CONFIRMED
CLASS:PUBLIC
URL:https://www.golnetwork.com/game/v/132402/
X-MICROSOFT-CDO-BUSYSTATUS:BUSY
X-MICROSOFT-CDO-IMPORTANCE:1
END:VEVENT
BEGIN:VEVENT
UID:gdepk@games.golnetwork.com
LOCATION:CVM - Court #1
GEO:45.5146585;-73.5658635
CREATED:20181021T140701Z
DTSTART:20181030T013000Z
DTEND:20181030T023000Z
DTSTAMP:20260420T071445Z
SUMMARY:GIVEN R SQUAD vs. WILDCATS
DESCRIPTION:WILDCATS vs. GIVEN R SQUADPlus d'info : #19
X-ALT-DESC;FMTTYPE=text/html:<!DOCTYPE HTML PUBLIC "-//W3C//DTD HTML 3.2//E
	N">\n<HTML>\n<HEAD>\n<TITLE></TITLE>\n</HEAD>\n<BODY>\n<h3>WILDCATS vs. GIV
	EN R SQUAD</h3>Plus d'info : <a href="https://www.golnetwork.com/game/v/132
	391/">#19</a>\n\n</BODY>\n</HTML>
STATUS:CONFIRMED
CLASS:PUBLIC
URL:https://www.golnetwork.com/game/v/132391/
X-MICROSOFT-CDO-BUSYSTATUS:BUSY
X-MICROSOFT-CDO-IMPORTANCE:1
END:VEVENT
END:VCALENDAR
