BEGIN:VCALENDAR
PRODID:-//gdesolutions.com//MV Framework 1.0.0.1607 Calendar//EN
VERSION:2.0
METHOD:PUBLISH
CALSCALE:GREGORIAN
BEGIN:VEVENT
UID:geaa0@games.golnetwork.com
LOCATION:Bickford/West End Alternative
GEO:43.662764;-79.4202341
CREATED:20190304T183809Z
DTSTART:20190429T233000Z
DTEND:20190430T003000Z
DTSTAMP:20260421T171653Z
SUMMARY:XTSC HatTricks vs. Smashers FC
DESCRIPTION:Smashers FC vs. XTSC HatTricksPlus d'info : #56
X-ALT-DESC;FMTTYPE=text/html:<!DOCTYPE HTML PUBLIC "-//W3C//DTD HTML 3.2//E
	N">\n<HTML>\n<HEAD>\n<TITLE></TITLE>\n</HEAD>\n<BODY>\n<h3>Smashers FC vs. 
	XTSC HatTricks</h3>Plus d'info : <a href="https://www.golnetwork.com/game/v
	/140562/">#56</a>\n\n</BODY>\n</HTML>
STATUS:CONFIRMED
CLASS:PUBLIC
URL:https://www.golnetwork.com/game/v/140562/
X-MICROSOFT-CDO-BUSYSTATUS:BUSY
X-MICROSOFT-CDO-IMPORTANCE:1
END:VEVENT
BEGIN:VEVENT
UID:gea9j@games.golnetwork.com
LOCATION:Bickford/West End Alternative
GEO:43.662764;-79.4202341
CREATED:20190304T183737Z
DTSTART:20190415T223000Z
DTEND:20190415T233000Z
DTSTAMP:20260421T171653Z
SUMMARY:XTSC HatTricks vs. Team United
DESCRIPTION:Team United vs. XTSC HatTricksPlus d'info : #18
X-ALT-DESC;FMTTYPE=text/html:<!DOCTYPE HTML PUBLIC "-//W3C//DTD HTML 3.2//E
	N">\n<HTML>\n<HEAD>\n<TITLE></TITLE>\n</HEAD>\n<BODY>\n<h3>Team United vs. 
	XTSC HatTricks</h3>Plus d'info : <a href="https://www.golnetwork.com/game/v
	/140558/">#18</a>\n\n</BODY>\n</HTML>
STATUS:CONFIRMED
CLASS:PUBLIC
URL:https://www.golnetwork.com/game/v/140558/
X-MICROSOFT-CDO-BUSYSTATUS:BUSY
X-MICROSOFT-CDO-IMPORTANCE:1
END:VEVENT
BEGIN:VEVENT
UID:gea9f@games.golnetwork.com
LOCATION:Bickford/West End Alternative
GEO:43.662764;-79.4202341
CREATED:20190304T183720Z
DTSTART:20190408T233000Z
DTEND:20190409T003000Z
DTSTAMP:20260421T171653Z
SUMMARY:Sporting Chance vs. XTSC HatTricks
DESCRIPTION:XTSC HatTricks vs. Sporting ChancePlus d'info : #14
X-ALT-DESC;FMTTYPE=text/html:<!DOCTYPE HTML PUBLIC "-//W3C//DTD HTML 3.2//E
	N">\n<HTML>\n<HEAD>\n<TITLE></TITLE>\n</HEAD>\n<BODY>\n<h3>XTSC HatTricks v
	s. Sporting Chance</h3>Plus d'info : <a href="https://www.golnetwork.com/ga
	me/v/140556/">#14</a>\n\n</BODY>\n</HTML>
STATUS:CONFIRMED
CLASS:PUBLIC
URL:https://www.golnetwork.com/game/v/140556/
X-MICROSOFT-CDO-BUSYSTATUS:BUSY
X-MICROSOFT-CDO-IMPORTANCE:1
END:VEVENT
BEGIN:VEVENT
UID:gea9b@games.golnetwork.com
LOCATION:Bickford/West End Alternative
GEO:43.662764;-79.4202341
CREATED:20190304T183703Z
DTSTART:20190402T003000Z
DTEND:20190402T013000Z
DTSTAMP:20260421T171653Z
SUMMARY:Anti-Oppressors FC vs. XTSC HatTricks
DESCRIPTION:XTSC HatTricks vs. Anti-Oppressors FCPlus d'info : #12
X-ALT-DESC;FMTTYPE=text/html:<!DOCTYPE HTML PUBLIC "-//W3C//DTD HTML 3.2//E
	N">\n<HTML>\n<HEAD>\n<TITLE></TITLE>\n</HEAD>\n<BODY>\n<h3>XTSC HatTricks v
	s. Anti-Oppressors FC</h3>Plus d'info : <a href="https://www.golnetwork.com
	/game/v/140554/">#12</a>\n\n</BODY>\n</HTML>
STATUS:CONFIRMED
CLASS:PUBLIC
URL:https://www.golnetwork.com/game/v/140554/
X-MICROSOFT-CDO-BUSYSTATUS:BUSY
X-MICROSOFT-CDO-IMPORTANCE:1
END:VEVENT
BEGIN:VEVENT
UID:gea95@games.golnetwork.com
LOCATION:Bickford/West End Alternative
GEO:43.662764;-79.4202341
CREATED:20190304T183641Z
DTSTART:20190326T003000Z
DTEND:20190326T013000Z
DTSTAMP:20260421T171653Z
SUMMARY:XTSC HatTricks vs. Axonometrics
DESCRIPTION:Axonometrics vs. XTSC HatTricksPlus d'info : #9
X-ALT-DESC;FMTTYPE=text/html:<!DOCTYPE HTML PUBLIC "-//W3C//DTD HTML 3.2//E
	N">\n<HTML>\n<HEAD>\n<TITLE></TITLE>\n</HEAD>\n<BODY>\n<h3>Axonometrics vs.
	 XTSC HatTricks</h3>Plus d'info : <a href="https://www.golnetwork.com/game/
	v/140551/">#9</a>\n\n</BODY>\n</HTML>
STATUS:CONFIRMED
CLASS:PUBLIC
URL:https://www.golnetwork.com/game/v/140551/
X-MICROSOFT-CDO-BUSYSTATUS:BUSY
X-MICROSOFT-CDO-IMPORTANCE:1
END:VEVENT
BEGIN:VEVENT
UID:gea8o@games.golnetwork.com
LOCATION:Bickford/West End Alternative
GEO:43.662764;-79.4202341
CREATED:20190304T183610Z
DTSTART:20190318T233000Z
DTEND:20190319T003000Z
DTSTAMP:20260421T171653Z
SUMMARY:XTSC HatTricks vs. Smashers FC
DESCRIPTION:Smashers FC vs. XTSC HatTricksPlus d'info : #5
X-ALT-DESC;FMTTYPE=text/html:<!DOCTYPE HTML PUBLIC "-//W3C//DTD HTML 3.2//E
	N">\n<HTML>\n<HEAD>\n<TITLE></TITLE>\n</HEAD>\n<BODY>\n<h3>Smashers FC vs. 
	XTSC HatTricks</h3>Plus d'info : <a href="https://www.golnetwork.com/game/v
	/140547/">#5</a>\n\n</BODY>\n</HTML>
STATUS:CONFIRMED
CLASS:PUBLIC
URL:https://www.golnetwork.com/game/v/140547/
X-MICROSOFT-CDO-BUSYSTATUS:BUSY
X-MICROSOFT-CDO-IMPORTANCE:1
END:VEVENT
BEGIN:VEVENT
UID:gea40@games.golnetwork.com
LOCATION:Bickford/West End Alternative
GEO:43.662764;-79.4202341
CREATED:20190226T214823Z
DTSTART:20190304T233000Z
DTEND:20190305T003000Z
DTSTAMP:20260421T171653Z
SUMMARY:XTSC HatTricks vs. Team United
DESCRIPTION:Team United vs. XTSC HatTricksPlus d'info : #1
X-ALT-DESC;FMTTYPE=text/html:<!DOCTYPE HTML PUBLIC "-//W3C//DTD HTML 3.2//E
	N">\n<HTML>\n<HEAD>\n<TITLE></TITLE>\n</HEAD>\n<BODY>\n<h3>Team United vs. 
	XTSC HatTricks</h3>Plus d'info : <a href="https://www.golnetwork.com/game/v
	/140481/">#1</a>\n\n</BODY>\n</HTML>
STATUS:CONFIRMED
CLASS:PUBLIC
URL:https://www.golnetwork.com/game/v/140481/
X-MICROSOFT-CDO-BUSYSTATUS:BUSY
X-MICROSOFT-CDO-IMPORTANCE:1
END:VEVENT
END:VCALENDAR
