BEGIN:VCALENDAR
PRODID:-//gdesolutions.com//MV Framework 1.0.0.1607 Calendar//EN
VERSION:2.0
METHOD:PUBLISH
CALSCALE:GREGORIAN
BEGIN:VEVENT
UID:gfmo9@games.golnetwork.com
LOCATION:Monarch Park Stadium - Field 3
GEO:43.6792789;-79.3234873
CREATED:20200122T184943Z
DTSTART:20200317T020000Z
DTEND:20200317T030000Z
DTSTAMP:20260423T011804Z
SUMMARY:Net Six and Chill vs. RVA
DESCRIPTION:RVA vs. Net Six and ChillPlus d'info : #715
X-ALT-DESC;FMTTYPE=text/html:<!DOCTYPE HTML PUBLIC "-//W3C//DTD HTML 3.2//E
	N">\n<HTML>\n<HEAD>\n<TITLE></TITLE>\n</HEAD>\n<BODY>\n<h3>RVA vs. Net Six 
	and Chill</h3>Plus d'info : <a href="https://www.golnetwork.com/game/v/1549
	71/">#715</a>\n\n</BODY>\n</HTML>
STATUS:CONFIRMED
CLASS:PUBLIC
URL:https://www.golnetwork.com/game/v/154971/
X-MICROSOFT-CDO-BUSYSTATUS:BUSY
X-MICROSOFT-CDO-IMPORTANCE:1
END:VEVENT
BEGIN:VEVENT
UID:gfmo7@games.golnetwork.com
LOCATION:Monarch Park Stadium - Field 2
GEO:43.6792789;-79.3234873
CREATED:20200122T184936Z
DTSTART:20200310T030000Z
DTEND:20200310T040000Z
DTSTAMP:20260423T011804Z
SUMMARY:NapoliThanos vs. RVA
DESCRIPTION:RVA vs. NapoliThanosPlus d'info : #630
X-ALT-DESC;FMTTYPE=text/html:<!DOCTYPE HTML PUBLIC "-//W3C//DTD HTML 3.2//E
	N">\n<HTML>\n<HEAD>\n<TITLE></TITLE>\n</HEAD>\n<BODY>\n<h3>RVA vs. NapoliTh
	anos</h3>Plus d'info : <a href="https://www.golnetwork.com/game/v/154970/">
	#630</a>\n\n</BODY>\n</HTML>
STATUS:CONFIRMED
CLASS:PUBLIC
URL:https://www.golnetwork.com/game/v/154970/
X-MICROSOFT-CDO-BUSYSTATUS:BUSY
X-MICROSOFT-CDO-IMPORTANCE:1
END:VEVENT
BEGIN:VEVENT
UID:gfmo1@games.golnetwork.com
LOCATION:Monarch Park Stadium - Field 3
GEO:43.6792789;-79.3234873
CREATED:20200122T184741Z
DTSTART:20200303T040000Z
DTEND:20200303T050000Z
DTSTAMP:20260423T011804Z
SUMMARY:RVA vs. Net Six and Chill
DESCRIPTION:Net Six and Chill vs. RVAPlus d'info : #539
X-ALT-DESC;FMTTYPE=text/html:<!DOCTYPE HTML PUBLIC "-//W3C//DTD HTML 3.2//E
	N">\n<HTML>\n<HEAD>\n<TITLE></TITLE>\n</HEAD>\n<BODY>\n<h3>Net Six and Chil
	l vs. RVA</h3>Plus d'info : <a href="https://www.golnetwork.com/game/v/1549
	67/">#539</a>\n\n</BODY>\n</HTML>
STATUS:CONFIRMED
CLASS:PUBLIC
URL:https://www.golnetwork.com/game/v/154967/
X-MICROSOFT-CDO-BUSYSTATUS:BUSY
X-MICROSOFT-CDO-IMPORTANCE:1
END:VEVENT
BEGIN:VEVENT
UID:gfmnm@games.golnetwork.com
LOCATION:Monarch Park Stadium - Field 2
GEO:43.6792789;-79.3234873
CREATED:20200122T184709Z
DTSTART:20200225T010000Z
DTEND:20200225T020000Z
DTSTAMP:20260423T011804Z
SUMMARY:Eckler FC vs. RVA
DESCRIPTION:RVA vs. Eckler FCPlus d'info : #415
X-ALT-DESC;FMTTYPE=text/html:<!DOCTYPE HTML PUBLIC "-//W3C//DTD HTML 3.2//E
	N">\n<HTML>\n<HEAD>\n<TITLE></TITLE>\n</HEAD>\n<BODY>\n<h3>RVA vs. Eckler F
	C</h3>Plus d'info : <a href="https://www.golnetwork.com/game/v/154964/">#41
	5</a>\n\n</BODY>\n</HTML>
STATUS:CONFIRMED
CLASS:PUBLIC
URL:https://www.golnetwork.com/game/v/154964/
X-MICROSOFT-CDO-BUSYSTATUS:BUSY
X-MICROSOFT-CDO-IMPORTANCE:1
END:VEVENT
BEGIN:VEVENT
UID:gfmni@games.golnetwork.com
LOCATION:Monarch Park Stadium - Field 1
GEO:43.6792789;-79.3234873
CREATED:20200122T184651Z
DTSTART:20200218T020000Z
DTEND:20200218T030000Z
DTSTAMP:20260423T011804Z
SUMMARY:NapoliThanos vs. RVA
DESCRIPTION:RVA vs. NapoliThanosPlus d'info : #318
X-ALT-DESC;FMTTYPE=text/html:<!DOCTYPE HTML PUBLIC "-//W3C//DTD HTML 3.2//E
	N">\n<HTML>\n<HEAD>\n<TITLE></TITLE>\n</HEAD>\n<BODY>\n<h3>RVA vs. NapoliTh
	anos</h3>Plus d'info : <a href="https://www.golnetwork.com/game/v/154962/">
	#318</a>\n\n</BODY>\n</HTML>
STATUS:CONFIRMED
CLASS:PUBLIC
URL:https://www.golnetwork.com/game/v/154962/
X-MICROSOFT-CDO-BUSYSTATUS:BUSY
X-MICROSOFT-CDO-IMPORTANCE:1
END:VEVENT
BEGIN:VEVENT
UID:gfmnc@games.golnetwork.com
LOCATION:Monarch Park Stadium - Field 1
GEO:43.6792789;-79.3234873
CREATED:20200122T184619Z
DTSTART:20200211T030000Z
DTEND:20200211T040000Z
DTSTAMP:20260423T011804Z
SUMMARY:RVA vs. Socceroos pt 2
DESCRIPTION:Socceroos pt 2 vs. RVAPlus d'info : #257
X-ALT-DESC;FMTTYPE=text/html:<!DOCTYPE HTML PUBLIC "-//W3C//DTD HTML 3.2//E
	N">\n<HTML>\n<HEAD>\n<TITLE></TITLE>\n</HEAD>\n<BODY>\n<h3>Socceroos pt 2 v
	s. RVA</h3>Plus d'info : <a href="https://www.golnetwork.com/game/v/154959/
	">#257</a>\n\n</BODY>\n</HTML>
STATUS:CONFIRMED
CLASS:PUBLIC
URL:https://www.golnetwork.com/game/v/154959/
X-MICROSOFT-CDO-BUSYSTATUS:BUSY
X-MICROSOFT-CDO-IMPORTANCE:1
END:VEVENT
BEGIN:VEVENT
UID:gfmn6@games.golnetwork.com
LOCATION:Monarch Park Stadium - Field 1
GEO:43.6792789;-79.3234873
CREATED:20200122T184552Z
DTSTART:20200204T040000Z
DTEND:20200204T050000Z
DTSTAMP:20260423T011804Z
SUMMARY:RVA vs. MBFC
DESCRIPTION:MBFC vs. RVAPlus d'info : #180
X-ALT-DESC;FMTTYPE=text/html:<!DOCTYPE HTML PUBLIC "-//W3C//DTD HTML 3.2//E
	N">\n<HTML>\n<HEAD>\n<TITLE></TITLE>\n</HEAD>\n<BODY>\n<h3>MBFC vs. RVA</h3
	>Plus d'info : <a href="https://www.golnetwork.com/game/v/154956/">#180</a>
	\n\n</BODY>\n</HTML>
STATUS:CONFIRMED
CLASS:PUBLIC
URL:https://www.golnetwork.com/game/v/154956/
X-MICROSOFT-CDO-BUSYSTATUS:BUSY
X-MICROSOFT-CDO-IMPORTANCE:1
END:VEVENT
BEGIN:VEVENT
UID:gfmn2@games.golnetwork.com
LOCATION:Monarch Park Stadium - Field 2
GEO:43.6792789;-79.3234873
CREATED:20200122T184532Z
DTSTART:20200128T040000Z
DTEND:20200128T050000Z
DTSTAMP:20260423T011804Z
SUMMARY:RVA vs. Net Six and Chill
DESCRIPTION:Net Six and Chill vs. RVAPlus d'info : #132
X-ALT-DESC;FMTTYPE=text/html:<!DOCTYPE HTML PUBLIC "-//W3C//DTD HTML 3.2//E
	N">\n<HTML>\n<HEAD>\n<TITLE></TITLE>\n</HEAD>\n<BODY>\n<h3>Net Six and Chil
	l vs. RVA</h3>Plus d'info : <a href="https://www.golnetwork.com/game/v/1549
	54/">#132</a>\n\n</BODY>\n</HTML>
STATUS:CONFIRMED
CLASS:PUBLIC
URL:https://www.golnetwork.com/game/v/154954/
X-MICROSOFT-CDO-BUSYSTATUS:BUSY
X-MICROSOFT-CDO-IMPORTANCE:1
END:VEVENT
BEGIN:VEVENT
UID:gfmbc@games.golnetwork.com
LOCATION:Monarch Park Stadium - Field 1
GEO:43.6792789;-79.3234873
CREATED:20200115T192033Z
DTSTART:20200121T020000Z
DTEND:20200121T030000Z
DTSTAMP:20260423T011804Z
SUMMARY:NapoliThanos vs. RVA
DESCRIPTION:RVA vs. NapoliThanosPlus d'info : #85
X-ALT-DESC;FMTTYPE=text/html:<!DOCTYPE HTML PUBLIC "-//W3C//DTD HTML 3.2//E
	N">\n<HTML>\n<HEAD>\n<TITLE></TITLE>\n</HEAD>\n<BODY>\n<h3>RVA vs. NapoliTh
	anos</h3>Plus d'info : <a href="https://www.golnetwork.com/game/v/154797/">
	#85</a>\n\n</BODY>\n</HTML>
STATUS:CONFIRMED
CLASS:PUBLIC
URL:https://www.golnetwork.com/game/v/154797/
X-MICROSOFT-CDO-BUSYSTATUS:BUSY
X-MICROSOFT-CDO-IMPORTANCE:1
END:VEVENT
END:VCALENDAR
