BEGIN:VCALENDAR
PRODID:-//gdesolutions.com//MV Framework 1.0.0.1607 Calendar//EN
VERSION:2.0
METHOD:PUBLISH
CALSCALE:GREGORIAN
BEGIN:VEVENT
UID:gf2p4@games.golnetwork.com
LOCATION:Louis Riel #1
GEO:45.4410208;-75.5715394
CREATED:20190719T220703Z
DTSTART:20190726T010000Z
DTEND:20190726T023000Z
DTSTAMP:20260421T010634Z
SUMMARY:Balls Deep vs. Intangible Assets
DESCRIPTION:Intangible Assets vs. Balls DeepPlus d'info : #90
X-ALT-DESC;FMTTYPE=text/html:<!DOCTYPE HTML PUBLIC "-//W3C//DTD HTML 3.2//E
	N">\n<HTML>\n<HEAD>\n<TITLE></TITLE>\n</HEAD>\n<BODY>\n<h3>Intangible Asset
	s vs. Balls Deep</h3>Plus d'info : <a href="https://www.golnetwork.com/game
	/v/147692/">#90</a>\n\n</BODY>\n</HTML>
STATUS:CONFIRMED
CLASS:PUBLIC
URL:https://www.golnetwork.com/game/v/147692/
X-MICROSOFT-CDO-BUSYSTATUS:BUSY
X-MICROSOFT-CDO-IMPORTANCE:1
END:VEVENT
BEGIN:VEVENT
UID:gf26p@games.golnetwork.com
LOCATION:Lester B Pearson Field #3
GEO:45.4433016;-75.5957775
CREATED:20190714T165206Z
DTSTART:20190718T224500Z
DTEND:20190719T001500Z
DTSTAMP:20260421T010634Z
SUMMARY:The Miseducation vs. Intangible Assets
DESCRIPTION:Intangible Assets vs. The MiseducationPlus d'info : #75
X-ALT-DESC;FMTTYPE=text/html:<!DOCTYPE HTML PUBLIC "-//W3C//DTD HTML 3.2//E
	N">\n<HTML>\n<HEAD>\n<TITLE></TITLE>\n</HEAD>\n<BODY>\n<h3>Intangible Asset
	s vs. The Miseducation</h3>Plus d'info : <a href="https://www.golnetwork.co
	m/game/v/147446/">#75</a>\n\n</BODY>\n</HTML>
STATUS:CONFIRMED
CLASS:PUBLIC
URL:https://www.golnetwork.com/game/v/147446/
X-MICROSOFT-CDO-BUSYSTATUS:BUSY
X-MICROSOFT-CDO-IMPORTANCE:1
END:VEVENT
BEGIN:VEVENT
UID:gf17d@games.golnetwork.com
LOCATION:Louis Riel #1
GEO:45.4410208;-75.5715394
CREATED:20190708T160056Z
DTSTART:20190711T233000Z
DTEND:20190712T010000Z
DTSTAMP:20260421T010634Z
SUMMARY:Intangible Assets vs. Sock-it Rockets
DESCRIPTION:Sock-it Rockets vs. Intangible AssetsPlus d'info : #66
X-ALT-DESC;FMTTYPE=text/html:<!DOCTYPE HTML PUBLIC "-//W3C//DTD HTML 3.2//E
	N">\n<HTML>\n<HEAD>\n<TITLE></TITLE>\n</HEAD>\n<BODY>\n<h3>Sock-it Rockets 
	vs. Intangible Assets</h3>Plus d'info : <a href="https://www.golnetwork.com
	/game/v/147089/">#66</a>\n\n</BODY>\n</HTML>
STATUS:CONFIRMED
CLASS:PUBLIC
URL:https://www.golnetwork.com/game/v/147089/
X-MICROSOFT-CDO-BUSYSTATUS:BUSY
X-MICROSOFT-CDO-IMPORTANCE:1
END:VEVENT
BEGIN:VEVENT
UID:gf0ip@games.golnetwork.com
LOCATION:Louis Riel #1
GEO:45.4410208;-75.5715394
CREATED:20190628T145220Z
DTSTART:20190704T233000Z
DTEND:20190705T010000Z
DTSTAMP:20260421T010634Z
SUMMARY:Missile-toe vs. Intangible Assets
DESCRIPTION:Intangible Assets vs. Missile-toePlus d'info : #56
X-ALT-DESC;FMTTYPE=text/html:<!DOCTYPE HTML PUBLIC "-//W3C//DTD HTML 3.2//E
	N">\n<HTML>\n<HEAD>\n<TITLE></TITLE>\n</HEAD>\n<BODY>\n<h3>Intangible Asset
	s vs. Missile-toe</h3>Plus d'info : <a href="https://www.golnetwork.com/gam
	e/v/146879/">#56</a>\n\n</BODY>\n</HTML>
STATUS:CONFIRMED
CLASS:PUBLIC
URL:https://www.golnetwork.com/game/v/146879/
X-MICROSOFT-CDO-BUSYSTATUS:BUSY
X-MICROSOFT-CDO-IMPORTANCE:1
END:VEVENT
BEGIN:VEVENT
UID:gf0fk@games.golnetwork.com
LOCATION:Hornet's Nest #1
GEO:45.4428309;-75.575268
CREATED:20190624T062145Z
DTSTART:20190628T000000Z
DTEND:20190628T013000Z
DTSTAMP:20260421T010634Z
SUMMARY:Arsenanal FC vs. Intangible Assets
DESCRIPTION:Intangible Assets vs. Arsenanal FCPlus d'info : #50
X-ALT-DESC;FMTTYPE=text/html:<!DOCTYPE HTML PUBLIC "-//W3C//DTD HTML 3.2//E
	N">\n<HTML>\n<HEAD>\n<TITLE></TITLE>\n</HEAD>\n<BODY>\n<h3>Intangible Asset
	s vs. Arsenanal FC</h3>Plus d'info : <a href="https://www.golnetwork.com/ga
	me/v/146836/">#50</a>\n\n</BODY>\n</HTML>
STATUS:CONFIRMED
CLASS:PUBLIC
URL:https://www.golnetwork.com/game/v/146836/
X-MICROSOFT-CDO-BUSYSTATUS:BUSY
X-MICROSOFT-CDO-IMPORTANCE:1
END:VEVENT
BEGIN:VEVENT
UID:geqnn@games.golnetwork.com
LOCATION:Louis Riel #1
GEO:45.4410208;-75.5715394
CREATED:20190617T184841Z
DTSTART:20190620T233000Z
DTEND:20190621T010000Z
DTSTAMP:20260421T010634Z
SUMMARY:Sonics vs. Intangible Assets
DESCRIPTION:Intangible Assets vs. SonicsPlus d'info : #37
X-ALT-DESC;FMTTYPE=text/html:<!DOCTYPE HTML PUBLIC "-//W3C//DTD HTML 3.2//E
	N">\n<HTML>\n<HEAD>\n<TITLE></TITLE>\n</HEAD>\n<BODY>\n<h3>Intangible Asset
	s vs. Sonics</h3>Plus d'info : <a href="https://www.golnetwork.com/game/v/1
	46581/">#37</a>\n\n</BODY>\n</HTML>
STATUS:CONFIRMED
CLASS:PUBLIC
URL:https://www.golnetwork.com/game/v/146581/
X-MICROSOFT-CDO-BUSYSTATUS:BUSY
X-MICROSOFT-CDO-IMPORTANCE:1
END:VEVENT
BEGIN:VEVENT
UID:gep6l@games.golnetwork.com
LOCATION:McCarthy Park Field #1
GEO:45.3518541;-75.6719009
CREATED:20190527T050704Z
DTSTART:20190613T224500Z
DTEND:20190614T001500Z
DTSTAMP:20260421T010634Z
SUMMARY:The Miseducation vs. Intangible Assets
DESCRIPTION:Intangible Assets vs. The MiseducationPlus d'info : #23
X-ALT-DESC;FMTTYPE=text/html:<!DOCTYPE HTML PUBLIC "-//W3C//DTD HTML 3.2//E
	N">\n<HTML>\n<HEAD>\n<TITLE></TITLE>\n</HEAD>\n<BODY>\n<h3>Intangible Asset
	s vs. The Miseducation</h3>Plus d'info : <a href="https://www.golnetwork.co
	m/game/v/145986/">#23</a>\n\n</BODY>\n</HTML>
STATUS:CONFIRMED
CLASS:PUBLIC
URL:https://www.golnetwork.com/game/v/145986/
X-MICROSOFT-CDO-BUSYSTATUS:BUSY
X-MICROSOFT-CDO-IMPORTANCE:1
END:VEVENT
BEGIN:VEVENT
UID:gep5o@games.golnetwork.com
LOCATION:Lester B. Pearson Field 1
GEO:45.4429892;-75.5963901
CREATED:20190527T050333Z
DTSTART:20190606T224500Z
DTEND:20190607T001500Z
DTSTAMP:20260421T010634Z
SUMMARY:Missile-toe vs. Intangible Assets
DESCRIPTION:Intangible Assets vs. Missile-toePlus d'info : #12
X-ALT-DESC;FMTTYPE=text/html:<!DOCTYPE HTML PUBLIC "-//W3C//DTD HTML 3.2//E
	N">\n<HTML>\n<HEAD>\n<TITLE></TITLE>\n</HEAD>\n<BODY>\n<h3>Intangible Asset
	s vs. Missile-toe</h3>Plus d'info : <a href="https://www.golnetwork.com/gam
	e/v/145974/">#12</a>\n\n</BODY>\n</HTML>
STATUS:CONFIRMED
CLASS:PUBLIC
URL:https://www.golnetwork.com/game/v/145974/
X-MICROSOFT-CDO-BUSYSTATUS:BUSY
X-MICROSOFT-CDO-IMPORTANCE:1
END:VEVENT
BEGIN:VEVENT
UID:gelg7@games.golnetwork.com
LOCATION:McCarthy Park Field #1
GEO:45.3518541;-75.6719009
CREATED:20190525T205302Z
DTSTART:20190530T224500Z
DTEND:20190531T001500Z
DTSTAMP:20260421T010634Z
SUMMARY:Balls Deep vs. Intangible Assets
DESCRIPTION:Intangible Assets vs. Balls DeepPlus d'info : #2
X-ALT-DESC;FMTTYPE=text/html:<!DOCTYPE HTML PUBLIC "-//W3C//DTD HTML 3.2//E
	N">\n<HTML>\n<HEAD>\n<TITLE></TITLE>\n</HEAD>\n<BODY>\n<h3>Intangible Asset
	s vs. Balls Deep</h3>Plus d'info : <a href="https://www.golnetwork.com/game
	/v/144656/">#2</a>\n\n</BODY>\n</HTML>
STATUS:CONFIRMED
CLASS:PUBLIC
URL:https://www.golnetwork.com/game/v/144656/
X-MICROSOFT-CDO-BUSYSTATUS:BUSY
X-MICROSOFT-CDO-IMPORTANCE:1
END:VEVENT
END:VCALENDAR
