BEGIN:VCALENDAR
PRODID:-//gdesolutions.com//MV Framework 1.0.0.1607 Calendar//EN
VERSION:2.0
METHOD:PUBLISH
CALSCALE:GREGORIAN
BEGIN:VEVENT
UID:gf4gd@games.golnetwork.com
LOCATION:Lamport Stadium - Field 1
GEO:43.6390028;-79.4232104
CREATED:20190808T154737Z
DTSTART:20191018T230000Z
DTEND:20191019T000000Z
DTSTAMP:20260420T024740Z
SUMMARY: Drama Queens vs. XTSC Free Ballin'
DESCRIPTION:XTSC Free Ballin' vs.  Drama QueensPlus d'info : #1029
X-ALT-DESC;FMTTYPE=text/html:<!DOCTYPE HTML PUBLIC "-//W3C//DTD HTML 3.2//E
	N">\n<HTML>\n<HEAD>\n<TITLE></TITLE>\n</HEAD>\n<BODY>\n<h3>XTSC Free Ballin
	' vs.  Drama Queens</h3>Plus d'info : <a href="https://www.golnetwork.com/g
	ame/v/148304/">#1029</a>\n\n</BODY>\n</HTML>
STATUS:CONFIRMED
CLASS:PUBLIC
URL:https://www.golnetwork.com/game/v/148304/
X-MICROSOFT-CDO-BUSYSTATUS:BUSY
X-MICROSOFT-CDO-IMPORTANCE:1
END:VEVENT
BEGIN:VEVENT
UID:gf4g9@games.golnetwork.com
LOCATION:Lamport Stadium - Field 1
GEO:43.6390028;-79.4232104
CREATED:20190808T154725Z
DTSTART:20191005T010000Z
DTEND:20191005T020000Z
DTSTAMP:20260420T024740Z
SUMMARY:XTSC Free Ballin' vs. Six Shooters
DESCRIPTION:Six Shooters vs. XTSC Free Ballin'Plus d'info : #917
X-ALT-DESC;FMTTYPE=text/html:<!DOCTYPE HTML PUBLIC "-//W3C//DTD HTML 3.2//E
	N">\n<HTML>\n<HEAD>\n<TITLE></TITLE>\n</HEAD>\n<BODY>\n<h3>Six Shooters vs.
	 XTSC Free Ballin'</h3>Plus d'info : <a href="https://www.golnetwork.com/ga
	me/v/148302/">#917</a>\n\n</BODY>\n</HTML>
STATUS:CONFIRMED
CLASS:PUBLIC
URL:https://www.golnetwork.com/game/v/148302/
X-MICROSOFT-CDO-BUSYSTATUS:BUSY
X-MICROSOFT-CDO-IMPORTANCE:1
END:VEVENT
BEGIN:VEVENT
UID:gfa2b@games.golnetwork.com
LOCATION:Lamport Stadium - Field 1
GEO:43.6390028;-79.4232104
CREATED:20190924T145206Z
DTSTART:20190928T010000Z
DTEND:20190928T020000Z
DTSTAMP:20260420T024740Z
SUMMARY:XTSC Free Ballin' vs. The Knights Who Say NEE!!!!
DESCRIPTION:The Knights Who Say NEE!!!! vs. XTSC Free Ballin'Plus d'info : 
	R#514
X-ALT-DESC;FMTTYPE=text/html:<!DOCTYPE HTML PUBLIC "-//W3C//DTD HTML 3.2//E
	N">\n<HTML>\n<HEAD>\n<TITLE></TITLE>\n</HEAD>\n<BODY>\n<h3>The Knights Who 
	Say NEE!!!! vs. XTSC Free Ballin'</h3>Plus d'info : <a href="https://www.go
	lnetwork.com/game/v/150301/">R#514</a>\n\n</BODY>\n</HTML>
STATUS:CONFIRMED
CLASS:PUBLIC
URL:https://www.golnetwork.com/game/v/150301/
X-MICROSOFT-CDO-BUSYSTATUS:BUSY
X-MICROSOFT-CDO-IMPORTANCE:1
END:VEVENT
BEGIN:VEVENT
UID:gf4g5@games.golnetwork.com
LOCATION:Lamport Stadium - Field 1
GEO:43.6390028;-79.4232104
CREATED:20190808T154712Z
DTSTART:20190928T000000Z
DTEND:20190928T010000Z
DTSTAMP:20260420T024740Z
SUMMARY:Six Shooters vs. XTSC Free Ballin'
DESCRIPTION:XTSC Free Ballin' vs. Six ShootersPlus d'info : #818
X-ALT-DESC;FMTTYPE=text/html:<!DOCTYPE HTML PUBLIC "-//W3C//DTD HTML 3.2//E
	N">\n<HTML>\n<HEAD>\n<TITLE></TITLE>\n</HEAD>\n<BODY>\n<h3>XTSC Free Ballin
	' vs. Six Shooters</h3>Plus d'info : <a href="https://www.golnetwork.com/ga
	me/v/148300/">#818</a>\n\n</BODY>\n</HTML>
STATUS:CONFIRMED
CLASS:PUBLIC
URL:https://www.golnetwork.com/game/v/148300/
X-MICROSOFT-CDO-BUSYSTATUS:BUSY
X-MICROSOFT-CDO-IMPORTANCE:1
END:VEVENT
BEGIN:VEVENT
UID:gf4fo@games.golnetwork.com
LOCATION:Lamport Stadium - Field 1
GEO:43.6390028;-79.4232104
CREATED:20190808T154641Z
DTSTART:20190920T230000Z
DTEND:20190921T000000Z
DTSTAMP:20260420T024740Z
SUMMARY:FC Shooters vs. XTSC Free Ballin'
DESCRIPTION:XTSC Free Ballin' vs. FC ShootersPlus d'info : #718
X-ALT-DESC;FMTTYPE=text/html:<!DOCTYPE HTML PUBLIC "-//W3C//DTD HTML 3.2//E
	N">\n<HTML>\n<HEAD>\n<TITLE></TITLE>\n</HEAD>\n<BODY>\n<h3>XTSC Free Ballin
	' vs. FC Shooters</h3>Plus d'info : <a href="https://www.golnetwork.com/gam
	e/v/148296/">#718</a>\n\n</BODY>\n</HTML>
STATUS:CONFIRMED
CLASS:PUBLIC
URL:https://www.golnetwork.com/game/v/148296/
X-MICROSOFT-CDO-BUSYSTATUS:BUSY
X-MICROSOFT-CDO-IMPORTANCE:1
END:VEVENT
BEGIN:VEVENT
UID:gf4fm@games.golnetwork.com
LOCATION:Lamport Stadium - Field 1
GEO:43.6390028;-79.4232104
CREATED:20190808T154633Z
DTSTART:20190914T010000Z
DTEND:20190914T020000Z
DTSTAMP:20260420T024740Z
SUMMARY:XTSC Free Ballin' vs.  Drama Queens
DESCRIPTION: Drama Queens vs. XTSC Free Ballin'Plus d'info : #622
X-ALT-DESC;FMTTYPE=text/html:<!DOCTYPE HTML PUBLIC "-//W3C//DTD HTML 3.2//E
	N">\n<HTML>\n<HEAD>\n<TITLE></TITLE>\n</HEAD>\n<BODY>\n<h3> Drama Queens vs
	. XTSC Free Ballin'</h3>Plus d'info : <a href="https://www.golnetwork.com/g
	ame/v/148295/">#622</a>\n\n</BODY>\n</HTML>
STATUS:CONFIRMED
CLASS:PUBLIC
URL:https://www.golnetwork.com/game/v/148295/
X-MICROSOFT-CDO-BUSYSTATUS:BUSY
X-MICROSOFT-CDO-IMPORTANCE:1
END:VEVENT
BEGIN:VEVENT
UID:gf4fe@games.golnetwork.com
LOCATION:Lamport Stadium - Field 1
GEO:43.6390028;-79.4232104
CREATED:20190808T154604Z
DTSTART:20190907T000000Z
DTEND:20190907T010000Z
DTSTAMP:20260420T024740Z
SUMMARY:XTSC Free Ballin' vs. The Knights Who Say NEE!!!!
DESCRIPTION:The Knights Who Say NEE!!!! vs. XTSC Free Ballin'Plus d'info : 
	#514
X-ALT-DESC;FMTTYPE=text/html:<!DOCTYPE HTML PUBLIC "-//W3C//DTD HTML 3.2//E
	N">\n<HTML>\n<HEAD>\n<TITLE></TITLE>\n</HEAD>\n<BODY>\n<h3>The Knights Who 
	Say NEE!!!! vs. XTSC Free Ballin'</h3>Plus d'info : <a href="https://www.go
	lnetwork.com/game/v/148291/">#514</a>\n\n</BODY>\n</HTML>
STATUS:RESCHEDULED
CLASS:PUBLIC
URL:https://www.golnetwork.com/game/v/148291/
X-MICROSOFT-CDO-BUSYSTATUS:BUSY
X-MICROSOFT-CDO-IMPORTANCE:1
END:VEVENT
BEGIN:VEVENT
UID:gf4f8@games.golnetwork.com
LOCATION:Lamport Stadium - Field 1
GEO:43.6390028;-79.4232104
CREATED:20190808T154539Z
DTSTART:20190824T000000Z
DTEND:20190824T010000Z
DTSTAMP:20260420T024740Z
SUMMARY:XTSC Friday Night Lights vs. XTSC Free Ballin'
DESCRIPTION:XTSC Free Ballin' vs. XTSC Friday Night LightsPlus d'info : #34
	3
X-ALT-DESC;FMTTYPE=text/html:<!DOCTYPE HTML PUBLIC "-//W3C//DTD HTML 3.2//E
	N">\n<HTML>\n<HEAD>\n<TITLE></TITLE>\n</HEAD>\n<BODY>\n<h3>XTSC Free Ballin
	' vs. XTSC Friday Night Lights</h3>Plus d'info : <a href="https://www.golne
	twork.com/game/v/148288/">#343</a>\n\n</BODY>\n</HTML>
STATUS:CONFIRMED
CLASS:PUBLIC
URL:https://www.golnetwork.com/game/v/148288/
X-MICROSOFT-CDO-BUSYSTATUS:BUSY
X-MICROSOFT-CDO-IMPORTANCE:1
END:VEVENT
BEGIN:VEVENT
UID:gf4f0@games.golnetwork.com
LOCATION:Lamport Stadium - Field 1
GEO:43.6390028;-79.4232104
CREATED:20190808T154505Z
DTSTART:20190816T230000Z
DTEND:20190817T000000Z
DTSTAMP:20260420T024740Z
SUMMARY:Six Shooters vs. XTSC Free Ballin'
DESCRIPTION:XTSC Free Ballin' vs. Six ShootersPlus d'info : #248
X-ALT-DESC;FMTTYPE=text/html:<!DOCTYPE HTML PUBLIC "-//W3C//DTD HTML 3.2//E
	N">\n<HTML>\n<HEAD>\n<TITLE></TITLE>\n</HEAD>\n<BODY>\n<h3>XTSC Free Ballin
	' vs. Six Shooters</h3>Plus d'info : <a href="https://www.golnetwork.com/ga
	me/v/148284/">#248</a>\n\n</BODY>\n</HTML>
STATUS:CONFIRMED
CLASS:PUBLIC
URL:https://www.golnetwork.com/game/v/148284/
X-MICROSOFT-CDO-BUSYSTATUS:BUSY
X-MICROSOFT-CDO-IMPORTANCE:1
END:VEVENT
BEGIN:VEVENT
UID:gf3qi@games.golnetwork.com
LOCATION:Lamport Stadium - Field 1
GEO:43.6390028;-79.4232104
CREATED:20190731T183440Z
DTSTART:20190809T230000Z
DTEND:20190810T000000Z
DTSTAMP:20260420T024740Z
SUMMARY:FC Shooters vs. XTSC Free Ballin'
DESCRIPTION:XTSC Free Ballin' vs. FC ShootersPlus d'info : #165
X-ALT-DESC;FMTTYPE=text/html:<!DOCTYPE HTML PUBLIC "-//W3C//DTD HTML 3.2//E
	N">\n<HTML>\n<HEAD>\n<TITLE></TITLE>\n</HEAD>\n<BODY>\n<h3>XTSC Free Ballin
	' vs. FC Shooters</h3>Plus d'info : <a href="https://www.golnetwork.com/gam
	e/v/148077/">#165</a>\n\n</BODY>\n</HTML>
STATUS:CONFIRMED
CLASS:PUBLIC
URL:https://www.golnetwork.com/game/v/148077/
X-MICROSOFT-CDO-BUSYSTATUS:BUSY
X-MICROSOFT-CDO-IMPORTANCE:1
END:VEVENT
BEGIN:VEVENT
UID:gf3qg@games.golnetwork.com
LOCATION:Lamport Stadium - Field 2
GEO:43.6390028;-79.4232104
CREATED:20190731T183428Z
DTSTART:20190727T000000Z
DTEND:20190727T010000Z
DTSTAMP:20260420T024740Z
SUMMARY:XTSC Free Ballin' vs.  Drama Queens
DESCRIPTION: Drama Queens vs. XTSC Free Ballin'Plus d'info : #84
X-ALT-DESC;FMTTYPE=text/html:<!DOCTYPE HTML PUBLIC "-//W3C//DTD HTML 3.2//E
	N">\n<HTML>\n<HEAD>\n<TITLE></TITLE>\n</HEAD>\n<BODY>\n<h3> Drama Queens vs
	. XTSC Free Ballin'</h3>Plus d'info : <a href="https://www.golnetwork.com/g
	ame/v/148076/">#84</a>\n\n</BODY>\n</HTML>
STATUS:CONFIRMED
CLASS:PUBLIC
URL:https://www.golnetwork.com/game/v/148076/
X-MICROSOFT-CDO-BUSYSTATUS:BUSY
X-MICROSOFT-CDO-IMPORTANCE:1
END:VEVENT
END:VCALENDAR
