BEGIN:VCALENDAR
PRODID:-//gdesolutions.com//MV Framework 1.0.0.1607 Calendar//EN
VERSION:2.0
METHOD:PUBLISH
CALSCALE:GREGORIAN
BEGIN:VEVENT
UID:gfmil@games.golnetwork.com
LOCATION:Soccer Nation Field (Newmarket SoccerCentre)
GEO:44.0379318;-79.4421489
CREATED:20200118T152953Z
DTSTART:20200311T000000Z
DTEND:20200311T005500Z
DTSTAMP:20260420T025136Z
SUMMARY:Yolo Touré vs. The Turf Ticklers
DESCRIPTION:The Turf Ticklers vs. Yolo TouréPlus d'info : #42
X-ALT-DESC;FMTTYPE=text/html:<!DOCTYPE HTML PUBLIC "-//W3C//DTD HTML 3.2//E
	N">\n<HTML>\n<HEAD>\n<TITLE></TITLE>\n</HEAD>\n<BODY>\n<h3>The Turf Tickler
	s vs. Yolo Touré</h3>Plus d'info : <a href="https://www.golnetwork.com/gam
	e/v/154896/">#42</a>\n\n</BODY>\n</HTML>
STATUS:CONFIRMED
CLASS:PUBLIC
URL:https://www.golnetwork.com/game/v/154896/
X-MICROSOFT-CDO-BUSYSTATUS:BUSY
X-MICROSOFT-CDO-IMPORTANCE:1
END:VEVENT
BEGIN:VEVENT
UID:gfmih@games.golnetwork.com
LOCATION:Soccer Nation Field (Newmarket SoccerCentre)
GEO:44.0379318;-79.4421489
CREATED:20200118T152953Z
DTSTART:20200304T010000Z
DTEND:20200304T015500Z
DTSTAMP:20260420T025136Z
SUMMARY:The Turf Ticklers vs. Evolution Athletics
DESCRIPTION:Evolution Athletics vs. The Turf TicklersPlus d'info : #36
X-ALT-DESC;FMTTYPE=text/html:<!DOCTYPE HTML PUBLIC "-//W3C//DTD HTML 3.2//E
	N">\n<HTML>\n<HEAD>\n<TITLE></TITLE>\n</HEAD>\n<BODY>\n<h3>Evolution Athlet
	ics vs. The Turf Ticklers</h3>Plus d'info : <a href="https://www.golnetwork
	.com/game/v/154894/">#36</a>\n\n</BODY>\n</HTML>
STATUS:CONFIRMED
CLASS:PUBLIC
URL:https://www.golnetwork.com/game/v/154894/
X-MICROSOFT-CDO-BUSYSTATUS:BUSY
X-MICROSOFT-CDO-IMPORTANCE:1
END:VEVENT
BEGIN:VEVENT
UID:gfmid@games.golnetwork.com
LOCATION:Soccer Nation Field (Newmarket SoccerCentre)
GEO:44.0379318;-79.4421489
CREATED:20200118T152953Z
DTSTART:20200226T020000Z
DTEND:20200226T025500Z
DTSTAMP:20260420T025136Z
SUMMARY:The Turf Ticklers vs. SS Balls
DESCRIPTION:SS Balls vs. The Turf TicklersPlus d'info : #32
X-ALT-DESC;FMTTYPE=text/html:<!DOCTYPE HTML PUBLIC "-//W3C//DTD HTML 3.2//E
	N">\n<HTML>\n<HEAD>\n<TITLE></TITLE>\n</HEAD>\n<BODY>\n<h3>SS Balls vs. The
	 Turf Ticklers</h3>Plus d'info : <a href="https://www.golnetwork.com/game/v
	/154892/">#32</a>\n\n</BODY>\n</HTML>
STATUS:CONFIRMED
CLASS:PUBLIC
URL:https://www.golnetwork.com/game/v/154892/
X-MICROSOFT-CDO-BUSYSTATUS:BUSY
X-MICROSOFT-CDO-IMPORTANCE:1
END:VEVENT
BEGIN:VEVENT
UID:gfmi7@games.golnetwork.com
LOCATION:Soccer Nation Field (Newmarket SoccerCentre)
GEO:44.0379318;-79.4421489
CREATED:20200118T152953Z
DTSTART:20200219T030000Z
DTEND:20200219T035500Z
DTSTAMP:20260420T025136Z
SUMMARY:W's vs. The Turf Ticklers
DESCRIPTION:The Turf Ticklers vs. W'sPlus d'info : #28
X-ALT-DESC;FMTTYPE=text/html:<!DOCTYPE HTML PUBLIC "-//W3C//DTD HTML 3.2//E
	N">\n<HTML>\n<HEAD>\n<TITLE></TITLE>\n</HEAD>\n<BODY>\n<h3>The Turf Tickler
	s vs. W's</h3>Plus d'info : <a href="https://www.golnetwork.com/game/v/1548
	89/">#28</a>\n\n</BODY>\n</HTML>
STATUS:CONFIRMED
CLASS:PUBLIC
URL:https://www.golnetwork.com/game/v/154889/
X-MICROSOFT-CDO-BUSYSTATUS:BUSY
X-MICROSOFT-CDO-IMPORTANCE:1
END:VEVENT
BEGIN:VEVENT
UID:gfmhq@games.golnetwork.com
LOCATION:Soccer Nation Field (Newmarket SoccerCentre)
GEO:44.0379318;-79.4421489
CREATED:20200118T152953Z
DTSTART:20200212T010000Z
DTEND:20200212T015500Z
DTSTAMP:20260420T025136Z
SUMMARY:Juventino vs. The Turf Ticklers
DESCRIPTION:The Turf Ticklers vs. JuventinoPlus d'info : #18
X-ALT-DESC;FMTTYPE=text/html:<!DOCTYPE HTML PUBLIC "-//W3C//DTD HTML 3.2//E
	N">\n<HTML>\n<HEAD>\n<TITLE></TITLE>\n</HEAD>\n<BODY>\n<h3>The Turf Tickler
	s vs. Juventino</h3>Plus d'info : <a href="https://www.golnetwork.com/game/
	v/154885/">#18</a>\n\n</BODY>\n</HTML>
STATUS:CONFIRMED
CLASS:PUBLIC
URL:https://www.golnetwork.com/game/v/154885/
X-MICROSOFT-CDO-BUSYSTATUS:BUSY
X-MICROSOFT-CDO-IMPORTANCE:1
END:VEVENT
BEGIN:VEVENT
UID:gfmhi@games.golnetwork.com
LOCATION:Soccer Nation Field (Newmarket SoccerCentre)
GEO:44.0379318;-79.4421489
CREATED:20200118T152953Z
DTSTART:20200205T020000Z
DTEND:20200205T025500Z
DTSTAMP:20260420T025136Z
SUMMARY:Yolo Touré vs. The Turf Ticklers
DESCRIPTION:The Turf Ticklers vs. Yolo TouréPlus d'info : #14
X-ALT-DESC;FMTTYPE=text/html:<!DOCTYPE HTML PUBLIC "-//W3C//DTD HTML 3.2//E
	N">\n<HTML>\n<HEAD>\n<TITLE></TITLE>\n</HEAD>\n<BODY>\n<h3>The Turf Tickler
	s vs. Yolo Touré</h3>Plus d'info : <a href="https://www.golnetwork.com/gam
	e/v/154881/">#14</a>\n\n</BODY>\n</HTML>
STATUS:CONFIRMED
CLASS:PUBLIC
URL:https://www.golnetwork.com/game/v/154881/
X-MICROSOFT-CDO-BUSYSTATUS:BUSY
X-MICROSOFT-CDO-IMPORTANCE:1
END:VEVENT
BEGIN:VEVENT
UID:gfmhe@games.golnetwork.com
LOCATION:Soccer Nation Field (Newmarket SoccerCentre)
GEO:44.0379318;-79.4421489
CREATED:20200118T152953Z
DTSTART:20200129T020000Z
DTEND:20200129T025500Z
DTSTAMP:20260420T025136Z
SUMMARY:The Turf Ticklers vs. Evolution Athletics
DESCRIPTION:Evolution Athletics vs. The Turf TicklersPlus d'info : #8
X-ALT-DESC;FMTTYPE=text/html:<!DOCTYPE HTML PUBLIC "-//W3C//DTD HTML 3.2//E
	N">\n<HTML>\n<HEAD>\n<TITLE></TITLE>\n</HEAD>\n<BODY>\n<h3>Evolution Athlet
	ics vs. The Turf Ticklers</h3>Plus d'info : <a href="https://www.golnetwork
	.com/game/v/154879/">#8</a>\n\n</BODY>\n</HTML>
STATUS:CONFIRMED
CLASS:PUBLIC
URL:https://www.golnetwork.com/game/v/154879/
X-MICROSOFT-CDO-BUSYSTATUS:BUSY
X-MICROSOFT-CDO-IMPORTANCE:1
END:VEVENT
BEGIN:VEVENT
UID:gfmha@games.golnetwork.com
LOCATION:Soccer Nation Field (Newmarket SoccerCentre)
GEO:44.0379318;-79.4421489
CREATED:20200118T152953Z
DTSTART:20200122T030000Z
DTEND:20200122T035500Z
DTSTAMP:20260420T025136Z
SUMMARY:The Turf Ticklers vs. SS Balls
DESCRIPTION:SS Balls vs. The Turf TicklersPlus d'info : #5
X-ALT-DESC;FMTTYPE=text/html:<!DOCTYPE HTML PUBLIC "-//W3C//DTD HTML 3.2//E
	N">\n<HTML>\n<HEAD>\n<TITLE></TITLE>\n</HEAD>\n<BODY>\n<h3>SS Balls vs. The
	 Turf Ticklers</h3>Plus d'info : <a href="https://www.golnetwork.com/game/v
	/154877/">#5</a>\n\n</BODY>\n</HTML>
STATUS:CONFIRMED
CLASS:PUBLIC
URL:https://www.golnetwork.com/game/v/154877/
X-MICROSOFT-CDO-BUSYSTATUS:BUSY
X-MICROSOFT-CDO-IMPORTANCE:1
END:VEVENT
END:VCALENDAR
