BEGIN:VCALENDAR
PRODID:-//gdesolutions.com//MV Framework 1.0.0.1607 Calendar//EN
VERSION:2.0
METHOD:PUBLISH
CALSCALE:GREGORIAN
BEGIN:VEVENT
UID:gg439@games.golnetwork.com
LOCATION:CVM
GEO:45.508899688721;-73.55419921875
CREATED:20210605T221156Z
DTSTART:20210909T013000Z
DTEND:20210909T023000Z
DTSTAMP:20260420T045728Z
SUMMARY:LAVISH TEAM vs. AHUNTSIC
DESCRIPTION:AHUNTSIC vs. LAVISH TEAMPlus d'info : #223
X-ALT-DESC;FMTTYPE=text/html:<!DOCTYPE HTML PUBLIC "-//W3C//DTD HTML 3.2//E
	N">\n<HTML>\n<HEAD>\n<TITLE></TITLE>\n</HEAD>\n<BODY>\n<h3>AHUNTSIC vs. LAV
	ISH TEAM</h3>Plus d'info : <a href="https://www.golnetwork.com/game/v/15796
	8/">#223</a>\n\n</BODY>\n</HTML>
STATUS:CONFIRMED
CLASS:PUBLIC
URL:https://www.golnetwork.com/game/v/157968/
X-MICROSOFT-CDO-BUSYSTATUS:BUSY
X-MICROSOFT-CDO-IMPORTANCE:1
END:VEVENT
BEGIN:VEVENT
UID:gg45h@games.golnetwork.com
LOCATION:Royalmount
GEO:45.508899688721;-73.55419921875
CREATED:20210605T221156Z
DTSTART:20210831T003000Z
DTEND:20210831T013000Z
DTSTAMP:20260420T045728Z
SUMMARY:GEANTS vs. AHUNTSIC
DESCRIPTION:AHUNTSIC vs. GEANTSPlus d'info : #199
X-ALT-DESC;FMTTYPE=text/html:<!DOCTYPE HTML PUBLIC "-//W3C//DTD HTML 3.2//E
	N">\n<HTML>\n<HEAD>\n<TITLE></TITLE>\n</HEAD>\n<BODY>\n<h3>AHUNTSIC vs. GEA
	NTS</h3>Plus d'info : <a href="https://www.golnetwork.com/game/v/157999/">#
	199</a>\n\n</BODY>\n</HTML>
STATUS:CONFIRMED
CLASS:PUBLIC
URL:https://www.golnetwork.com/game/v/157999/
X-MICROSOFT-CDO-BUSYSTATUS:BUSY
X-MICROSOFT-CDO-IMPORTANCE:1
END:VEVENT
BEGIN:VEVENT
UID:gg459@games.golnetwork.com
LOCATION:Royalmount
GEO:45.508899688721;-73.55419921875
CREATED:20210605T221156Z
DTSTART:20210826T003000Z
DTEND:20210826T013000Z
DTSTAMP:20260420T045728Z
SUMMARY:GATTI vs. AHUNTSIC
DESCRIPTION:AHUNTSIC vs. GATTIPlus d'info : #186
X-ALT-DESC;FMTTYPE=text/html:<!DOCTYPE HTML PUBLIC "-//W3C//DTD HTML 3.2//E
	N">\n<HTML>\n<HEAD>\n<TITLE></TITLE>\n</HEAD>\n<BODY>\n<h3>AHUNTSIC vs. GAT
	TI</h3>Plus d'info : <a href="https://www.golnetwork.com/game/v/157995/">#1
	86</a>\n\n</BODY>\n</HTML>
STATUS:CONFIRMED
CLASS:PUBLIC
URL:https://www.golnetwork.com/game/v/157995/
X-MICROSOFT-CDO-BUSYSTATUS:BUSY
X-MICROSOFT-CDO-IMPORTANCE:1
END:VEVENT
BEGIN:VEVENT
UID:gg448@games.golnetwork.com
LOCATION:Royalmount
GEO:45.508899688721;-73.55419921875
CREATED:20210605T221156Z
DTSTART:20210822T220000Z
DTEND:20210822T230000Z
DTSTAMP:20260420T045728Z
SUMMARY:BAP BAP vs. AHUNTSIC
DESCRIPTION:AHUNTSIC vs. BAP BAPPlus d'info : #172
X-ALT-DESC;FMTTYPE=text/html:<!DOCTYPE HTML PUBLIC "-//W3C//DTD HTML 3.2//E
	N">\n<HTML>\n<HEAD>\n<TITLE></TITLE>\n</HEAD>\n<BODY>\n<h3>AHUNTSIC vs. BAP
	 BAP</h3>Plus d'info : <a href="https://www.golnetwork.com/game/v/157981/">
	#172</a>\n\n</BODY>\n</HTML>
STATUS:CONFIRMED
CLASS:PUBLIC
URL:https://www.golnetwork.com/game/v/157981/
X-MICROSOFT-CDO-BUSYSTATUS:BUSY
X-MICROSOFT-CDO-IMPORTANCE:1
END:VEVENT
BEGIN:VEVENT
UID:gg453@games.golnetwork.com
LOCATION:Royalmount
GEO:45.508899688721;-73.55419921875
CREATED:20210605T221156Z
DTSTART:20210819T003000Z
DTEND:20210819T013000Z
DTSTAMP:20260420T045728Z
SUMMARY:GATTI vs. AHUNTSIC
DESCRIPTION:AHUNTSIC vs. GATTIPlus d'info : #160
X-ALT-DESC;FMTTYPE=text/html:<!DOCTYPE HTML PUBLIC "-//W3C//DTD HTML 3.2//E
	N">\n<HTML>\n<HEAD>\n<TITLE></TITLE>\n</HEAD>\n<BODY>\n<h3>AHUNTSIC vs. GAT
	TI</h3>Plus d'info : <a href="https://www.golnetwork.com/game/v/157992/">#1
	60</a>\n\n</BODY>\n</HTML>
STATUS:CONFIRMED
CLASS:PUBLIC
URL:https://www.golnetwork.com/game/v/157992/
X-MICROSOFT-CDO-BUSYSTATUS:BUSY
X-MICROSOFT-CDO-IMPORTANCE:1
END:VEVENT
BEGIN:VEVENT
UID:gg44q@games.golnetwork.com
LOCATION:CVM
GEO:45.508899688721;-73.55419921875
CREATED:20210605T221156Z
DTSTART:20210812T003000Z
DTEND:20210812T013000Z
DTSTAMP:20260420T045728Z
SUMMARY:AHUNTSIC vs. 64 CV
DESCRIPTION:64 CV vs. AHUNTSICPlus d'info : #136
X-ALT-DESC;FMTTYPE=text/html:<!DOCTYPE HTML PUBLIC "-//W3C//DTD HTML 3.2//E
	N">\n<HTML>\n<HEAD>\n<TITLE></TITLE>\n</HEAD>\n<BODY>\n<h3>64 CV vs. AHUNTS
	IC</h3>Plus d'info : <a href="https://www.golnetwork.com/game/v/157990/">#1
	36</a>\n\n</BODY>\n</HTML>
STATUS:CONFIRMED
CLASS:PUBLIC
URL:https://www.golnetwork.com/game/v/157990/
X-MICROSOFT-CDO-BUSYSTATUS:BUSY
X-MICROSOFT-CDO-IMPORTANCE:1
END:VEVENT
BEGIN:VEVENT
UID:gg44m@games.golnetwork.com
LOCATION:Royalmount
GEO:45.508899688721;-73.55419921875
CREATED:20210605T221156Z
DTSTART:20210804T233000Z
DTEND:20210805T003000Z
DTSTAMP:20260420T045728Z
SUMMARY:AHUNTSIC vs. GEANTS
DESCRIPTION:GEANTS vs. AHUNTSICPlus d'info : #114
X-ALT-DESC;FMTTYPE=text/html:<!DOCTYPE HTML PUBLIC "-//W3C//DTD HTML 3.2//E
	N">\n<HTML>\n<HEAD>\n<TITLE></TITLE>\n</HEAD>\n<BODY>\n<h3>GEANTS vs. AHUNT
	SIC</h3>Plus d'info : <a href="https://www.golnetwork.com/game/v/157988/">#
	114</a>\n\n</BODY>\n</HTML>
STATUS:CONFIRMED
CLASS:PUBLIC
URL:https://www.golnetwork.com/game/v/157988/
X-MICROSOFT-CDO-BUSYSTATUS:BUSY
X-MICROSOFT-CDO-IMPORTANCE:1
END:VEVENT
BEGIN:VEVENT
UID:gg43f@games.golnetwork.com
LOCATION:CVM
GEO:45.508899688721;-73.55419921875
CREATED:20210605T221156Z
DTSTART:20210801T220000Z
DTEND:20210801T230000Z
DTSTAMP:20260420T045728Z
SUMMARY:AHUNTSIC vs. GATTI
DESCRIPTION:GATTI vs. AHUNTSICPlus d'info : #102
X-ALT-DESC;FMTTYPE=text/html:<!DOCTYPE HTML PUBLIC "-//W3C//DTD HTML 3.2//E
	N">\n<HTML>\n<HEAD>\n<TITLE></TITLE>\n</HEAD>\n<BODY>\n<h3>GATTI vs. AHUNTS
	IC</h3>Plus d'info : <a href="https://www.golnetwork.com/game/v/157971/">#1
	02</a>\n\n</BODY>\n</HTML>
STATUS:CONFIRMED
CLASS:PUBLIC
URL:https://www.golnetwork.com/game/v/157971/
X-MICROSOFT-CDO-BUSYSTATUS:BUSY
X-MICROSOFT-CDO-IMPORTANCE:1
END:VEVENT
BEGIN:VEVENT
UID:gg44g@games.golnetwork.com
LOCATION:Royalmount
GEO:45.508899688721;-73.55419921875
CREATED:20210605T221156Z
DTSTART:20210728T233000Z
DTEND:20210729T003000Z
DTSTAMP:20260420T045728Z
SUMMARY:LAVISH TEAM vs. AHUNTSIC
DESCRIPTION:AHUNTSIC vs. LAVISH TEAMPlus d'info : #89
X-ALT-DESC;FMTTYPE=text/html:<!DOCTYPE HTML PUBLIC "-//W3C//DTD HTML 3.2//E
	N">\n<HTML>\n<HEAD>\n<TITLE></TITLE>\n</HEAD>\n<BODY>\n<h3>AHUNTSIC vs. LAV
	ISH TEAM</h3>Plus d'info : <a href="https://www.golnetwork.com/game/v/15798
	5/">#89</a>\n\n</BODY>\n</HTML>
STATUS:CONFIRMED
CLASS:PUBLIC
URL:https://www.golnetwork.com/game/v/157985/
X-MICROSOFT-CDO-BUSYSTATUS:BUSY
X-MICROSOFT-CDO-IMPORTANCE:1
END:VEVENT
BEGIN:VEVENT
UID:gg440@games.golnetwork.com
LOCATION:Royalmount
GEO:45.508899688721;-73.55419921875
CREATED:20210605T221156Z
DTSTART:20210715T013000Z
DTEND:20210715T023000Z
DTSTAMP:20260420T045728Z
SUMMARY:AHUNTSIC vs. 64 CV
DESCRIPTION:64 CV vs. AHUNTSICPlus d'info : #65
X-ALT-DESC;FMTTYPE=text/html:<!DOCTYPE HTML PUBLIC "-//W3C//DTD HTML 3.2//E
	N">\n<HTML>\n<HEAD>\n<TITLE></TITLE>\n</HEAD>\n<BODY>\n<h3>64 CV vs. AHUNTS
	IC</h3>Plus d'info : <a href="https://www.golnetwork.com/game/v/157977/">#6
	5</a>\n\n</BODY>\n</HTML>
STATUS:CONFIRMED
CLASS:PUBLIC
URL:https://www.golnetwork.com/game/v/157977/
X-MICROSOFT-CDO-BUSYSTATUS:BUSY
X-MICROSOFT-CDO-IMPORTANCE:1
END:VEVENT
BEGIN:VEVENT
UID:gg43l@games.golnetwork.com
LOCATION:Royalmount
GEO:45.508899688721;-73.55419921875
CREATED:20210605T221156Z
DTSTART:20210705T233000Z
DTEND:20210706T003000Z
DTSTAMP:20260420T045728Z
SUMMARY:GEANTS vs. AHUNTSIC
DESCRIPTION:AHUNTSIC vs. GEANTSPlus d'info : #42
X-ALT-DESC;FMTTYPE=text/html:<!DOCTYPE HTML PUBLIC "-//W3C//DTD HTML 3.2//E
	N">\n<HTML>\n<HEAD>\n<TITLE></TITLE>\n</HEAD>\n<BODY>\n<h3>AHUNTSIC vs. GEA
	NTS</h3>Plus d'info : <a href="https://www.golnetwork.com/game/v/157974/">#
	42</a>\n\n</BODY>\n</HTML>
STATUS:CONFIRMED
CLASS:PUBLIC
URL:https://www.golnetwork.com/game/v/157974/
X-MICROSOFT-CDO-BUSYSTATUS:BUSY
X-MICROSOFT-CDO-IMPORTANCE:1
END:VEVENT
BEGIN:VEVENT
UID:gg433@games.golnetwork.com
LOCATION:Royalmount
GEO:45.508899688721;-73.55419921875
CREATED:20210605T221156Z
DTSTART:20210617T003000Z
DTEND:20210617T013000Z
DTSTAMP:20260420T045728Z
SUMMARY:AHUNTSIC vs. BAP BAP
DESCRIPTION:BAP BAP vs. AHUNTSICPlus d'info : #3
X-ALT-DESC;FMTTYPE=text/html:<!DOCTYPE HTML PUBLIC "-//W3C//DTD HTML 3.2//E
	N">\n<HTML>\n<HEAD>\n<TITLE></TITLE>\n</HEAD>\n<BODY>\n<h3>BAP BAP vs. AHUN
	TSIC</h3>Plus d'info : <a href="https://www.golnetwork.com/game/v/157965/">
	#3</a>\n\n</BODY>\n</HTML>
STATUS:CONFIRMED
CLASS:PUBLIC
URL:https://www.golnetwork.com/game/v/157965/
X-MICROSOFT-CDO-BUSYSTATUS:BUSY
X-MICROSOFT-CDO-IMPORTANCE:1
END:VEVENT
END:VCALENDAR
