BEGIN:VCALENDAR
PRODID:-//gdesolutions.com//MV Framework 1.0.0.1607 Calendar//EN
VERSION:2.0
METHOD:PUBLISH
CALSCALE:GREGORIAN
BEGIN:VEVENT
UID:gf7c@games.golnetwork.com
LOCATION:SC #3
GEO:45.444301605225;-73.666198730469
CREATED:20090513T223738Z
DTSTART:20090911T030000Z
DTEND:20090911T040000Z
DTSTAMP:20260419T201656Z
SUMMARY:Montreal utd. fc 2 vs. Bulls
DESCRIPTION:Bulls vs. Montreal utd. fc 2Plus d'info : GOL#4569
X-ALT-DESC;FMTTYPE=text/html:<!DOCTYPE HTML PUBLIC "-//W3C//DTD HTML 3.2//E
	N">\n<HTML>\n<HEAD>\n<TITLE></TITLE>\n</HEAD>\n<BODY>\n<h3>Bulls vs. Montre
	al utd. fc 2</h3>Plus d'info : <a href="https://www.golnetwork.com/game/v/4
	569/">GOL#4569</a>\n\n</BODY>\n</HTML>
STATUS:CONFIRMED
CLASS:PUBLIC
URL:https://www.golnetwork.com/game/v/4569/
X-MICROSOFT-CDO-BUSYSTATUS:BUSY
X-MICROSOFT-CDO-IMPORTANCE:1
END:VEVENT
BEGIN:VEVENT
UID:gf9k@games.golnetwork.com
LOCATION:SC #3
GEO:45.444301605225;-73.666198730469
CREATED:20090513T223820Z
DTSTART:20090910T230000Z
DTEND:20090911T000000Z
DTSTAMP:20260419T201656Z
SUMMARY:Montreal utd. fc 2 vs. Kristom
DESCRIPTION:Kristom vs. Montreal utd. fc 2Plus d'info : GOL#4600
X-ALT-DESC;FMTTYPE=text/html:<!DOCTYPE HTML PUBLIC "-//W3C//DTD HTML 3.2//E
	N">\n<HTML>\n<HEAD>\n<TITLE></TITLE>\n</HEAD>\n<BODY>\n<h3>Kristom vs. Mont
	real utd. fc 2</h3>Plus d'info : <a href="https://www.golnetwork.com/game/v
	/4600/">GOL#4600</a>\n\n</BODY>\n</HTML>
STATUS:CONFIRMED
CLASS:PUBLIC
URL:https://www.golnetwork.com/game/v/4600/
X-MICROSOFT-CDO-BUSYSTATUS:BUSY
X-MICROSOFT-CDO-IMPORTANCE:1
END:VEVENT
BEGIN:VEVENT
UID:gf3q@games.golnetwork.com
LOCATION:SC #3
GEO:45.444301605225;-73.666198730469
CREATED:20090513T223548Z
DTSTART:20090904T030000Z
DTEND:20090904T040000Z
DTSTAMP:20260419T201656Z
SUMMARY:Manglers vs. Montreal utd. fc 2
DESCRIPTION:Montreal utd. fc 2 vs. ManglersPlus d'info : GOL#4522
X-ALT-DESC;FMTTYPE=text/html:<!DOCTYPE HTML PUBLIC "-//W3C//DTD HTML 3.2//E
	N">\n<HTML>\n<HEAD>\n<TITLE></TITLE>\n</HEAD>\n<BODY>\n<h3>Montreal utd. fc
	 2 vs. Manglers</h3>Plus d'info : <a href="https://www.golnetwork.com/game/
	v/4522/">GOL#4522</a>\n\n</BODY>\n</HTML>
STATUS:CONFIRMED
CLASS:PUBLIC
URL:https://www.golnetwork.com/game/v/4522/
X-MICROSOFT-CDO-BUSYSTATUS:BUSY
X-MICROSOFT-CDO-IMPORTANCE:1
END:VEVENT
BEGIN:VEVENT
UID:gf4l@games.golnetwork.com
LOCATION:SC #3
GEO:45.444301605225;-73.666198730469
CREATED:20090513T223555Z
DTSTART:20090904T010000Z
DTEND:20090904T020000Z
DTSTAMP:20260419T201656Z
SUMMARY:Kristom vs. Montreal utd. fc 2
DESCRIPTION:Montreal utd. fc 2 vs. KristomPlus d'info : GOL#4533
X-ALT-DESC;FMTTYPE=text/html:<!DOCTYPE HTML PUBLIC "-//W3C//DTD HTML 3.2//E
	N">\n<HTML>\n<HEAD>\n<TITLE></TITLE>\n</HEAD>\n<BODY>\n<h3>Montreal utd. fc
	 2 vs. Kristom</h3>Plus d'info : <a href="https://www.golnetwork.com/game/v
	/4533/">GOL#4533</a>\n\n</BODY>\n</HTML>
STATUS:CONFIRMED
CLASS:PUBLIC
URL:https://www.golnetwork.com/game/v/4533/
X-MICROSOFT-CDO-BUSYSTATUS:BUSY
X-MICROSOFT-CDO-IMPORTANCE:1
END:VEVENT
BEGIN:VEVENT
UID:gf89@games.golnetwork.com
LOCATION:SC #3
GEO:45.444301605225;-73.666198730469
CREATED:20090513T223752Z
DTSTART:20090828T030000Z
DTEND:20090828T040000Z
DTSTAMP:20260419T201656Z
SUMMARY:Montreal utd. fc 2 vs. Universel
DESCRIPTION:Universel vs. Montreal utd. fc 2Plus d'info : GOL#4581
X-ALT-DESC;FMTTYPE=text/html:<!DOCTYPE HTML PUBLIC "-//W3C//DTD HTML 3.2//E
	N">\n<HTML>\n<HEAD>\n<TITLE></TITLE>\n</HEAD>\n<BODY>\n<h3>Universel vs. Mo
	ntreal utd. fc 2</h3>Plus d'info : <a href="https://www.golnetwork.com/game
	/v/4581/">GOL#4581</a>\n\n</BODY>\n</HTML>
STATUS:CONFIRMED
CLASS:PUBLIC
URL:https://www.golnetwork.com/game/v/4581/
X-MICROSOFT-CDO-BUSYSTATUS:BUSY
X-MICROSOFT-CDO-IMPORTANCE:1
END:VEVENT
BEGIN:VEVENT
UID:gf3o@games.golnetwork.com
LOCATION:SC #3
GEO:45.444301605225;-73.666198730469
CREATED:20090513T223548Z
DTSTART:20090828T010000Z
DTEND:20090828T020000Z
DTSTAMP:20260419T201656Z
SUMMARY:Palermo fc vs. Montreal utd. fc 2
DESCRIPTION:Montreal utd. fc 2 vs. Palermo fcPlus d'info : GOL#4521
X-ALT-DESC;FMTTYPE=text/html:<!DOCTYPE HTML PUBLIC "-//W3C//DTD HTML 3.2//E
	N">\n<HTML>\n<HEAD>\n<TITLE></TITLE>\n</HEAD>\n<BODY>\n<h3>Montreal utd. fc
	 2 vs. Palermo fc</h3>Plus d'info : <a href="https://www.golnetwork.com/gam
	e/v/4521/">GOL#4521</a>\n\n</BODY>\n</HTML>
STATUS:CONFIRMED
CLASS:PUBLIC
URL:https://www.golnetwork.com/game/v/4521/
X-MICROSOFT-CDO-BUSYSTATUS:BUSY
X-MICROSOFT-CDO-IMPORTANCE:1
END:VEVENT
BEGIN:VEVENT
UID:gfa3@games.golnetwork.com
LOCATION:SC #3
GEO:45.444301605225;-73.666198730469
CREATED:20090513T223850Z
DTSTART:20090821T020000Z
DTEND:20090821T030000Z
DTSTAMP:20260419T201656Z
SUMMARY:Montreal utd. fc 2 vs. Palermo fc
DESCRIPTION:Palermo fc vs. Montreal utd. fc 2Plus d'info : GOL#4605
X-ALT-DESC;FMTTYPE=text/html:<!DOCTYPE HTML PUBLIC "-//W3C//DTD HTML 3.2//E
	N">\n<HTML>\n<HEAD>\n<TITLE></TITLE>\n</HEAD>\n<BODY>\n<h3>Palermo fc vs. M
	ontreal utd. fc 2</h3>Plus d'info : <a href="https://www.golnetwork.com/gam
	e/v/4605/">GOL#4605</a>\n\n</BODY>\n</HTML>
STATUS:CONFIRMED
CLASS:PUBLIC
URL:https://www.golnetwork.com/game/v/4605/
X-MICROSOFT-CDO-BUSYSTATUS:BUSY
X-MICROSOFT-CDO-IMPORTANCE:1
END:VEVENT
BEGIN:VEVENT
UID:gf3m@games.golnetwork.com
LOCATION:SC #3
GEO:45.444301605225;-73.666198730469
CREATED:20090513T223547Z
DTSTART:20090820T230000Z
DTEND:20090821T000000Z
DTSTAMP:20260419T201656Z
SUMMARY:Laurentide vs. Montreal utd. fc 2
DESCRIPTION:Montreal utd. fc 2 vs. LaurentidePlus d'info : GOL#4520
X-ALT-DESC;FMTTYPE=text/html:<!DOCTYPE HTML PUBLIC "-//W3C//DTD HTML 3.2//E
	N">\n<HTML>\n<HEAD>\n<TITLE></TITLE>\n</HEAD>\n<BODY>\n<h3>Montreal utd. fc
	 2 vs. Laurentide</h3>Plus d'info : <a href="https://www.golnetwork.com/gam
	e/v/4520/">GOL#4520</a>\n\n</BODY>\n</HTML>
STATUS:CONFIRMED
CLASS:PUBLIC
URL:https://www.golnetwork.com/game/v/4520/
X-MICROSOFT-CDO-BUSYSTATUS:BUSY
X-MICROSOFT-CDO-IMPORTANCE:1
END:VEVENT
BEGIN:VEVENT
UID:gf74@games.golnetwork.com
LOCATION:SC #3
GEO:45.444301605225;-73.666198730469
CREATED:20090513T223737Z
DTSTART:20090814T030000Z
DTEND:20090814T040000Z
DTSTAMP:20260419T201656Z
SUMMARY:Montreal utd. fc 2 vs. Bulls
DESCRIPTION:Bulls vs. Montreal utd. fc 2Plus d'info : GOL#4565
X-ALT-DESC;FMTTYPE=text/html:<!DOCTYPE HTML PUBLIC "-//W3C//DTD HTML 3.2//E
	N">\n<HTML>\n<HEAD>\n<TITLE></TITLE>\n</HEAD>\n<BODY>\n<h3>Bulls vs. Montre
	al utd. fc 2</h3>Plus d'info : <a href="https://www.golnetwork.com/game/v/4
	565/">GOL#4565</a>\n\n</BODY>\n</HTML>
STATUS:CONFIRMED
CLASS:PUBLIC
URL:https://www.golnetwork.com/game/v/4565/
X-MICROSOFT-CDO-BUSYSTATUS:BUSY
X-MICROSOFT-CDO-IMPORTANCE:1
END:VEVENT
BEGIN:VEVENT
UID:gf4h@games.golnetwork.com
LOCATION:SC #3
GEO:45.444301605225;-73.666198730469
CREATED:20090513T223555Z
DTSTART:20090814T010000Z
DTEND:20090814T020000Z
DTSTAMP:20260419T201656Z
SUMMARY:Utx FC2 vs. Montreal utd. fc 2
DESCRIPTION:Montreal utd. fc 2 vs. Utx FC2Plus d'info : GOL#4531
X-ALT-DESC;FMTTYPE=text/html:<!DOCTYPE HTML PUBLIC "-//W3C//DTD HTML 3.2//E
	N">\n<HTML>\n<HEAD>\n<TITLE></TITLE>\n</HEAD>\n<BODY>\n<h3>Montreal utd. fc
	 2 vs. Utx FC2</h3>Plus d'info : <a href="https://www.golnetwork.com/game/v
	/4531/">GOL#4531</a>\n\n</BODY>\n</HTML>
STATUS:CONFIRMED
CLASS:PUBLIC
URL:https://www.golnetwork.com/game/v/4531/
X-MICROSOFT-CDO-BUSYSTATUS:BUSY
X-MICROSOFT-CDO-IMPORTANCE:1
END:VEVENT
BEGIN:VEVENT
UID:gf3k@games.golnetwork.com
LOCATION:SC #3
GEO:45.444301605225;-73.666198730469
CREATED:20090513T223547Z
DTSTART:20090807T020000Z
DTEND:20090807T030000Z
DTSTAMP:20260419T201656Z
SUMMARY:Utx FC2 vs. Montreal utd. fc 2
DESCRIPTION:Montreal utd. fc 2 vs. Utx FC2Plus d'info : GOL#4519
X-ALT-DESC;FMTTYPE=text/html:<!DOCTYPE HTML PUBLIC "-//W3C//DTD HTML 3.2//E
	N">\n<HTML>\n<HEAD>\n<TITLE></TITLE>\n</HEAD>\n<BODY>\n<h3>Montreal utd. fc
	 2 vs. Utx FC2</h3>Plus d'info : <a href="https://www.golnetwork.com/game/v
	/4519/">GOL#4519</a>\n\n</BODY>\n</HTML>
STATUS:CONFIRMED
CLASS:PUBLIC
URL:https://www.golnetwork.com/game/v/4519/
X-MICROSOFT-CDO-BUSYSTATUS:BUSY
X-MICROSOFT-CDO-IMPORTANCE:1
END:VEVENT
BEGIN:VEVENT
UID:gf2l@games.golnetwork.com
LOCATION:SC #3
GEO:45.444301605225;-73.666198730469
CREATED:20090513T223536Z
DTSTART:20090806T230000Z
DTEND:20090807T000000Z
DTSTAMP:20260419T201656Z
SUMMARY:Islanders vs. Montreal utd. fc 2
DESCRIPTION:Montreal utd. fc 2 vs. IslandersPlus d'info : GOL#4506
X-ALT-DESC;FMTTYPE=text/html:<!DOCTYPE HTML PUBLIC "-//W3C//DTD HTML 3.2//E
	N">\n<HTML>\n<HEAD>\n<TITLE></TITLE>\n</HEAD>\n<BODY>\n<h3>Montreal utd. fc
	 2 vs. Islanders</h3>Plus d'info : <a href="https://www.golnetwork.com/game
	/v/4506/">GOL#4506</a>\n\n</BODY>\n</HTML>
STATUS:CONFIRMED
CLASS:PUBLIC
URL:https://www.golnetwork.com/game/v/4506/
X-MICROSOFT-CDO-BUSYSTATUS:BUSY
X-MICROSOFT-CDO-IMPORTANCE:1
END:VEVENT
BEGIN:VEVENT
UID:gf83@games.golnetwork.com
LOCATION:SC #3
GEO:45.444301605225;-73.666198730469
CREATED:20090513T223752Z
DTSTART:20090731T020000Z
DTEND:20090731T030000Z
DTSTAMP:20260419T201656Z
SUMMARY:Montreal utd. fc 2 vs. Universel
DESCRIPTION:Universel vs. Montreal utd. fc 2Plus d'info : GOL#4578
X-ALT-DESC;FMTTYPE=text/html:<!DOCTYPE HTML PUBLIC "-//W3C//DTD HTML 3.2//E
	N">\n<HTML>\n<HEAD>\n<TITLE></TITLE>\n</HEAD>\n<BODY>\n<h3>Universel vs. Mo
	ntreal utd. fc 2</h3>Plus d'info : <a href="https://www.golnetwork.com/game
	/v/4578/">GOL#4578</a>\n\n</BODY>\n</HTML>
STATUS:CONFIRMED
CLASS:PUBLIC
URL:https://www.golnetwork.com/game/v/4578/
X-MICROSOFT-CDO-BUSYSTATUS:BUSY
X-MICROSOFT-CDO-IMPORTANCE:1
END:VEVENT
BEGIN:VEVENT
UID:gfa1@games.golnetwork.com
LOCATION:SC #3
GEO:45.444301605225;-73.666198730469
CREATED:20090513T223849Z
DTSTART:20090730T230000Z
DTEND:20090731T000000Z
DTSTAMP:20260419T201656Z
SUMMARY:Montreal utd. fc 2 vs. Laurentide
DESCRIPTION:Laurentide vs. Montreal utd. fc 2Plus d'info : GOL#4604
X-ALT-DESC;FMTTYPE=text/html:<!DOCTYPE HTML PUBLIC "-//W3C//DTD HTML 3.2//E
	N">\n<HTML>\n<HEAD>\n<TITLE></TITLE>\n</HEAD>\n<BODY>\n<h3>Laurentide vs. M
	ontreal utd. fc 2</h3>Plus d'info : <a href="https://www.golnetwork.com/gam
	e/v/4604/">GOL#4604</a>\n\n</BODY>\n</HTML>
STATUS:CONFIRMED
CLASS:PUBLIC
URL:https://www.golnetwork.com/game/v/4604/
X-MICROSOFT-CDO-BUSYSTATUS:BUSY
X-MICROSOFT-CDO-IMPORTANCE:1
END:VEVENT
BEGIN:VEVENT
UID:gf3i@games.golnetwork.com
LOCATION:SC #3
GEO:45.444301605225;-73.666198730469
CREATED:20090513T223547Z
DTSTART:20090724T000000Z
DTEND:20090724T010000Z
DTSTAMP:20260419T201656Z
SUMMARY:Montreal utd. fc 2 vs. Montreal utd. fc 2
DESCRIPTION:Montreal utd. fc 2 vs. Montreal utd. fc 2Plus d'info : GOL#4518
X-ALT-DESC;FMTTYPE=text/html:<!DOCTYPE HTML PUBLIC "-//W3C//DTD HTML 3.2//E
	N">\n<HTML>\n<HEAD>\n<TITLE></TITLE>\n</HEAD>\n<BODY>\n<h3>Montreal utd. fc
	 2 vs. Montreal utd. fc 2</h3>Plus d'info : <a href="https://www.golnetwork
	.com/game/v/4518/">GOL#4518</a>\n\n</BODY>\n</HTML>
STATUS:CONFIRMED
CLASS:PUBLIC
URL:https://www.golnetwork.com/game/v/4518/
X-MICROSOFT-CDO-BUSYSTATUS:BUSY
X-MICROSOFT-CDO-IMPORTANCE:1
END:VEVENT
BEGIN:VEVENT
UID:gf90@games.golnetwork.com
LOCATION:SC #3
GEO:45.444301605225;-73.666198730469
CREATED:20090513T223803Z
DTSTART:20090717T010000Z
DTEND:20090717T020000Z
DTSTAMP:20260419T201656Z
SUMMARY:Montreal utd. fc 2 vs. Islanders
DESCRIPTION:Islanders vs. Montreal utd. fc 2Plus d'info : GOL#4590
X-ALT-DESC;FMTTYPE=text/html:<!DOCTYPE HTML PUBLIC "-//W3C//DTD HTML 3.2//E
	N">\n<HTML>\n<HEAD>\n<TITLE></TITLE>\n</HEAD>\n<BODY>\n<h3>Islanders vs. Mo
	ntreal utd. fc 2</h3>Plus d'info : <a href="https://www.golnetwork.com/game
	/v/4590/">GOL#4590</a>\n\n</BODY>\n</HTML>
STATUS:CONFIRMED
CLASS:PUBLIC
URL:https://www.golnetwork.com/game/v/4590/
X-MICROSOFT-CDO-BUSYSTATUS:BUSY
X-MICROSOFT-CDO-IMPORTANCE:1
END:VEVENT
BEGIN:VEVENT
UID:gf4d@games.golnetwork.com
LOCATION:SC #3
GEO:45.444301605225;-73.666198730469
CREATED:20090513T223554Z
DTSTART:20090717T000000Z
DTEND:20090717T010000Z
DTSTAMP:20260419T201656Z
SUMMARY:Manglers vs. Montreal utd. fc 2
DESCRIPTION:Montreal utd. fc 2 vs. ManglersPlus d'info : GOL#4529
X-ALT-DESC;FMTTYPE=text/html:<!DOCTYPE HTML PUBLIC "-//W3C//DTD HTML 3.2//E
	N">\n<HTML>\n<HEAD>\n<TITLE></TITLE>\n</HEAD>\n<BODY>\n<h3>Montreal utd. fc
	 2 vs. Manglers</h3>Plus d'info : <a href="https://www.golnetwork.com/game/
	v/4529/">GOL#4529</a>\n\n</BODY>\n</HTML>
STATUS:CONFIRMED
CLASS:PUBLIC
URL:https://www.golnetwork.com/game/v/4529/
X-MICROSOFT-CDO-BUSYSTATUS:BUSY
X-MICROSOFT-CDO-IMPORTANCE:1
END:VEVENT
BEGIN:VEVENT
UID:gf07@games.golnetwork.com
LOCATION:SC #3
GEO:45.444301605225;-73.666198730469
CREATED:20090513T223434Z
DTSTART:20090710T030000Z
DTEND:20090710T040000Z
DTSTAMP:20260419T201656Z
SUMMARY:Bulls vs. Montreal utd. fc 2
DESCRIPTION:Montreal utd. fc 2 vs. BullsPlus d'info : GOL#4472
X-ALT-DESC;FMTTYPE=text/html:<!DOCTYPE HTML PUBLIC "-//W3C//DTD HTML 3.2//E
	N">\n<HTML>\n<HEAD>\n<TITLE></TITLE>\n</HEAD>\n<BODY>\n<h3>Montreal utd. fc
	 2 vs. Bulls</h3>Plus d'info : <a href="https://www.golnetwork.com/game/v/4
	472/">GOL#4472</a>\n\n</BODY>\n</HTML>
STATUS:CONFIRMED
CLASS:PUBLIC
URL:https://www.golnetwork.com/game/v/4472/
X-MICROSOFT-CDO-BUSYSTATUS:BUSY
X-MICROSOFT-CDO-IMPORTANCE:1
END:VEVENT
BEGIN:VEVENT
UID:gf3g@games.golnetwork.com
LOCATION:SC #3
GEO:45.444301605225;-73.666198730469
CREATED:20090513T223547Z
DTSTART:20090709T230000Z
DTEND:20090710T000000Z
DTSTAMP:20260419T201656Z
SUMMARY:Kristom vs. Montreal utd. fc 2
DESCRIPTION:Montreal utd. fc 2 vs. KristomPlus d'info : GOL#4517
X-ALT-DESC;FMTTYPE=text/html:<!DOCTYPE HTML PUBLIC "-//W3C//DTD HTML 3.2//E
	N">\n<HTML>\n<HEAD>\n<TITLE></TITLE>\n</HEAD>\n<BODY>\n<h3>Montreal utd. fc
	 2 vs. Kristom</h3>Plus d'info : <a href="https://www.golnetwork.com/game/v
	/4517/">GOL#4517</a>\n\n</BODY>\n</HTML>
STATUS:CONFIRMED
CLASS:PUBLIC
URL:https://www.golnetwork.com/game/v/4517/
X-MICROSOFT-CDO-BUSYSTATUS:BUSY
X-MICROSOFT-CDO-IMPORTANCE:1
END:VEVENT
BEGIN:VEVENT
UID:gf9i@games.golnetwork.com
LOCATION:SC #3
GEO:45.444301605225;-73.666198730469
CREATED:20090513T223820Z
DTSTART:20090703T030000Z
DTEND:20090703T040000Z
DTSTAMP:20260419T201656Z
SUMMARY:Montreal utd. fc 2 vs. Manglers
DESCRIPTION:Manglers vs. Montreal utd. fc 2Plus d'info : GOL#4599
X-ALT-DESC;FMTTYPE=text/html:<!DOCTYPE HTML PUBLIC "-//W3C//DTD HTML 3.2//E
	N">\n<HTML>\n<HEAD>\n<TITLE></TITLE>\n</HEAD>\n<BODY>\n<h3>Manglers vs. Mon
	treal utd. fc 2</h3>Plus d'info : <a href="https://www.golnetwork.com/game/
	v/4599/">GOL#4599</a>\n\n</BODY>\n</HTML>
STATUS:CONFIRMED
CLASS:PUBLIC
URL:https://www.golnetwork.com/game/v/4599/
X-MICROSOFT-CDO-BUSYSTATUS:BUSY
X-MICROSOFT-CDO-IMPORTANCE:1
END:VEVENT
BEGIN:VEVENT
UID:gf9q@games.golnetwork.com
LOCATION:SC #3
GEO:45.444301605225;-73.666198730469
CREATED:20090513T223849Z
DTSTART:20090703T010000Z
DTEND:20090703T020000Z
DTSTAMP:20260419T201656Z
SUMMARY:Montreal utd. fc 2 vs. Kristom
DESCRIPTION:Kristom vs. Montreal utd. fc 2Plus d'info : GOL#4603
X-ALT-DESC;FMTTYPE=text/html:<!DOCTYPE HTML PUBLIC "-//W3C//DTD HTML 3.2//E
	N">\n<HTML>\n<HEAD>\n<TITLE></TITLE>\n</HEAD>\n<BODY>\n<h3>Kristom vs. Mont
	real utd. fc 2</h3>Plus d'info : <a href="https://www.golnetwork.com/game/v
	/4603/">GOL#4603</a>\n\n</BODY>\n</HTML>
STATUS:CONFIRMED
CLASS:PUBLIC
URL:https://www.golnetwork.com/game/v/4603/
X-MICROSOFT-CDO-BUSYSTATUS:BUSY
X-MICROSOFT-CDO-IMPORTANCE:1
END:VEVENT
BEGIN:VEVENT
UID:gf1a@games.golnetwork.com
LOCATION:SC #3
GEO:45.444301605225;-73.666198730469
CREATED:20090513T223503Z
DTSTART:20090626T030000Z
DTEND:20090626T040000Z
DTSTAMP:20260419T201656Z
SUMMARY:Universel vs. Montreal utd. fc 2
DESCRIPTION:Montreal utd. fc 2 vs. UniverselPlus d'info : GOL#4487
X-ALT-DESC;FMTTYPE=text/html:<!DOCTYPE HTML PUBLIC "-//W3C//DTD HTML 3.2//E
	N">\n<HTML>\n<HEAD>\n<TITLE></TITLE>\n</HEAD>\n<BODY>\n<h3>Montreal utd. fc
	 2 vs. Universel</h3>Plus d'info : <a href="https://www.golnetwork.com/game
	/v/4487/">GOL#4487</a>\n\n</BODY>\n</HTML>
STATUS:CONFIRMED
CLASS:PUBLIC
URL:https://www.golnetwork.com/game/v/4487/
X-MICROSOFT-CDO-BUSYSTATUS:BUSY
X-MICROSOFT-CDO-IMPORTANCE:1
END:VEVENT
BEGIN:VEVENT
UID:gf9g@games.golnetwork.com
LOCATION:SC #3
GEO:45.444301605225;-73.666198730469
CREATED:20090513T223819Z
DTSTART:20090626T010000Z
DTEND:20090626T020000Z
DTSTAMP:20260419T201656Z
SUMMARY:Montreal utd. fc 2 vs. Palermo fc
DESCRIPTION:Palermo fc vs. Montreal utd. fc 2Plus d'info : GOL#4598
X-ALT-DESC;FMTTYPE=text/html:<!DOCTYPE HTML PUBLIC "-//W3C//DTD HTML 3.2//E
	N">\n<HTML>\n<HEAD>\n<TITLE></TITLE>\n</HEAD>\n<BODY>\n<h3>Palermo fc vs. M
	ontreal utd. fc 2</h3>Plus d'info : <a href="https://www.golnetwork.com/gam
	e/v/4598/">GOL#4598</a>\n\n</BODY>\n</HTML>
STATUS:CONFIRMED
CLASS:PUBLIC
URL:https://www.golnetwork.com/game/v/4598/
X-MICROSOFT-CDO-BUSYSTATUS:BUSY
X-MICROSOFT-CDO-IMPORTANCE:1
END:VEVENT
BEGIN:VEVENT
UID:gf49@games.golnetwork.com
LOCATION:SC #3
GEO:45.444301605225;-73.666198730469
CREATED:20090513T223554Z
DTSTART:20090619T020000Z
DTEND:20090619T030000Z
DTSTAMP:20260419T201656Z
SUMMARY:Palermo fc vs. Montreal utd. fc 2
DESCRIPTION:Montreal utd. fc 2 vs. Palermo fcPlus d'info : GOL#4527
X-ALT-DESC;FMTTYPE=text/html:<!DOCTYPE HTML PUBLIC "-//W3C//DTD HTML 3.2//E
	N">\n<HTML>\n<HEAD>\n<TITLE></TITLE>\n</HEAD>\n<BODY>\n<h3>Montreal utd. fc
	 2 vs. Palermo fc</h3>Plus d'info : <a href="https://www.golnetwork.com/gam
	e/v/4527/">GOL#4527</a>\n\n</BODY>\n</HTML>
STATUS:CONFIRMED
CLASS:PUBLIC
URL:https://www.golnetwork.com/game/v/4527/
X-MICROSOFT-CDO-BUSYSTATUS:BUSY
X-MICROSOFT-CDO-IMPORTANCE:1
END:VEVENT
BEGIN:VEVENT
UID:gf9e@games.golnetwork.com
LOCATION:SC #3
GEO:45.444301605225;-73.666198730469
CREATED:20090513T223819Z
DTSTART:20090618T230000Z
DTEND:20090619T000000Z
DTSTAMP:20260419T201656Z
SUMMARY:Montreal utd. fc 2 vs. Laurentide
DESCRIPTION:Laurentide vs. Montreal utd. fc 2Plus d'info : GOL#4597
X-ALT-DESC;FMTTYPE=text/html:<!DOCTYPE HTML PUBLIC "-//W3C//DTD HTML 3.2//E
	N">\n<HTML>\n<HEAD>\n<TITLE></TITLE>\n</HEAD>\n<BODY>\n<h3>Laurentide vs. M
	ontreal utd. fc 2</h3>Plus d'info : <a href="https://www.golnetwork.com/gam
	e/v/4597/">GOL#4597</a>\n\n</BODY>\n</HTML>
STATUS:CONFIRMED
CLASS:PUBLIC
URL:https://www.golnetwork.com/game/v/4597/
X-MICROSOFT-CDO-BUSYSTATUS:BUSY
X-MICROSOFT-CDO-IMPORTANCE:1
END:VEVENT
BEGIN:VEVENT
UID:geqq@games.golnetwork.com
LOCATION:SC #3
GEO:45.444301605225;-73.666198730469
CREATED:20090513T223433Z
DTSTART:20090612T030000Z
DTEND:20090612T040000Z
DTSTAMP:20260419T201656Z
SUMMARY:Bulls vs. Montreal utd. fc 2
DESCRIPTION:Montreal utd. fc 2 vs. BullsPlus d'info : GOL#4468
X-ALT-DESC;FMTTYPE=text/html:<!DOCTYPE HTML PUBLIC "-//W3C//DTD HTML 3.2//E
	N">\n<HTML>\n<HEAD>\n<TITLE></TITLE>\n</HEAD>\n<BODY>\n<h3>Montreal utd. fc
	 2 vs. Bulls</h3>Plus d'info : <a href="https://www.golnetwork.com/game/v/4
	468/">GOL#4468</a>\n\n</BODY>\n</HTML>
STATUS:CONFIRMED
CLASS:PUBLIC
URL:https://www.golnetwork.com/game/v/4468/
X-MICROSOFT-CDO-BUSYSTATUS:BUSY
X-MICROSOFT-CDO-IMPORTANCE:1
END:VEVENT
BEGIN:VEVENT
UID:gf9o@games.golnetwork.com
LOCATION:SC #3
GEO:45.444301605225;-73.666198730469
CREATED:20090513T223849Z
DTSTART:20090612T010000Z
DTEND:20090612T020000Z
DTSTAMP:20260419T201656Z
SUMMARY:Montreal utd. fc 2 vs. Utx FC2
DESCRIPTION:Utx FC2 vs. Montreal utd. fc 2Plus d'info : GOL#4602
X-ALT-DESC;FMTTYPE=text/html:<!DOCTYPE HTML PUBLIC "-//W3C//DTD HTML 3.2//E
	N">\n<HTML>\n<HEAD>\n<TITLE></TITLE>\n</HEAD>\n<BODY>\n<h3>Utx FC2 vs. Mont
	real utd. fc 2</h3>Plus d'info : <a href="https://www.golnetwork.com/game/v
	/4602/">GOL#4602</a>\n\n</BODY>\n</HTML>
STATUS:CONFIRMED
CLASS:PUBLIC
URL:https://www.golnetwork.com/game/v/4602/
X-MICROSOFT-CDO-BUSYSTATUS:BUSY
X-MICROSOFT-CDO-IMPORTANCE:1
END:VEVENT
BEGIN:VEVENT
UID:gf9c@games.golnetwork.com
LOCATION:SC #3
GEO:45.444301605225;-73.666198730469
CREATED:20090513T223819Z
DTSTART:20090605T020000Z
DTEND:20090605T030000Z
DTSTAMP:20260419T201656Z
SUMMARY:Montreal utd. fc 2 vs. Utx FC2
DESCRIPTION:Utx FC2 vs. Montreal utd. fc 2Plus d'info : GOL#4596
X-ALT-DESC;FMTTYPE=text/html:<!DOCTYPE HTML PUBLIC "-//W3C//DTD HTML 3.2//E
	N">\n<HTML>\n<HEAD>\n<TITLE></TITLE>\n</HEAD>\n<BODY>\n<h3>Utx FC2 vs. Mont
	real utd. fc 2</h3>Plus d'info : <a href="https://www.golnetwork.com/game/v
	/4596/">GOL#4596</a>\n\n</BODY>\n</HTML>
STATUS:CONFIRMED
CLASS:PUBLIC
URL:https://www.golnetwork.com/game/v/4596/
X-MICROSOFT-CDO-BUSYSTATUS:BUSY
X-MICROSOFT-CDO-IMPORTANCE:1
END:VEVENT
BEGIN:VEVENT
UID:gf8f@games.golnetwork.com
LOCATION:SC #3
GEO:45.444301605225;-73.666198730469
CREATED:20090513T223802Z
DTSTART:20090604T230000Z
DTEND:20090605T000000Z
DTSTAMP:20260419T201656Z
SUMMARY:Montreal utd. fc 2 vs. Islanders
DESCRIPTION:Islanders vs. Montreal utd. fc 2Plus d'info : GOL#4584
X-ALT-DESC;FMTTYPE=text/html:<!DOCTYPE HTML PUBLIC "-//W3C//DTD HTML 3.2//E
	N">\n<HTML>\n<HEAD>\n<TITLE></TITLE>\n</HEAD>\n<BODY>\n<h3>Islanders vs. Mo
	ntreal utd. fc 2</h3>Plus d'info : <a href="https://www.golnetwork.com/game
	/v/4584/">GOL#4584</a>\n\n</BODY>\n</HTML>
STATUS:CONFIRMED
CLASS:PUBLIC
URL:https://www.golnetwork.com/game/v/4584/
X-MICROSOFT-CDO-BUSYSTATUS:BUSY
X-MICROSOFT-CDO-IMPORTANCE:1
END:VEVENT
BEGIN:VEVENT
UID:gf14@games.golnetwork.com
LOCATION:SC #3
GEO:45.444301605225;-73.666198730469
CREATED:20090513T223502Z
DTSTART:20090529T000000Z
DTEND:20090529T010000Z
DTSTAMP:20260419T201656Z
SUMMARY:Universel vs. Montreal utd. fc 2
DESCRIPTION:Montreal utd. fc 2 vs. UniverselPlus d'info : GOL#4484
X-ALT-DESC;FMTTYPE=text/html:<!DOCTYPE HTML PUBLIC "-//W3C//DTD HTML 3.2//E
	N">\n<HTML>\n<HEAD>\n<TITLE></TITLE>\n</HEAD>\n<BODY>\n<h3>Montreal utd. fc
	 2 vs. Universel</h3>Plus d'info : <a href="https://www.golnetwork.com/game
	/v/4484/">GOL#4484</a>\n\n</BODY>\n</HTML>
STATUS:CONFIRMED
CLASS:PUBLIC
URL:https://www.golnetwork.com/game/v/4484/
X-MICROSOFT-CDO-BUSYSTATUS:BUSY
X-MICROSOFT-CDO-IMPORTANCE:1
END:VEVENT
BEGIN:VEVENT
UID:gf45@games.golnetwork.com
LOCATION:SC #3
GEO:45.444301605225;-73.666198730469
CREATED:20090513T223554Z
DTSTART:20090528T230000Z
DTEND:20090529T000000Z
DTSTAMP:20260419T201656Z
SUMMARY:Laurentide vs. Montreal utd. fc 2
DESCRIPTION:Montreal utd. fc 2 vs. LaurentidePlus d'info : GOL#4525
X-ALT-DESC;FMTTYPE=text/html:<!DOCTYPE HTML PUBLIC "-//W3C//DTD HTML 3.2//E
	N">\n<HTML>\n<HEAD>\n<TITLE></TITLE>\n</HEAD>\n<BODY>\n<h3>Montreal utd. fc
	 2 vs. Laurentide</h3>Plus d'info : <a href="https://www.golnetwork.com/gam
	e/v/4525/">GOL#4525</a>\n\n</BODY>\n</HTML>
STATUS:CONFIRMED
CLASS:PUBLIC
URL:https://www.golnetwork.com/game/v/4525/
X-MICROSOFT-CDO-BUSYSTATUS:BUSY
X-MICROSOFT-CDO-IMPORTANCE:1
END:VEVENT
BEGIN:VEVENT
UID:gf36@games.golnetwork.com
LOCATION:SC #3
GEO:45.444301605225;-73.666198730469
CREATED:20090513T223546Z
DTSTART:20090522T000000Z
DTEND:20090522T010000Z
DTSTAMP:20260419T201656Z
SUMMARY:Montreal utd. fc 2 vs. Montreal utd. fc 2
DESCRIPTION:Montreal utd. fc 2 vs. Montreal utd. fc 2Plus d'info : GOL#4512
X-ALT-DESC;FMTTYPE=text/html:<!DOCTYPE HTML PUBLIC "-//W3C//DTD HTML 3.2//E
	N">\n<HTML>\n<HEAD>\n<TITLE></TITLE>\n</HEAD>\n<BODY>\n<h3>Montreal utd. fc
	 2 vs. Montreal utd. fc 2</h3>Plus d'info : <a href="https://www.golnetwork
	.com/game/v/4512/">GOL#4512</a>\n\n</BODY>\n</HTML>
STATUS:CONFIRMED
CLASS:PUBLIC
URL:https://www.golnetwork.com/game/v/4512/
X-MICROSOFT-CDO-BUSYSTATUS:BUSY
X-MICROSOFT-CDO-IMPORTANCE:1
END:VEVENT
BEGIN:VEVENT
UID:gf9m@games.golnetwork.com
LOCATION:SC #3
GEO:45.444301605225;-73.666198730469
CREATED:20090513T223848Z
DTSTART:20090515T010000Z
DTEND:20090515T020000Z
DTSTAMP:20260419T201656Z
SUMMARY:Montreal utd. fc 2 vs. Manglers
DESCRIPTION:Manglers vs. Montreal utd. fc 2Plus d'info : GOL#4601
X-ALT-DESC;FMTTYPE=text/html:<!DOCTYPE HTML PUBLIC "-//W3C//DTD HTML 3.2//E
	N">\n<HTML>\n<HEAD>\n<TITLE></TITLE>\n</HEAD>\n<BODY>\n<h3>Manglers vs. Mon
	treal utd. fc 2</h3>Plus d'info : <a href="https://www.golnetwork.com/game/
	v/4601/">GOL#4601</a>\n\n</BODY>\n</HTML>
STATUS:CONFIRMED
CLASS:PUBLIC
URL:https://www.golnetwork.com/game/v/4601/
X-MICROSOFT-CDO-BUSYSTATUS:BUSY
X-MICROSOFT-CDO-IMPORTANCE:1
END:VEVENT
BEGIN:VEVENT
UID:gf25@games.golnetwork.com
LOCATION:SC #3
GEO:45.444301605225;-73.666198730469
CREATED:20090513T223535Z
DTSTART:20090515T000000Z
DTEND:20090515T010000Z
DTSTAMP:20260419T201656Z
SUMMARY:Islanders vs. Montreal utd. fc 2
DESCRIPTION:Montreal utd. fc 2 vs. IslandersPlus d'info : GOL#4498
X-ALT-DESC;FMTTYPE=text/html:<!DOCTYPE HTML PUBLIC "-//W3C//DTD HTML 3.2//E
	N">\n<HTML>\n<HEAD>\n<TITLE></TITLE>\n</HEAD>\n<BODY>\n<h3>Montreal utd. fc
	 2 vs. Islanders</h3>Plus d'info : <a href="https://www.golnetwork.com/game
	/v/4498/">GOL#4498</a>\n\n</BODY>\n</HTML>
STATUS:CONFIRMED
CLASS:PUBLIC
URL:https://www.golnetwork.com/game/v/4498/
X-MICROSOFT-CDO-BUSYSTATUS:BUSY
X-MICROSOFT-CDO-IMPORTANCE:1
END:VEVENT
END:VCALENDAR
