BEGIN:VCALENDAR
PRODID:-//gdesolutions.com//MV Framework 1.0.0.1607 Calendar//EN
VERSION:2.0
METHOD:PUBLISH
CALSCALE:GREGORIAN
BEGIN:VEVENT
UID:gfd2@games.golnetwork.com
LOCATION:SC #3
GEO:45.444301605225;-73.666198730469
CREATED:20090524T181208Z
DTSTART:20090925T230000Z
DTEND:20090926T000000Z
DTSTAMP:20260419T141606Z
SUMMARY:Goaldiggers vs. Hooligans
DESCRIPTION:Hooligans vs. GoaldiggersPlus d'info : GOL#4645
X-ALT-DESC;FMTTYPE=text/html:<!DOCTYPE HTML PUBLIC "-//W3C//DTD HTML 3.2//E
	N">\n<HTML>\n<HEAD>\n<TITLE></TITLE>\n</HEAD>\n<BODY>\n<h3>Hooligans vs. Go
	aldiggers</h3>Plus d'info : <a href="https://www.golnetwork.com/game/v/4645
	/">GOL#4645</a>\n\n</BODY>\n</HTML>
STATUS:CONFIRMED
CLASS:PUBLIC
URL:https://www.golnetwork.com/game/v/4645/
X-MICROSOFT-CDO-BUSYSTATUS:BUSY
X-MICROSOFT-CDO-IMPORTANCE:1
END:VEVENT
BEGIN:VEVENT
UID:gffk@games.golnetwork.com
LOCATION:SC #3
GEO:45.444301605225;-73.666198730469
CREATED:20090524T181511Z
DTSTART:20090919T000000Z
DTEND:20090919T010000Z
DTSTAMP:20260419T141606Z
SUMMARY:Misn Impossible vs. Goaldiggers
DESCRIPTION:Goaldiggers vs. Misn ImpossiblePlus d'info : GOL#4681
X-ALT-DESC;FMTTYPE=text/html:<!DOCTYPE HTML PUBLIC "-//W3C//DTD HTML 3.2//E
	N">\n<HTML>\n<HEAD>\n<TITLE></TITLE>\n</HEAD>\n<BODY>\n<h3>Goaldiggers vs. 
	Misn Impossible</h3>Plus d'info : <a href="https://www.golnetwork.com/game/
	v/4681/">GOL#4681</a>\n\n</BODY>\n</HTML>
STATUS:CONFIRMED
CLASS:PUBLIC
URL:https://www.golnetwork.com/game/v/4681/
X-MICROSOFT-CDO-BUSYSTATUS:BUSY
X-MICROSOFT-CDO-IMPORTANCE:1
END:VEVENT
BEGIN:VEVENT
UID:gffi@games.golnetwork.com
LOCATION:SC #3
GEO:45.444301605225;-73.666198730469
CREATED:20090524T181511Z
DTSTART:20090912T000000Z
DTEND:20090912T010000Z
DTSTAMP:20260419T141606Z
SUMMARY:Wyld stallyns vs. Goaldiggers
DESCRIPTION:Goaldiggers vs. Wyld stallynsPlus d'info : GOL#4680
X-ALT-DESC;FMTTYPE=text/html:<!DOCTYPE HTML PUBLIC "-//W3C//DTD HTML 3.2//E
	N">\n<HTML>\n<HEAD>\n<TITLE></TITLE>\n</HEAD>\n<BODY>\n<h3>Goaldiggers vs. 
	Wyld stallyns</h3>Plus d'info : <a href="https://www.golnetwork.com/game/v/
	4680/">GOL#4680</a>\n\n</BODY>\n</HTML>
STATUS:CONFIRMED
CLASS:PUBLIC
URL:https://www.golnetwork.com/game/v/4680/
X-MICROSOFT-CDO-BUSYSTATUS:BUSY
X-MICROSOFT-CDO-IMPORTANCE:1
END:VEVENT
BEGIN:VEVENT
UID:gff2@games.golnetwork.com
LOCATION:SC #3
GEO:45.444301605225;-73.666198730469
CREATED:20090524T181352Z
DTSTART:20090905T010000Z
DTEND:20090905T020000Z
DTSTAMP:20260419T141606Z
SUMMARY:Real pebrok vs. Goaldiggers
DESCRIPTION:Goaldiggers vs. Real pebrokPlus d'info : GOL#4672
X-ALT-DESC;FMTTYPE=text/html:<!DOCTYPE HTML PUBLIC "-//W3C//DTD HTML 3.2//E
	N">\n<HTML>\n<HEAD>\n<TITLE></TITLE>\n</HEAD>\n<BODY>\n<h3>Goaldiggers vs. 
	Real pebrok</h3>Plus d'info : <a href="https://www.golnetwork.com/game/v/46
	72/">GOL#4672</a>\n\n</BODY>\n</HTML>
STATUS:CONFIRMED
CLASS:PUBLIC
URL:https://www.golnetwork.com/game/v/4672/
X-MICROSOFT-CDO-BUSYSTATUS:BUSY
X-MICROSOFT-CDO-IMPORTANCE:1
END:VEVENT
BEGIN:VEVENT
UID:gfe1@games.golnetwork.com
LOCATION:SC #3
GEO:45.444301605225;-73.666198730469
CREATED:20090524T181233Z
DTSTART:20090829T010000Z
DTEND:20090829T020000Z
DTSTAMP:20260419T141606Z
SUMMARY:Goaldiggers vs. Datavalet
DESCRIPTION:Datavalet vs. GoaldiggersPlus d'info : GOL#4658
X-ALT-DESC;FMTTYPE=text/html:<!DOCTYPE HTML PUBLIC "-//W3C//DTD HTML 3.2//E
	N">\n<HTML>\n<HEAD>\n<TITLE></TITLE>\n</HEAD>\n<BODY>\n<h3>Datavalet vs. Go
	aldiggers</h3>Plus d'info : <a href="https://www.golnetwork.com/game/v/4658
	/">GOL#4658</a>\n\n</BODY>\n</HTML>
STATUS:CONFIRMED
CLASS:PUBLIC
URL:https://www.golnetwork.com/game/v/4658/
X-MICROSOFT-CDO-BUSYSTATUS:BUSY
X-MICROSOFT-CDO-IMPORTANCE:1
END:VEVENT
BEGIN:VEVENT
UID:gfcj@games.golnetwork.com
LOCATION:SC #3
GEO:45.444301605225;-73.666198730469
CREATED:20090524T181207Z
DTSTART:20090822T010000Z
DTEND:20090822T020000Z
DTSTAMP:20260419T141606Z
SUMMARY:Goaldiggers vs. Hooligans
DESCRIPTION:Hooligans vs. GoaldiggersPlus d'info : GOL#4640
X-ALT-DESC;FMTTYPE=text/html:<!DOCTYPE HTML PUBLIC "-//W3C//DTD HTML 3.2//E
	N">\n<HTML>\n<HEAD>\n<TITLE></TITLE>\n</HEAD>\n<BODY>\n<h3>Hooligans vs. Go
	aldiggers</h3>Plus d'info : <a href="https://www.golnetwork.com/game/v/4640
	/">GOL#4640</a>\n\n</BODY>\n</HTML>
STATUS:CONFIRMED
CLASS:PUBLIC
URL:https://www.golnetwork.com/game/v/4640/
X-MICROSOFT-CDO-BUSYSTATUS:BUSY
X-MICROSOFT-CDO-IMPORTANCE:1
END:VEVENT
BEGIN:VEVENT
UID:gffg@games.golnetwork.com
LOCATION:SC #3
GEO:45.444301605225;-73.666198730469
CREATED:20090524T181510Z
DTSTART:20090814T230000Z
DTEND:20090815T000000Z
DTSTAMP:20260419T141606Z
SUMMARY:Misn Impossible vs. Goaldiggers
DESCRIPTION:Goaldiggers vs. Misn ImpossiblePlus d'info : GOL#4679
X-ALT-DESC;FMTTYPE=text/html:<!DOCTYPE HTML PUBLIC "-//W3C//DTD HTML 3.2//E
	N">\n<HTML>\n<HEAD>\n<TITLE></TITLE>\n</HEAD>\n<BODY>\n<h3>Goaldiggers vs. 
	Misn Impossible</h3>Plus d'info : <a href="https://www.golnetwork.com/game/
	v/4679/">GOL#4679</a>\n\n</BODY>\n</HTML>
STATUS:CONFIRMED
CLASS:PUBLIC
URL:https://www.golnetwork.com/game/v/4679/
X-MICROSOFT-CDO-BUSYSTATUS:BUSY
X-MICROSOFT-CDO-IMPORTANCE:1
END:VEVENT
BEGIN:VEVENT
UID:gffe@games.golnetwork.com
LOCATION:SC #3
GEO:45.444301605225;-73.666198730469
CREATED:20090524T181510Z
DTSTART:20090807T230000Z
DTEND:20090808T000000Z
DTSTAMP:20260419T141606Z
SUMMARY:Wyld stallyns vs. Goaldiggers
DESCRIPTION:Goaldiggers vs. Wyld stallynsPlus d'info : GOL#4678
X-ALT-DESC;FMTTYPE=text/html:<!DOCTYPE HTML PUBLIC "-//W3C//DTD HTML 3.2//E
	N">\n<HTML>\n<HEAD>\n<TITLE></TITLE>\n</HEAD>\n<BODY>\n<h3>Goaldiggers vs. 
	Wyld stallyns</h3>Plus d'info : <a href="https://www.golnetwork.com/game/v/
	4678/">GOL#4678</a>\n\n</BODY>\n</HTML>
STATUS:CONFIRMED
CLASS:PUBLIC
URL:https://www.golnetwork.com/game/v/4678/
X-MICROSOFT-CDO-BUSYSTATUS:BUSY
X-MICROSOFT-CDO-IMPORTANCE:1
END:VEVENT
BEGIN:VEVENT
UID:gfen@games.golnetwork.com
LOCATION:SC #3
GEO:45.444301605225;-73.666198730469
CREATED:20090524T181352Z
DTSTART:20090801T000000Z
DTEND:20090801T010000Z
DTSTAMP:20260419T141606Z
SUMMARY:Real pebrok vs. Goaldiggers
DESCRIPTION:Goaldiggers vs. Real pebrokPlus d'info : GOL#4669
X-ALT-DESC;FMTTYPE=text/html:<!DOCTYPE HTML PUBLIC "-//W3C//DTD HTML 3.2//E
	N">\n<HTML>\n<HEAD>\n<TITLE></TITLE>\n</HEAD>\n<BODY>\n<h3>Goaldiggers vs. 
	Real pebrok</h3>Plus d'info : <a href="https://www.golnetwork.com/game/v/46
	69/">GOL#4669</a>\n\n</BODY>\n</HTML>
STATUS:CONFIRMED
CLASS:PUBLIC
URL:https://www.golnetwork.com/game/v/4669/
X-MICROSOFT-CDO-BUSYSTATUS:BUSY
X-MICROSOFT-CDO-IMPORTANCE:1
END:VEVENT
BEGIN:VEVENT
UID:gfdk@games.golnetwork.com
LOCATION:SC #3
GEO:45.444301605225;-73.666198730469
CREATED:20090524T181232Z
DTSTART:20090725T010000Z
DTEND:20090725T020000Z
DTSTAMP:20260419T141606Z
SUMMARY:Goaldiggers vs. Datavalet
DESCRIPTION:Datavalet vs. GoaldiggersPlus d'info : GOL#4654
X-ALT-DESC;FMTTYPE=text/html:<!DOCTYPE HTML PUBLIC "-//W3C//DTD HTML 3.2//E
	N">\n<HTML>\n<HEAD>\n<TITLE></TITLE>\n</HEAD>\n<BODY>\n<h3>Datavalet vs. Go
	aldiggers</h3>Plus d'info : <a href="https://www.golnetwork.com/game/v/4654
	/">GOL#4654</a>\n\n</BODY>\n</HTML>
STATUS:CONFIRMED
CLASS:PUBLIC
URL:https://www.golnetwork.com/game/v/4654/
X-MICROSOFT-CDO-BUSYSTATUS:BUSY
X-MICROSOFT-CDO-IMPORTANCE:1
END:VEVENT
BEGIN:VEVENT
UID:gfc9@games.golnetwork.com
LOCATION:SC #3
GEO:45.444301605225;-73.666198730469
CREATED:20090524T181206Z
DTSTART:20090718T000000Z
DTEND:20090718T010000Z
DTSTAMP:20260419T141606Z
SUMMARY:Hooligans vs. Goaldiggers
DESCRIPTION:Goaldiggers vs. HooligansPlus d'info : GOL#4635
X-ALT-DESC;FMTTYPE=text/html:<!DOCTYPE HTML PUBLIC "-//W3C//DTD HTML 3.2//E
	N">\n<HTML>\n<HEAD>\n<TITLE></TITLE>\n</HEAD>\n<BODY>\n<h3>Goaldiggers vs. 
	Hooligans</h3>Plus d'info : <a href="https://www.golnetwork.com/game/v/4635
	/">GOL#4635</a>\n\n</BODY>\n</HTML>
STATUS:CONFIRMED
CLASS:PUBLIC
URL:https://www.golnetwork.com/game/v/4635/
X-MICROSOFT-CDO-BUSYSTATUS:BUSY
X-MICROSOFT-CDO-IMPORTANCE:1
END:VEVENT
BEGIN:VEVENT
UID:gffc@games.golnetwork.com
LOCATION:SC #3
GEO:45.444301605225;-73.666198730469
CREATED:20090524T181510Z
DTSTART:20090711T010000Z
DTEND:20090711T020000Z
DTSTAMP:20260419T141606Z
SUMMARY:Goaldiggers vs. Misn Impossible
DESCRIPTION:Misn Impossible vs. GoaldiggersPlus d'info : GOL#4677
X-ALT-DESC;FMTTYPE=text/html:<!DOCTYPE HTML PUBLIC "-//W3C//DTD HTML 3.2//E
	N">\n<HTML>\n<HEAD>\n<TITLE></TITLE>\n</HEAD>\n<BODY>\n<h3>Misn Impossible 
	vs. Goaldiggers</h3>Plus d'info : <a href="https://www.golnetwork.com/game/
	v/4677/">GOL#4677</a>\n\n</BODY>\n</HTML>
STATUS:CONFIRMED
CLASS:PUBLIC
URL:https://www.golnetwork.com/game/v/4677/
X-MICROSOFT-CDO-BUSYSTATUS:BUSY
X-MICROSOFT-CDO-IMPORTANCE:1
END:VEVENT
BEGIN:VEVENT
UID:gffa@games.golnetwork.com
LOCATION:SC #3
GEO:45.444301605225;-73.666198730469
CREATED:20090524T181510Z
DTSTART:20090704T010000Z
DTEND:20090704T020000Z
DTSTAMP:20260419T141606Z
SUMMARY:Goaldiggers vs. Wyld stallyns
DESCRIPTION:Wyld stallyns vs. GoaldiggersPlus d'info : GOL#4676
X-ALT-DESC;FMTTYPE=text/html:<!DOCTYPE HTML PUBLIC "-//W3C//DTD HTML 3.2//E
	N">\n<HTML>\n<HEAD>\n<TITLE></TITLE>\n</HEAD>\n<BODY>\n<h3>Wyld stallyns vs
	. Goaldiggers</h3>Plus d'info : <a href="https://www.golnetwork.com/game/v/
	4676/">GOL#4676</a>\n\n</BODY>\n</HTML>
STATUS:CONFIRMED
CLASS:PUBLIC
URL:https://www.golnetwork.com/game/v/4676/
X-MICROSOFT-CDO-BUSYSTATUS:BUSY
X-MICROSOFT-CDO-IMPORTANCE:1
END:VEVENT
BEGIN:VEVENT
UID:gfeh@games.golnetwork.com
LOCATION:SC #3
GEO:45.444301605225;-73.666198730469
CREATED:20090524T181351Z
DTSTART:20090626T230000Z
DTEND:20090627T000000Z
DTSTAMP:20260419T141606Z
SUMMARY:Goaldiggers vs. Real pebrok
DESCRIPTION:Real pebrok vs. GoaldiggersPlus d'info : GOL#4666
X-ALT-DESC;FMTTYPE=text/html:<!DOCTYPE HTML PUBLIC "-//W3C//DTD HTML 3.2//E
	N">\n<HTML>\n<HEAD>\n<TITLE></TITLE>\n</HEAD>\n<BODY>\n<h3>Real pebrok vs. 
	Goaldiggers</h3>Plus d'info : <a href="https://www.golnetwork.com/game/v/46
	66/">GOL#4666</a>\n\n</BODY>\n</HTML>
STATUS:CONFIRMED
CLASS:PUBLIC
URL:https://www.golnetwork.com/game/v/4666/
X-MICROSOFT-CDO-BUSYSTATUS:BUSY
X-MICROSOFT-CDO-IMPORTANCE:1
END:VEVENT
BEGIN:VEVENT
UID:gfdc@games.golnetwork.com
LOCATION:SC #3
GEO:45.444301605225;-73.666198730469
CREATED:20090524T181231Z
DTSTART:20090620T000000Z
DTEND:20090620T010000Z
DTSTAMP:20260419T141606Z
SUMMARY:Datavalet vs. Goaldiggers
DESCRIPTION:Goaldiggers vs. DatavaletPlus d'info : GOL#4650
X-ALT-DESC;FMTTYPE=text/html:<!DOCTYPE HTML PUBLIC "-//W3C//DTD HTML 3.2//E
	N">\n<HTML>\n<HEAD>\n<TITLE></TITLE>\n</HEAD>\n<BODY>\n<h3>Goaldiggers vs. 
	Datavalet</h3>Plus d'info : <a href="https://www.golnetwork.com/game/v/4650
	/">GOL#4650</a>\n\n</BODY>\n</HTML>
STATUS:CONFIRMED
CLASS:PUBLIC
URL:https://www.golnetwork.com/game/v/4650/
X-MICROSOFT-CDO-BUSYSTATUS:BUSY
X-MICROSOFT-CDO-IMPORTANCE:1
END:VEVENT
BEGIN:VEVENT
UID:gfbq@games.golnetwork.com
LOCATION:SC #3
GEO:45.444301605225;-73.666198730469
CREATED:20090524T181206Z
DTSTART:20090612T230000Z
DTEND:20090613T000000Z
DTSTAMP:20260419T141606Z
SUMMARY:Goaldiggers vs. Hooligans
DESCRIPTION:Hooligans vs. GoaldiggersPlus d'info : GOL#4630
X-ALT-DESC;FMTTYPE=text/html:<!DOCTYPE HTML PUBLIC "-//W3C//DTD HTML 3.2//E
	N">\n<HTML>\n<HEAD>\n<TITLE></TITLE>\n</HEAD>\n<BODY>\n<h3>Hooligans vs. Go
	aldiggers</h3>Plus d'info : <a href="https://www.golnetwork.com/game/v/4630
	/">GOL#4630</a>\n\n</BODY>\n</HTML>
STATUS:CONFIRMED
CLASS:PUBLIC
URL:https://www.golnetwork.com/game/v/4630/
X-MICROSOFT-CDO-BUSYSTATUS:BUSY
X-MICROSOFT-CDO-IMPORTANCE:1
END:VEVENT
BEGIN:VEVENT
UID:gff8@games.golnetwork.com
LOCATION:SC #3
GEO:45.444301605225;-73.666198730469
CREATED:20090524T181509Z
DTSTART:20090606T000000Z
DTEND:20090606T010000Z
DTSTAMP:20260419T141606Z
SUMMARY:Misn Impossible vs. Goaldiggers
DESCRIPTION:Goaldiggers vs. Misn ImpossiblePlus d'info : GOL#4675
X-ALT-DESC;FMTTYPE=text/html:<!DOCTYPE HTML PUBLIC "-//W3C//DTD HTML 3.2//E
	N">\n<HTML>\n<HEAD>\n<TITLE></TITLE>\n</HEAD>\n<BODY>\n<h3>Goaldiggers vs. 
	Misn Impossible</h3>Plus d'info : <a href="https://www.golnetwork.com/game/
	v/4675/">GOL#4675</a>\n\n</BODY>\n</HTML>
STATUS:CONFIRMED
CLASS:PUBLIC
URL:https://www.golnetwork.com/game/v/4675/
X-MICROSOFT-CDO-BUSYSTATUS:BUSY
X-MICROSOFT-CDO-IMPORTANCE:1
END:VEVENT
BEGIN:VEVENT
UID:gff6@games.golnetwork.com
LOCATION:SC #3
GEO:45.444301605225;-73.666198730469
CREATED:20090524T181509Z
DTSTART:20090530T000000Z
DTEND:20090530T010000Z
DTSTAMP:20260419T141606Z
SUMMARY:Wyld stallyns vs. Goaldiggers
DESCRIPTION:Goaldiggers vs. Wyld stallynsPlus d'info : GOL#4674
X-ALT-DESC;FMTTYPE=text/html:<!DOCTYPE HTML PUBLIC "-//W3C//DTD HTML 3.2//E
	N">\n<HTML>\n<HEAD>\n<TITLE></TITLE>\n</HEAD>\n<BODY>\n<h3>Goaldiggers vs. 
	Wyld stallyns</h3>Plus d'info : <a href="https://www.golnetwork.com/game/v/
	4674/">GOL#4674</a>\n\n</BODY>\n</HTML>
STATUS:CONFIRMED
CLASS:PUBLIC
URL:https://www.golnetwork.com/game/v/4674/
X-MICROSOFT-CDO-BUSYSTATUS:BUSY
X-MICROSOFT-CDO-IMPORTANCE:1
END:VEVENT
BEGIN:VEVENT
UID:gfeb@games.golnetwork.com
LOCATION:SC #3
GEO:45.444301605225;-73.666198730469
CREATED:20090524T181351Z
DTSTART:20090523T010000Z
DTEND:20090523T020000Z
DTSTAMP:20260419T141606Z
SUMMARY:Real pebrok vs. Goaldiggers
DESCRIPTION:Goaldiggers vs. Real pebrokPlus d'info : GOL#4663
X-ALT-DESC;FMTTYPE=text/html:<!DOCTYPE HTML PUBLIC "-//W3C//DTD HTML 3.2//E
	N">\n<HTML>\n<HEAD>\n<TITLE></TITLE>\n</HEAD>\n<BODY>\n<h3>Goaldiggers vs. 
	Real pebrok</h3>Plus d'info : <a href="https://www.golnetwork.com/game/v/46
	63/">GOL#4663</a>\n\n</BODY>\n</HTML>
STATUS:CONFIRMED
CLASS:PUBLIC
URL:https://www.golnetwork.com/game/v/4663/
X-MICROSOFT-CDO-BUSYSTATUS:BUSY
X-MICROSOFT-CDO-IMPORTANCE:1
END:VEVENT
BEGIN:VEVENT
UID:gfd4@games.golnetwork.com
LOCATION:SC #3
GEO:45.444301605225;-73.666198730469
CREATED:20090524T181231Z
DTSTART:20090515T230000Z
DTEND:20090516T000000Z
DTSTAMP:20260419T141606Z
SUMMARY:Goaldiggers vs. Datavalet
DESCRIPTION:Datavalet vs. GoaldiggersPlus d'info : GOL#4646
X-ALT-DESC;FMTTYPE=text/html:<!DOCTYPE HTML PUBLIC "-//W3C//DTD HTML 3.2//E
	N">\n<HTML>\n<HEAD>\n<TITLE></TITLE>\n</HEAD>\n<BODY>\n<h3>Datavalet vs. Go
	aldiggers</h3>Plus d'info : <a href="https://www.golnetwork.com/game/v/4646
	/">GOL#4646</a>\n\n</BODY>\n</HTML>
STATUS:CONFIRMED
CLASS:PUBLIC
URL:https://www.golnetwork.com/game/v/4646/
X-MICROSOFT-CDO-BUSYSTATUS:BUSY
X-MICROSOFT-CDO-IMPORTANCE:1
END:VEVENT
END:VCALENDAR
