BEGIN:VCALENDAR
PRODID:-//gdesolutions.com//MV Framework 1.0.0.1607 Calendar//EN
VERSION:2.0
METHOD:PUBLISH
CALSCALE:GREGORIAN
BEGIN:VEVENT
UID:gh7g@games.golnetwork.com
LOCATION:Carrousel B
GEO:45.684898376465;-73.420402526855
CREATED:20091127T113108Z
DTSTART:20090910T010000Z
DTEND:20090910T023000Z
DTSTAMP:20260419T212607Z
SUMMARY:C.S.J.R. vs. Varennes
DESCRIPTION:Varennes vs. C.S.J.R.Plus d'info : GOL#5300
X-ALT-DESC;FMTTYPE=text/html:<!DOCTYPE HTML PUBLIC "-//W3C//DTD HTML 3.2//E
	N">\n<HTML>\n<HEAD>\n<TITLE></TITLE>\n</HEAD>\n<BODY>\n<h3>Varennes vs. C.S
	.J.R.</h3>Plus d'info : <a href="https://www.golnetwork.com/game/v/5300/">G
	OL#5300</a>\n\n</BODY>\n</HTML>
STATUS:CONFIRMED
CLASS:PUBLIC
URL:https://www.golnetwork.com/game/v/5300/
X-MICROSOFT-CDO-BUSYSTATUS:BUSY
X-MICROSOFT-CDO-IMPORTANCE:1
END:VEVENT
BEGIN:VEVENT
UID:gh78@games.golnetwork.com
LOCATION:MARIEVILLE - STE-MARIE #5
GEO:45.432598114014;-73.16609954834
CREATED:20091127T113008Z
DTSTART:20090907T003000Z
DTEND:20090907T020000Z
DTSTAMP:20260419T212607Z
SUMMARY:Sorel-Tracy vs. C.S.J.R.
DESCRIPTION:C.S.J.R. vs. Sorel-TracyPlus d'info : GOL#5296
X-ALT-DESC;FMTTYPE=text/html:<!DOCTYPE HTML PUBLIC "-//W3C//DTD HTML 3.2//E
	N">\n<HTML>\n<HEAD>\n<TITLE></TITLE>\n</HEAD>\n<BODY>\n<h3>C.S.J.R. vs. Sor
	el-Tracy</h3>Plus d'info : <a href="https://www.golnetwork.com/game/v/5296/
	">GOL#5296</a>\n\n</BODY>\n</HTML>
STATUS:CONFIRMED
CLASS:PUBLIC
URL:https://www.golnetwork.com/game/v/5296/
X-MICROSOFT-CDO-BUSYSTATUS:BUSY
X-MICROSOFT-CDO-IMPORTANCE:1
END:VEVENT
BEGIN:VEVENT
UID:gh70@games.golnetwork.com
LOCATION:MARIEVILLE - STE-MARIE #5
GEO:45.432598114014;-73.16609954834
CREATED:20091127T112913Z
DTSTART:20090903T003000Z
DTEND:20090903T020000Z
DTSTAMP:20260419T212607Z
SUMMARY:Granby vs. C.S.J.R.
DESCRIPTION:C.S.J.R. vs. GranbyPlus d'info : GOL#5292
X-ALT-DESC;FMTTYPE=text/html:<!DOCTYPE HTML PUBLIC "-//W3C//DTD HTML 3.2//E
	N">\n<HTML>\n<HEAD>\n<TITLE></TITLE>\n</HEAD>\n<BODY>\n<h3>C.S.J.R. vs. Gra
	nby</h3>Plus d'info : <a href="https://www.golnetwork.com/game/v/5292/">GOL
	#5292</a>\n\n</BODY>\n</HTML>
STATUS:CONFIRMED
CLASS:PUBLIC
URL:https://www.golnetwork.com/game/v/5292/
X-MICROSOFT-CDO-BUSYSTATUS:BUSY
X-MICROSOFT-CDO-IMPORTANCE:1
END:VEVENT
BEGIN:VEVENT
UID:gh6l@games.golnetwork.com
LOCATION:MARIEVILLE - STE-MARIE #5
GEO:45.432598114014;-73.16609954834
CREATED:20091127T112822Z
DTSTART:20090830T220000Z
DTEND:20090830T233000Z
DTSTAMP:20260419T212607Z
SUMMARY:Longueuil vs. C.S.J.R.
DESCRIPTION:C.S.J.R. vs. LongueuilPlus d'info : GOL#5289
X-ALT-DESC;FMTTYPE=text/html:<!DOCTYPE HTML PUBLIC "-//W3C//DTD HTML 3.2//E
	N">\n<HTML>\n<HEAD>\n<TITLE></TITLE>\n</HEAD>\n<BODY>\n<h3>C.S.J.R. vs. Lon
	gueuil</h3>Plus d'info : <a href="https://www.golnetwork.com/game/v/5289/">
	GOL#5289</a>\n\n</BODY>\n</HTML>
STATUS:CONFIRMED
CLASS:PUBLIC
URL:https://www.golnetwork.com/game/v/5289/
X-MICROSOFT-CDO-BUSYSTATUS:BUSY
X-MICROSOFT-CDO-IMPORTANCE:1
END:VEVENT
BEGIN:VEVENT
UID:gh6d@games.golnetwork.com
LOCATION:Parc de L'Envol
GEO:45.142700195312;-72.783401489258
CREATED:20091127T112732Z
DTSTART:20090826T010000Z
DTEND:20090826T023000Z
DTSTAMP:20260419T212607Z
SUMMARY:C.S.J.R. vs. Dunham
DESCRIPTION:Dunham vs. C.S.J.R.Plus d'info : GOL#5285
X-ALT-DESC;FMTTYPE=text/html:<!DOCTYPE HTML PUBLIC "-//W3C//DTD HTML 3.2//E
	N">\n<HTML>\n<HEAD>\n<TITLE></TITLE>\n</HEAD>\n<BODY>\n<h3>Dunham vs. C.S.J
	.R.</h3>Plus d'info : <a href="https://www.golnetwork.com/game/v/5285/">GOL
	#5285</a>\n\n</BODY>\n</HTML>
STATUS:CONFIRMED
CLASS:PUBLIC
URL:https://www.golnetwork.com/game/v/5285/
X-MICROSOFT-CDO-BUSYSTATUS:BUSY
X-MICROSOFT-CDO-IMPORTANCE:1
END:VEVENT
BEGIN:VEVENT
UID:gh69@games.golnetwork.com
LOCATION:POLY HYACINTHE DELORME 1
CREATED:20091127T112705Z
DTSTART:20090820T010000Z
DTEND:20090820T023000Z
DTSTAMP:20260419T212607Z
SUMMARY:C.S.J.R. vs. St-Hyacinthe
DESCRIPTION:St-Hyacinthe vs. C.S.J.R.Plus d'info : GOL#5283
X-ALT-DESC;FMTTYPE=text/html:<!DOCTYPE HTML PUBLIC "-//W3C//DTD HTML 3.2//E
	N">\n<HTML>\n<HEAD>\n<TITLE></TITLE>\n</HEAD>\n<BODY>\n<h3>St-Hyacinthe vs.
	 C.S.J.R.</h3>Plus d'info : <a href="https://www.golnetwork.com/game/v/5283
	/">GOL#5283</a>\n\n</BODY>\n</HTML>
STATUS:CONFIRMED
CLASS:PUBLIC
URL:https://www.golnetwork.com/game/v/5283/
X-MICROSOFT-CDO-BUSYSTATUS:BUSY
X-MICROSOFT-CDO-IMPORTANCE:1
END:VEVENT
BEGIN:VEVENT
UID:gh5e@games.golnetwork.com
LOCATION:Illinois 1
CREATED:20091127T112450Z
DTSTART:20090813T010000Z
DTEND:20090813T023000Z
DTSTAMP:20260419T212607Z
SUMMARY:C.S.J.R. vs. Brossard
DESCRIPTION:Brossard vs. C.S.J.R.Plus d'info : GOL#5272
X-ALT-DESC;FMTTYPE=text/html:<!DOCTYPE HTML PUBLIC "-//W3C//DTD HTML 3.2//E
	N">\n<HTML>\n<HEAD>\n<TITLE></TITLE>\n</HEAD>\n<BODY>\n<h3>Brossard vs. C.S
	.J.R.</h3>Plus d'info : <a href="https://www.golnetwork.com/game/v/5272/">G
	OL#5272</a>\n\n</BODY>\n</HTML>
STATUS:CONFIRMED
CLASS:PUBLIC
URL:https://www.golnetwork.com/game/v/5272/
X-MICROSOFT-CDO-BUSYSTATUS:BUSY
X-MICROSOFT-CDO-IMPORTANCE:1
END:VEVENT
BEGIN:VEVENT
UID:gh4n@games.golnetwork.com
LOCATION:N.P. Lapierre
GEO:45.580699920654;-73.348999023438
CREATED:20091127T112247Z
DTSTART:20090803T003000Z
DTEND:20090803T020000Z
DTSTAMP:20260419T212607Z
SUMMARY:C.S.J.R. vs. Ste-Julie
DESCRIPTION:Ste-Julie vs. C.S.J.R.Plus d'info : GOL#5263
X-ALT-DESC;FMTTYPE=text/html:<!DOCTYPE HTML PUBLIC "-//W3C//DTD HTML 3.2//E
	N">\n<HTML>\n<HEAD>\n<TITLE></TITLE>\n</HEAD>\n<BODY>\n<h3>Ste-Julie vs. C.
	S.J.R.</h3>Plus d'info : <a href="https://www.golnetwork.com/game/v/5263/">
	GOL#5263</a>\n\n</BODY>\n</HTML>
STATUS:CONFIRMED
CLASS:PUBLIC
URL:https://www.golnetwork.com/game/v/5263/
X-MICROSOFT-CDO-BUSYSTATUS:BUSY
X-MICROSOFT-CDO-IMPORTANCE:1
END:VEVENT
BEGIN:VEVENT
UID:gh49@games.golnetwork.com
LOCATION:MARIEVILLE - STE-MARIE #5
GEO:45.432598114014;-73.16609954834
CREATED:20091127T112048Z
DTSTART:20090730T003000Z
DTEND:20090730T020000Z
DTSTAMP:20260419T212607Z
SUMMARY:C.S.R. vs. C.S.J.R.
DESCRIPTION:C.S.J.R. vs. C.S.R.Plus d'info : GOL#5256
X-ALT-DESC;FMTTYPE=text/html:<!DOCTYPE HTML PUBLIC "-//W3C//DTD HTML 3.2//E
	N">\n<HTML>\n<HEAD>\n<TITLE></TITLE>\n</HEAD>\n<BODY>\n<h3>C.S.J.R. vs. C.S
	.R.</h3>Plus d'info : <a href="https://www.golnetwork.com/game/v/5256/">GOL
	#5256</a>\n\n</BODY>\n</HTML>
STATUS:CONFIRMED
CLASS:PUBLIC
URL:https://www.golnetwork.com/game/v/5256/
X-MICROSOFT-CDO-BUSYSTATUS:BUSY
X-MICROSOFT-CDO-IMPORTANCE:1
END:VEVENT
BEGIN:VEVENT
UID:gh3q@games.golnetwork.com
LOCATION:MARIEVILLE - STE-MARIE #5
GEO:45.432598114014;-73.16609954834
CREATED:20091127T111934Z
DTSTART:20090723T003000Z
DTEND:20090723T020000Z
DTSTAMP:20260419T212607Z
SUMMARY:St-Hubert vs. C.S.J.R.
DESCRIPTION:C.S.J.R. vs. St-HubertPlus d'info : GOL#5251
X-ALT-DESC;FMTTYPE=text/html:<!DOCTYPE HTML PUBLIC "-//W3C//DTD HTML 3.2//E
	N">\n<HTML>\n<HEAD>\n<TITLE></TITLE>\n</HEAD>\n<BODY>\n<h3>C.S.J.R. vs. St-
	Hubert</h3>Plus d'info : <a href="https://www.golnetwork.com/game/v/5251/">
	GOL#5251</a>\n\n</BODY>\n</HTML>
STATUS:CONFIRMED
CLASS:PUBLIC
URL:https://www.golnetwork.com/game/v/5251/
X-MICROSOFT-CDO-BUSYSTATUS:BUSY
X-MICROSOFT-CDO-IMPORTANCE:1
END:VEVENT
BEGIN:VEVENT
UID:gh3g@games.golnetwork.com
LOCATION:MARIEVILLE - STE-MARIE #5
GEO:45.432598114014;-73.16609954834
CREATED:20091127T111830Z
DTSTART:20090716T003000Z
DTEND:20090716T020000Z
DTSTAMP:20260419T212607Z
SUMMARY:Varennes vs. C.S.J.R.
DESCRIPTION:C.S.J.R. vs. VarennesPlus d'info : GOL#5246
X-ALT-DESC;FMTTYPE=text/html:<!DOCTYPE HTML PUBLIC "-//W3C//DTD HTML 3.2//E
	N">\n<HTML>\n<HEAD>\n<TITLE></TITLE>\n</HEAD>\n<BODY>\n<h3>C.S.J.R. vs. Var
	ennes</h3>Plus d'info : <a href="https://www.golnetwork.com/game/v/5246/">G
	OL#5246</a>\n\n</BODY>\n</HTML>
STATUS:CONFIRMED
CLASS:PUBLIC
URL:https://www.golnetwork.com/game/v/5246/
X-MICROSOFT-CDO-BUSYSTATUS:BUSY
X-MICROSOFT-CDO-IMPORTANCE:1
END:VEVENT
BEGIN:VEVENT
UID:gh38@games.golnetwork.com
LOCATION:J.Y. PHANEUF 3
CREATED:20091127T111725Z
DTSTART:20090712T220000Z
DTEND:20090712T233000Z
DTSTAMP:20260419T212607Z
SUMMARY:C.S.J.R. vs. Granby
DESCRIPTION:Granby vs. C.S.J.R.Plus d'info : GOL#5242
X-ALT-DESC;FMTTYPE=text/html:<!DOCTYPE HTML PUBLIC "-//W3C//DTD HTML 3.2//E
	N">\n<HTML>\n<HEAD>\n<TITLE></TITLE>\n</HEAD>\n<BODY>\n<h3>Granby vs. C.S.J
	.R.</h3>Plus d'info : <a href="https://www.golnetwork.com/game/v/5242/">GOL
	#5242</a>\n\n</BODY>\n</HTML>
STATUS:CONFIRMED
CLASS:PUBLIC
URL:https://www.golnetwork.com/game/v/5242/
X-MICROSOFT-CDO-BUSYSTATUS:BUSY
X-MICROSOFT-CDO-IMPORTANCE:1
END:VEVENT
BEGIN:VEVENT
UID:gh30@games.golnetwork.com
LOCATION:MARIEVILLE - STE-MARIE #5
GEO:45.432598114014;-73.16609954834
CREATED:20091127T111619Z
DTSTART:20090709T003000Z
DTEND:20090709T020000Z
DTSTAMP:20260419T212607Z
SUMMARY:Dunham vs. C.S.J.R.
DESCRIPTION:C.S.J.R. vs. DunhamPlus d'info : GOL#5238
X-ALT-DESC;FMTTYPE=text/html:<!DOCTYPE HTML PUBLIC "-//W3C//DTD HTML 3.2//E
	N">\n<HTML>\n<HEAD>\n<TITLE></TITLE>\n</HEAD>\n<BODY>\n<h3>C.S.J.R. vs. Dun
	ham</h3>Plus d'info : <a href="https://www.golnetwork.com/game/v/5238/">GOL
	#5238</a>\n\n</BODY>\n</HTML>
STATUS:CONFIRMED
CLASS:PUBLIC
URL:https://www.golnetwork.com/game/v/5238/
X-MICROSOFT-CDO-BUSYSTATUS:BUSY
X-MICROSOFT-CDO-IMPORTANCE:1
END:VEVENT
BEGIN:VEVENT
UID:gh2j@games.golnetwork.com
LOCATION:Parc Soleil 1
GEO:46.026298522949;-73.140197753906
CREATED:20091127T111522Z
DTSTART:20090705T220000Z
DTEND:20090705T233000Z
DTSTAMP:20260419T212607Z
SUMMARY:C.S.J.R. vs. Sorel-Tracy
DESCRIPTION:Sorel-Tracy vs. C.S.J.R.Plus d'info : GOL#5234
X-ALT-DESC;FMTTYPE=text/html:<!DOCTYPE HTML PUBLIC "-//W3C//DTD HTML 3.2//E
	N">\n<HTML>\n<HEAD>\n<TITLE></TITLE>\n</HEAD>\n<BODY>\n<h3>Sorel-Tracy vs. 
	C.S.J.R.</h3>Plus d'info : <a href="https://www.golnetwork.com/game/v/5234/
	">GOL#5234</a>\n\n</BODY>\n</HTML>
STATUS:CONFIRMED
CLASS:PUBLIC
URL:https://www.golnetwork.com/game/v/5234/
X-MICROSOFT-CDO-BUSYSTATUS:BUSY
X-MICROSOFT-CDO-IMPORTANCE:1
END:VEVENT
BEGIN:VEVENT
UID:gh27@games.golnetwork.com
LOCATION:MARIEVILLE - STE-MARIE #5
GEO:45.432598114014;-73.16609954834
CREATED:20091127T111402Z
DTSTART:20090702T003000Z
DTEND:20090702T020000Z
DTSTAMP:20260419T212607Z
SUMMARY:St-Hyacinthe vs. C.S.J.R.
DESCRIPTION:C.S.J.R. vs. St-HyacinthePlus d'info : GOL#5228
X-ALT-DESC;FMTTYPE=text/html:<!DOCTYPE HTML PUBLIC "-//W3C//DTD HTML 3.2//E
	N">\n<HTML>\n<HEAD>\n<TITLE></TITLE>\n</HEAD>\n<BODY>\n<h3>C.S.J.R. vs. St-
	Hyacinthe</h3>Plus d'info : <a href="https://www.golnetwork.com/game/v/5228
	/">GOL#5228</a>\n\n</BODY>\n</HTML>
STATUS:CONFIRMED
CLASS:PUBLIC
URL:https://www.golnetwork.com/game/v/5228/
X-MICROSOFT-CDO-BUSYSTATUS:BUSY
X-MICROSOFT-CDO-IMPORTANCE:1
END:VEVENT
BEGIN:VEVENT
UID:gh1k@games.golnetwork.com
LOCATION:Centre multi-sports du Collège Français
GEO:45.543719;-73.458045
CREATED:20091127T111221Z
DTSTART:20090624T010000Z
DTEND:20090624T023000Z
DTSTAMP:20260419T212607Z
SUMMARY:C.S.J.R. vs. Longueuil
DESCRIPTION:Longueuil vs. C.S.J.R.Plus d'info : GOL#5221
X-ALT-DESC;FMTTYPE=text/html:<!DOCTYPE HTML PUBLIC "-//W3C//DTD HTML 3.2//E
	N">\n<HTML>\n<HEAD>\n<TITLE></TITLE>\n</HEAD>\n<BODY>\n<h3>Longueuil vs. C.
	S.J.R.</h3>Plus d'info : <a href="https://www.golnetwork.com/game/v/5221/">
	GOL#5221</a>\n\n</BODY>\n</HTML>
STATUS:CONFIRMED
CLASS:PUBLIC
URL:https://www.golnetwork.com/game/v/5221/
X-MICROSOFT-CDO-BUSYSTATUS:BUSY
X-MICROSOFT-CDO-IMPORTANCE:1
END:VEVENT
BEGIN:VEVENT
UID:gh16@games.golnetwork.com
LOCATION:MARIEVILLE - STE-MARIE #5
GEO:45.432598114014;-73.16609954834
CREATED:20091127T111042Z
DTSTART:20090618T003000Z
DTEND:20090618T020000Z
DTSTAMP:20260419T212607Z
SUMMARY:Brossard vs. C.S.J.R.
DESCRIPTION:C.S.J.R. vs. BrossardPlus d'info : GOL#5214
X-ALT-DESC;FMTTYPE=text/html:<!DOCTYPE HTML PUBLIC "-//W3C//DTD HTML 3.2//E
	N">\n<HTML>\n<HEAD>\n<TITLE></TITLE>\n</HEAD>\n<BODY>\n<h3>C.S.J.R. vs. Bro
	ssard</h3>Plus d'info : <a href="https://www.golnetwork.com/game/v/5214/">G
	OL#5214</a>\n\n</BODY>\n</HTML>
STATUS:CONFIRMED
CLASS:PUBLIC
URL:https://www.golnetwork.com/game/v/5214/
X-MICROSOFT-CDO-BUSYSTATUS:BUSY
X-MICROSOFT-CDO-IMPORTANCE:1
END:VEVENT
BEGIN:VEVENT
UID:gh0l@games.golnetwork.com
LOCATION:MARIEVILLE - STE-MARIE #5
GEO:45.432598114014;-73.16609954834
CREATED:20091127T110915Z
DTSTART:20090611T003000Z
DTEND:20090611T020000Z
DTSTAMP:20260419T212607Z
SUMMARY:Ste-Julie vs. C.S.J.R.
DESCRIPTION:C.S.J.R. vs. Ste-JuliePlus d'info : GOL#5208
X-ALT-DESC;FMTTYPE=text/html:<!DOCTYPE HTML PUBLIC "-//W3C//DTD HTML 3.2//E
	N">\n<HTML>\n<HEAD>\n<TITLE></TITLE>\n</HEAD>\n<BODY>\n<h3>C.S.J.R. vs. Ste
	-Julie</h3>Plus d'info : <a href="https://www.golnetwork.com/game/v/5208/">
	GOL#5208</a>\n\n</BODY>\n</HTML>
STATUS:CONFIRMED
CLASS:PUBLIC
URL:https://www.golnetwork.com/game/v/5208/
X-MICROSOFT-CDO-BUSYSTATUS:BUSY
X-MICROSOFT-CDO-IMPORTANCE:1
END:VEVENT
BEGIN:VEVENT
UID:gh0h@games.golnetwork.com
LOCATION:MONTCALM
GEO:45.384799957275;-73.507301330566
CREATED:20091127T110830Z
DTSTART:20090605T010000Z
DTEND:20090605T023000Z
DTSTAMP:20260419T212607Z
SUMMARY:C.S.J.R. vs. C.S.R.
DESCRIPTION:C.S.R. vs. C.S.J.R.Plus d'info : GOL#5206
X-ALT-DESC;FMTTYPE=text/html:<!DOCTYPE HTML PUBLIC "-//W3C//DTD HTML 3.2//E
	N">\n<HTML>\n<HEAD>\n<TITLE></TITLE>\n</HEAD>\n<BODY>\n<h3>C.S.R. vs. C.S.J
	.R.</h3>Plus d'info : <a href="https://www.golnetwork.com/game/v/5206/">GOL
	#5206</a>\n\n</BODY>\n</HTML>
STATUS:CONFIRMED
CLASS:PUBLIC
URL:https://www.golnetwork.com/game/v/5206/
X-MICROSOFT-CDO-BUSYSTATUS:BUSY
X-MICROSOFT-CDO-IMPORTANCE:1
END:VEVENT
BEGIN:VEVENT
UID:gh03@games.golnetwork.com
LOCATION:MARCEL-SIMARD
GEO:45.492900848389;-73.383697509766
CREATED:20091127T110602Z
DTSTART:20090528T010000Z
DTEND:20090528T023000Z
DTSTAMP:20260419T212607Z
SUMMARY:C.S.J.R. vs. St-Hubert
DESCRIPTION:St-Hubert vs. C.S.J.R.Plus d'info : GOL#5199
X-ALT-DESC;FMTTYPE=text/html:<!DOCTYPE HTML PUBLIC "-//W3C//DTD HTML 3.2//E
	N">\n<HTML>\n<HEAD>\n<TITLE></TITLE>\n</HEAD>\n<BODY>\n<h3>St-Hubert vs. C.
	S.J.R.</h3>Plus d'info : <a href="https://www.golnetwork.com/game/v/5199/">
	GOL#5199</a>\n\n</BODY>\n</HTML>
STATUS:CONFIRMED
CLASS:PUBLIC
URL:https://www.golnetwork.com/game/v/5199/
X-MICROSOFT-CDO-BUSYSTATUS:BUSY
X-MICROSOFT-CDO-IMPORTANCE:1
END:VEVENT
END:VCALENDAR
