BEGIN:VCALENDAR
PRODID:-//gdesolutions.com//MV Framework 1.0.0.1607 Calendar//EN
VERSION:2.0
METHOD:PUBLISH
CALSCALE:GREGORIAN
BEGIN:VEVENT
UID:gh7e@games.golnetwork.com
LOCATION:Laurier 1(synt)
CREATED:20091127T113056Z
DTSTART:20090910T010000Z
DTEND:20090910T023000Z
DTSTAMP:20260423T075037Z
SUMMARY:Ste-Julie vs. Longueuil
DESCRIPTION:Longueuil vs. Ste-JuliePlus d'info : GOL#5299
X-ALT-DESC;FMTTYPE=text/html:<!DOCTYPE HTML PUBLIC "-//W3C//DTD HTML 3.2//E
	N">\n<HTML>\n<HEAD>\n<TITLE></TITLE>\n</HEAD>\n<BODY>\n<h3>Longueuil vs. St
	e-Julie</h3>Plus d'info : <a href="https://www.golnetwork.com/game/v/5299/"
	>GOL#5299</a>\n\n</BODY>\n</HTML>
STATUS:CONFIRMED
CLASS:PUBLIC
URL:https://www.golnetwork.com/game/v/5299/
X-MICROSOFT-CDO-BUSYSTATUS:BUSY
X-MICROSOFT-CDO-IMPORTANCE:1
END:VEVENT
BEGIN:VEVENT
UID:gh72@games.golnetwork.com
LOCATION:N.P. Lapierre
GEO:45.580699920654;-73.348999023438
CREATED:20091127T112925Z
DTSTART:20090903T003000Z
DTEND:20090903T020000Z
DTSTAMP:20260423T075037Z
SUMMARY:Brossard vs. Ste-Julie
DESCRIPTION:Ste-Julie vs. BrossardPlus d'info : GOL#5293
X-ALT-DESC;FMTTYPE=text/html:<!DOCTYPE HTML PUBLIC "-//W3C//DTD HTML 3.2//E
	N">\n<HTML>\n<HEAD>\n<TITLE></TITLE>\n</HEAD>\n<BODY>\n<h3>Ste-Julie vs. Br
	ossard</h3>Plus d'info : <a href="https://www.golnetwork.com/game/v/5293/">
	GOL#5293</a>\n\n</BODY>\n</HTML>
STATUS:CONFIRMED
CLASS:PUBLIC
URL:https://www.golnetwork.com/game/v/5293/
X-MICROSOFT-CDO-BUSYSTATUS:BUSY
X-MICROSOFT-CDO-IMPORTANCE:1
END:VEVENT
BEGIN:VEVENT
UID:gh6j@games.golnetwork.com
LOCATION:Carrousel B
GEO:45.684898376465;-73.420402526855
CREATED:20091127T112811Z
DTSTART:20090827T010000Z
DTEND:20090827T023000Z
DTSTAMP:20260423T075037Z
SUMMARY:Ste-Julie vs. Varennes
DESCRIPTION:Varennes vs. Ste-JuliePlus d'info : GOL#5288
X-ALT-DESC;FMTTYPE=text/html:<!DOCTYPE HTML PUBLIC "-//W3C//DTD HTML 3.2//E
	N">\n<HTML>\n<HEAD>\n<TITLE></TITLE>\n</HEAD>\n<BODY>\n<h3>Varennes vs. Ste
	-Julie</h3>Plus d'info : <a href="https://www.golnetwork.com/game/v/5288/">
	GOL#5288</a>\n\n</BODY>\n</HTML>
STATUS:CONFIRMED
CLASS:PUBLIC
URL:https://www.golnetwork.com/game/v/5288/
X-MICROSOFT-CDO-BUSYSTATUS:BUSY
X-MICROSOFT-CDO-IMPORTANCE:1
END:VEVENT
BEGIN:VEVENT
UID:gh61@games.golnetwork.com
LOCATION:N.P. Lapierre
GEO:45.580699920654;-73.348999023438
CREATED:20091127T112614Z
DTSTART:20090820T003000Z
DTEND:20090820T020000Z
DTSTAMP:20260423T075037Z
SUMMARY:C.S.R. vs. Ste-Julie
DESCRIPTION:Ste-Julie vs. C.S.R.Plus d'info : GOL#5279
X-ALT-DESC;FMTTYPE=text/html:<!DOCTYPE HTML PUBLIC "-//W3C//DTD HTML 3.2//E
	N">\n<HTML>\n<HEAD>\n<TITLE></TITLE>\n</HEAD>\n<BODY>\n<h3>Ste-Julie vs. C.
	S.R.</h3>Plus d'info : <a href="https://www.golnetwork.com/game/v/5279/">GO
	L#5279</a>\n\n</BODY>\n</HTML>
STATUS:CONFIRMED
CLASS:PUBLIC
URL:https://www.golnetwork.com/game/v/5279/
X-MICROSOFT-CDO-BUSYSTATUS:BUSY
X-MICROSOFT-CDO-IMPORTANCE:1
END:VEVENT
BEGIN:VEVENT
UID:gh5m@games.golnetwork.com
LOCATION:Parc Soleil 1
GEO:46.026298522949;-73.140197753906
CREATED:20091127T112542Z
DTSTART:20090816T220000Z
DTEND:20090816T233000Z
DTSTAMP:20260423T075037Z
SUMMARY:Ste-Julie vs. Sorel-Tracy
DESCRIPTION:Sorel-Tracy vs. Ste-JuliePlus d'info : GOL#5276
X-ALT-DESC;FMTTYPE=text/html:<!DOCTYPE HTML PUBLIC "-//W3C//DTD HTML 3.2//E
	N">\n<HTML>\n<HEAD>\n<TITLE></TITLE>\n</HEAD>\n<BODY>\n<h3>Sorel-Tracy vs. 
	Ste-Julie</h3>Plus d'info : <a href="https://www.golnetwork.com/game/v/5276
	/">GOL#5276</a>\n\n</BODY>\n</HTML>
STATUS:CONFIRMED
CLASS:PUBLIC
URL:https://www.golnetwork.com/game/v/5276/
X-MICROSOFT-CDO-BUSYSTATUS:BUSY
X-MICROSOFT-CDO-IMPORTANCE:1
END:VEVENT
BEGIN:VEVENT
UID:gh5k@games.golnetwork.com
LOCATION:Edmour J. Harvey
GEO:45.570201873779;-73.327003479004
CREATED:20091127T112531Z
DTSTART:20090815T003000Z
DTEND:20090815T020000Z
DTSTAMP:20260423T075037Z
SUMMARY:Granby vs. Ste-Julie
DESCRIPTION:Ste-Julie vs. GranbyPlus d'info : GOL#5275
X-ALT-DESC;FMTTYPE=text/html:<!DOCTYPE HTML PUBLIC "-//W3C//DTD HTML 3.2//E
	N">\n<HTML>\n<HEAD>\n<TITLE></TITLE>\n</HEAD>\n<BODY>\n<h3>Ste-Julie vs. Gr
	anby</h3>Plus d'info : <a href="https://www.golnetwork.com/game/v/5275/">GO
	L#5275</a>\n\n</BODY>\n</HTML>
STATUS:CONFIRMED
CLASS:PUBLIC
URL:https://www.golnetwork.com/game/v/5275/
X-MICROSOFT-CDO-BUSYSTATUS:BUSY
X-MICROSOFT-CDO-IMPORTANCE:1
END:VEVENT
BEGIN:VEVENT
UID:gh5i@games.golnetwork.com
LOCATION:MARCEL-SIMARD
GEO:45.492900848389;-73.383697509766
CREATED:20091127T112520Z
DTSTART:20090813T010000Z
DTEND:20090813T023000Z
DTSTAMP:20260423T075037Z
SUMMARY:Ste-Julie vs. St-Hubert
DESCRIPTION:St-Hubert vs. Ste-JuliePlus d'info : GOL#5274
X-ALT-DESC;FMTTYPE=text/html:<!DOCTYPE HTML PUBLIC "-//W3C//DTD HTML 3.2//E
	N">\n<HTML>\n<HEAD>\n<TITLE></TITLE>\n</HEAD>\n<BODY>\n<h3>St-Hubert vs. St
	e-Julie</h3>Plus d'info : <a href="https://www.golnetwork.com/game/v/5274/"
	>GOL#5274</a>\n\n</BODY>\n</HTML>
STATUS:CONFIRMED
CLASS:PUBLIC
URL:https://www.golnetwork.com/game/v/5274/
X-MICROSOFT-CDO-BUSYSTATUS:BUSY
X-MICROSOFT-CDO-IMPORTANCE:1
END:VEVENT
BEGIN:VEVENT
UID:gh4n@games.golnetwork.com
LOCATION:N.P. Lapierre
GEO:45.580699920654;-73.348999023438
CREATED:20091127T112247Z
DTSTART:20090803T003000Z
DTEND:20090803T020000Z
DTSTAMP:20260423T075037Z
SUMMARY:C.S.J.R. vs. Ste-Julie
DESCRIPTION:Ste-Julie vs. C.S.J.R.Plus d'info : GOL#5263
X-ALT-DESC;FMTTYPE=text/html:<!DOCTYPE HTML PUBLIC "-//W3C//DTD HTML 3.2//E
	N">\n<HTML>\n<HEAD>\n<TITLE></TITLE>\n</HEAD>\n<BODY>\n<h3>Ste-Julie vs. C.
	S.J.R.</h3>Plus d'info : <a href="https://www.golnetwork.com/game/v/5263/">
	GOL#5263</a>\n\n</BODY>\n</HTML>
STATUS:CONFIRMED
CLASS:PUBLIC
URL:https://www.golnetwork.com/game/v/5263/
X-MICROSOFT-CDO-BUSYSTATUS:BUSY
X-MICROSOFT-CDO-IMPORTANCE:1
END:VEVENT
BEGIN:VEVENT
UID:gh4b@games.golnetwork.com
LOCATION:N.P. Lapierre
GEO:45.580699920654;-73.348999023438
CREATED:20091127T112103Z
DTSTART:20090730T003000Z
DTEND:20090730T020000Z
DTSTAMP:20260423T075037Z
SUMMARY:St-Hyacinthe vs. Ste-Julie
DESCRIPTION:Ste-Julie vs. St-HyacinthePlus d'info : GOL#5257
X-ALT-DESC;FMTTYPE=text/html:<!DOCTYPE HTML PUBLIC "-//W3C//DTD HTML 3.2//E
	N">\n<HTML>\n<HEAD>\n<TITLE></TITLE>\n</HEAD>\n<BODY>\n<h3>Ste-Julie vs. St
	-Hyacinthe</h3>Plus d'info : <a href="https://www.golnetwork.com/game/v/525
	7/">GOL#5257</a>\n\n</BODY>\n</HTML>
STATUS:CONFIRMED
CLASS:PUBLIC
URL:https://www.golnetwork.com/game/v/5257/
X-MICROSOFT-CDO-BUSYSTATUS:BUSY
X-MICROSOFT-CDO-IMPORTANCE:1
END:VEVENT
BEGIN:VEVENT
UID:gh3o@games.golnetwork.com
LOCATION:Parc de L'Envol
GEO:45.142700195312;-72.783401489258
CREATED:20091127T111921Z
DTSTART:20090722T010000Z
DTEND:20090722T023000Z
DTSTAMP:20260423T075037Z
SUMMARY:Ste-Julie vs. Dunham
DESCRIPTION:Dunham vs. Ste-JuliePlus d'info : GOL#5250
X-ALT-DESC;FMTTYPE=text/html:<!DOCTYPE HTML PUBLIC "-//W3C//DTD HTML 3.2//E
	N">\n<HTML>\n<HEAD>\n<TITLE></TITLE>\n</HEAD>\n<BODY>\n<h3>Dunham vs. Ste-J
	ulie</h3>Plus d'info : <a href="https://www.golnetwork.com/game/v/5250/">GO
	L#5250</a>\n\n</BODY>\n</HTML>
STATUS:CONFIRMED
CLASS:PUBLIC
URL:https://www.golnetwork.com/game/v/5250/
X-MICROSOFT-CDO-BUSYSTATUS:BUSY
X-MICROSOFT-CDO-IMPORTANCE:1
END:VEVENT
BEGIN:VEVENT
UID:gh3m@games.golnetwork.com
LOCATION:N.P. Lapierre
GEO:45.580699920654;-73.348999023438
CREATED:20091127T111909Z
DTSTART:20090719T223000Z
DTEND:20090720T000000Z
DTSTAMP:20260423T075037Z
SUMMARY:Longueuil vs. Ste-Julie
DESCRIPTION:Ste-Julie vs. LongueuilPlus d'info : GOL#5249
X-ALT-DESC;FMTTYPE=text/html:<!DOCTYPE HTML PUBLIC "-//W3C//DTD HTML 3.2//E
	N">\n<HTML>\n<HEAD>\n<TITLE></TITLE>\n</HEAD>\n<BODY>\n<h3>Ste-Julie vs. Lo
	ngueuil</h3>Plus d'info : <a href="https://www.golnetwork.com/game/v/5249/"
	>GOL#5249</a>\n\n</BODY>\n</HTML>
STATUS:CONFIRMED
CLASS:PUBLIC
URL:https://www.golnetwork.com/game/v/5249/
X-MICROSOFT-CDO-BUSYSTATUS:BUSY
X-MICROSOFT-CDO-IMPORTANCE:1
END:VEVENT
BEGIN:VEVENT
UID:gh32@games.golnetwork.com
LOCATION:N.P. Lapierre
GEO:45.580699920654;-73.348999023438
CREATED:20091127T111634Z
DTSTART:20090709T003000Z
DTEND:20090709T020000Z
DTSTAMP:20260423T075037Z
SUMMARY:Varennes vs. Ste-Julie
DESCRIPTION:Ste-Julie vs. VarennesPlus d'info : GOL#5239
X-ALT-DESC;FMTTYPE=text/html:<!DOCTYPE HTML PUBLIC "-//W3C//DTD HTML 3.2//E
	N">\n<HTML>\n<HEAD>\n<TITLE></TITLE>\n</HEAD>\n<BODY>\n<h3>Ste-Julie vs. Va
	rennes</h3>Plus d'info : <a href="https://www.golnetwork.com/game/v/5239/">
	GOL#5239</a>\n\n</BODY>\n</HTML>
STATUS:CONFIRMED
CLASS:PUBLIC
URL:https://www.golnetwork.com/game/v/5239/
X-MICROSOFT-CDO-BUSYSTATUS:BUSY
X-MICROSOFT-CDO-IMPORTANCE:1
END:VEVENT
BEGIN:VEVENT
UID:gh2f@games.golnetwork.com
LOCATION:Illinois 1
CREATED:20091127T111458Z
DTSTART:20090705T220000Z
DTEND:20090705T233000Z
DTSTAMP:20260423T075037Z
SUMMARY:Ste-Julie vs. Brossard
DESCRIPTION:Brossard vs. Ste-JuliePlus d'info : GOL#5232
X-ALT-DESC;FMTTYPE=text/html:<!DOCTYPE HTML PUBLIC "-//W3C//DTD HTML 3.2//E
	N">\n<HTML>\n<HEAD>\n<TITLE></TITLE>\n</HEAD>\n<BODY>\n<h3>Brossard vs. Ste
	-Julie</h3>Plus d'info : <a href="https://www.golnetwork.com/game/v/5232/">
	GOL#5232</a>\n\n</BODY>\n</HTML>
STATUS:CONFIRMED
CLASS:PUBLIC
URL:https://www.golnetwork.com/game/v/5232/
X-MICROSOFT-CDO-BUSYSTATUS:BUSY
X-MICROSOFT-CDO-IMPORTANCE:1
END:VEVENT
BEGIN:VEVENT
UID:gh2b@games.golnetwork.com
LOCATION:MONTCALM
GEO:45.384799957275;-73.507301330566
CREATED:20091127T111432Z
DTSTART:20090702T010000Z
DTEND:20090702T023000Z
DTSTAMP:20260423T075037Z
SUMMARY:Ste-Julie vs. C.S.R.
DESCRIPTION:C.S.R. vs. Ste-JuliePlus d'info : GOL#5230
X-ALT-DESC;FMTTYPE=text/html:<!DOCTYPE HTML PUBLIC "-//W3C//DTD HTML 3.2//E
	N">\n<HTML>\n<HEAD>\n<TITLE></TITLE>\n</HEAD>\n<BODY>\n<h3>C.S.R. vs. Ste-J
	ulie</h3>Plus d'info : <a href="https://www.golnetwork.com/game/v/5230/">GO
	L#5230</a>\n\n</BODY>\n</HTML>
STATUS:CONFIRMED
CLASS:PUBLIC
URL:https://www.golnetwork.com/game/v/5230/
X-MICROSOFT-CDO-BUSYSTATUS:BUSY
X-MICROSOFT-CDO-IMPORTANCE:1
END:VEVENT
BEGIN:VEVENT
UID:gh1o@games.golnetwork.com
LOCATION:J.Y. PHANEUF 3
CREATED:20091127T111246Z
DTSTART:20090625T010000Z
DTEND:20090625T023000Z
DTSTAMP:20260423T075037Z
SUMMARY:Ste-Julie vs. Granby
DESCRIPTION:Granby vs. Ste-JuliePlus d'info : GOL#5223
X-ALT-DESC;FMTTYPE=text/html:<!DOCTYPE HTML PUBLIC "-//W3C//DTD HTML 3.2//E
	N">\n<HTML>\n<HEAD>\n<TITLE></TITLE>\n</HEAD>\n<BODY>\n<h3>Granby vs. Ste-J
	ulie</h3>Plus d'info : <a href="https://www.golnetwork.com/game/v/5223/">GO
	L#5223</a>\n\n</BODY>\n</HTML>
STATUS:CONFIRMED
CLASS:PUBLIC
URL:https://www.golnetwork.com/game/v/5223/
X-MICROSOFT-CDO-BUSYSTATUS:BUSY
X-MICROSOFT-CDO-IMPORTANCE:1
END:VEVENT
BEGIN:VEVENT
UID:gh1i@games.golnetwork.com
LOCATION:N.P. Lapierre
GEO:45.580699920654;-73.348999023438
CREATED:20091127T111209Z
DTSTART:20090622T003000Z
DTEND:20090622T020000Z
DTSTAMP:20260423T075037Z
SUMMARY:Sorel-Tracy vs. Ste-Julie
DESCRIPTION:Ste-Julie vs. Sorel-TracyPlus d'info : GOL#5220
X-ALT-DESC;FMTTYPE=text/html:<!DOCTYPE HTML PUBLIC "-//W3C//DTD HTML 3.2//E
	N">\n<HTML>\n<HEAD>\n<TITLE></TITLE>\n</HEAD>\n<BODY>\n<h3>Ste-Julie vs. So
	rel-Tracy</h3>Plus d'info : <a href="https://www.golnetwork.com/game/v/5220
	/">GOL#5220</a>\n\n</BODY>\n</HTML>
STATUS:CONFIRMED
CLASS:PUBLIC
URL:https://www.golnetwork.com/game/v/5220/
X-MICROSOFT-CDO-BUSYSTATUS:BUSY
X-MICROSOFT-CDO-IMPORTANCE:1
END:VEVENT
BEGIN:VEVENT
UID:gh18@games.golnetwork.com
LOCATION:N.P. Lapierre
GEO:45.580699920654;-73.348999023438
CREATED:20091127T111059Z
DTSTART:20090618T003000Z
DTEND:20090618T020000Z
DTSTAMP:20260423T075037Z
SUMMARY:St-Hubert vs. Ste-Julie
DESCRIPTION:Ste-Julie vs. St-HubertPlus d'info : GOL#5215
X-ALT-DESC;FMTTYPE=text/html:<!DOCTYPE HTML PUBLIC "-//W3C//DTD HTML 3.2//E
	N">\n<HTML>\n<HEAD>\n<TITLE></TITLE>\n</HEAD>\n<BODY>\n<h3>Ste-Julie vs. St
	-Hubert</h3>Plus d'info : <a href="https://www.golnetwork.com/game/v/5215/"
	>GOL#5215</a>\n\n</BODY>\n</HTML>
STATUS:CONFIRMED
CLASS:PUBLIC
URL:https://www.golnetwork.com/game/v/5215/
X-MICROSOFT-CDO-BUSYSTATUS:BUSY
X-MICROSOFT-CDO-IMPORTANCE:1
END:VEVENT
BEGIN:VEVENT
UID:gh0l@games.golnetwork.com
LOCATION:MARIEVILLE - STE-MARIE #5
GEO:45.432598114014;-73.16609954834
CREATED:20091127T110915Z
DTSTART:20090611T003000Z
DTEND:20090611T020000Z
DTSTAMP:20260423T075037Z
SUMMARY:Ste-Julie vs. C.S.J.R.
DESCRIPTION:C.S.J.R. vs. Ste-JuliePlus d'info : GOL#5208
X-ALT-DESC;FMTTYPE=text/html:<!DOCTYPE HTML PUBLIC "-//W3C//DTD HTML 3.2//E
	N">\n<HTML>\n<HEAD>\n<TITLE></TITLE>\n</HEAD>\n<BODY>\n<h3>C.S.J.R. vs. Ste
	-Julie</h3>Plus d'info : <a href="https://www.golnetwork.com/game/v/5208/">
	GOL#5208</a>\n\n</BODY>\n</HTML>
STATUS:CONFIRMED
CLASS:PUBLIC
URL:https://www.golnetwork.com/game/v/5208/
X-MICROSOFT-CDO-BUSYSTATUS:BUSY
X-MICROSOFT-CDO-IMPORTANCE:1
END:VEVENT
BEGIN:VEVENT
UID:gh0f@games.golnetwork.com
LOCATION:POLY HYACINTHE DELORME 1
CREATED:20091127T110814Z
DTSTART:20090604T010000Z
DTEND:20090604T023000Z
DTSTAMP:20260423T075037Z
SUMMARY:Ste-Julie vs. St-Hyacinthe
DESCRIPTION:St-Hyacinthe vs. Ste-JuliePlus d'info : GOL#5205
X-ALT-DESC;FMTTYPE=text/html:<!DOCTYPE HTML PUBLIC "-//W3C//DTD HTML 3.2//E
	N">\n<HTML>\n<HEAD>\n<TITLE></TITLE>\n</HEAD>\n<BODY>\n<h3>St-Hyacinthe vs.
	 Ste-Julie</h3>Plus d'info : <a href="https://www.golnetwork.com/game/v/520
	5/">GOL#5205</a>\n\n</BODY>\n</HTML>
STATUS:CONFIRMED
CLASS:PUBLIC
URL:https://www.golnetwork.com/game/v/5205/
X-MICROSOFT-CDO-BUSYSTATUS:BUSY
X-MICROSOFT-CDO-IMPORTANCE:1
END:VEVENT
BEGIN:VEVENT
UID:ggqq@games.golnetwork.com
LOCATION:N.P. Lapierre
GEO:45.580699920654;-73.348999023438
CREATED:20091127T110447Z
DTSTART:20090528T003000Z
DTEND:20090528T020000Z
DTSTAMP:20260423T075037Z
SUMMARY:Dunham vs. Ste-Julie
DESCRIPTION:Ste-Julie vs. DunhamPlus d'info : GOL#5197
X-ALT-DESC;FMTTYPE=text/html:<!DOCTYPE HTML PUBLIC "-//W3C//DTD HTML 3.2//E
	N">\n<HTML>\n<HEAD>\n<TITLE></TITLE>\n</HEAD>\n<BODY>\n<h3>Ste-Julie vs. Du
	nham</h3>Plus d'info : <a href="https://www.golnetwork.com/game/v/5197/">GO
	L#5197</a>\n\n</BODY>\n</HTML>
STATUS:CONFIRMED
CLASS:PUBLIC
URL:https://www.golnetwork.com/game/v/5197/
X-MICROSOFT-CDO-BUSYSTATUS:BUSY
X-MICROSOFT-CDO-IMPORTANCE:1
END:VEVENT
END:VCALENDAR
