BEGIN:VCALENDAR
PRODID:-//gdesolutions.com//MV Framework 1.0.0.1607 Calendar//EN
VERSION:2.0
METHOD:PUBLISH
CALSCALE:GREGORIAN
BEGIN:VEVENT
UID:gjqh@games.golnetwork.com
LOCATION:PARC ENSOLEILLÉ
CREATED:20100103T024450Z
DTSTART:20090923T010000Z
DTEND:20090923T023000Z
DTSTAMP:20260419T214718Z
SUMMARY:Longueuil #2 vs. C.S.V.R.
DESCRIPTION:C.S.V.R. vs. Longueuil #2Plus d'info : GOL#6286
X-ALT-DESC;FMTTYPE=text/html:<!DOCTYPE HTML PUBLIC "-//W3C//DTD HTML 3.2//E
	N">\n<HTML>\n<HEAD>\n<TITLE></TITLE>\n</HEAD>\n<BODY>\n<h3>C.S.V.R. vs. Lon
	gueuil #2</h3>Plus d'info : <a href="https://www.golnetwork.com/game/v/6286
	/">GOL#6286</a>\n\n</BODY>\n</HTML>
STATUS:CONFIRMED
CLASS:PUBLIC
URL:https://www.golnetwork.com/game/v/6286/
X-MICROSOFT-CDO-BUSYSTATUS:BUSY
X-MICROSOFT-CDO-IMPORTANCE:1
END:VEVENT
END:VCALENDAR
