BEGIN:VCALENDAR
PRODID:-//gdesolutions.com//MV Framework 1.0.0.1607 Calendar//EN
VERSION:2.0
METHOD:PUBLISH
CALSCALE:GREGORIAN
BEGIN:VEVENT
UID:gk06@games.golnetwork.com
LOCATION:Centre multi-sports du Collège Français
GEO:45.543719;-73.458045
CREATED:20100103T030836Z
DTSTART:20090927T200000Z
DTEND:20090927T213000Z
DTSTAMP:20260419T222302Z
SUMMARY:Longueuil vs. C.S.V.R.
DESCRIPTION:C.S.V.R. vs. LongueuilPlus d'info : GOL#6294
X-ALT-DESC;FMTTYPE=text/html:<!DOCTYPE HTML PUBLIC "-//W3C//DTD HTML 3.2//E
	N">\n<HTML>\n<HEAD>\n<TITLE></TITLE>\n</HEAD>\n<BODY>\n<h3>C.S.V.R. vs. Lon
	gueuil</h3>Plus d'info : <a href="https://www.golnetwork.com/game/v/6294/">
	GOL#6294</a>\n\n</BODY>\n</HTML>
STATUS:CONFIRMED
CLASS:PUBLIC
URL:https://www.golnetwork.com/game/v/6294/
X-MICROSOFT-CDO-BUSYSTATUS:BUSY
X-MICROSOFT-CDO-IMPORTANCE:1
END:VEVENT
BEGIN:VEVENT
UID:gk0a@games.golnetwork.com
LOCATION:Centre multi-sports du Collège Français
GEO:45.543719;-73.458045
CREATED:20100103T030915Z
DTSTART:20090926T010000Z
DTEND:20090926T023000Z
DTSTAMP:20260419T222302Z
SUMMARY:St-Hyacinthe vs. C.S.V.R.
DESCRIPTION:C.S.V.R. vs. St-HyacinthePlus d'info : GOL#6296
X-ALT-DESC;FMTTYPE=text/html:<!DOCTYPE HTML PUBLIC "-//W3C//DTD HTML 3.2//E
	N">\n<HTML>\n<HEAD>\n<TITLE></TITLE>\n</HEAD>\n<BODY>\n<h3>C.S.V.R. vs. St-
	Hyacinthe</h3>Plus d'info : <a href="https://www.golnetwork.com/game/v/6296
	/">GOL#6296</a>\n\n</BODY>\n</HTML>
STATUS:CONFIRMED
CLASS:PUBLIC
URL:https://www.golnetwork.com/game/v/6296/
X-MICROSOFT-CDO-BUSYSTATUS:BUSY
X-MICROSOFT-CDO-IMPORTANCE:1
END:VEVENT
END:VCALENDAR
