BEGIN:VCALENDAR
PRODID:-//gdesolutions.com//MV Framework 1.0.0.1607 Calendar//EN
VERSION:2.0
METHOD:PUBLISH
CALSCALE:GREGORIAN
BEGIN:VEVENT
UID:gnp6@games.golnetwork.com
LOCATION:PHD #3 SYNTHÃTIQUE
CREATED:20111025T230248Z
DTSTART:20110917T010000Z
DTEND:20110917T023000Z
DTSTAMP:20260420T071410Z
SUMMARY:Sherbrooke vs. St-Hyacinthe
DESCRIPTION:St-Hyacinthe vs. SherbrookePlus d'info : GOL#7725
X-ALT-DESC;FMTTYPE=text/html:<!DOCTYPE HTML PUBLIC "-//W3C//DTD HTML 3.2//E
	N">\n<HTML>\n<HEAD>\n<TITLE></TITLE>\n</HEAD>\n<BODY>\n<h3>St-Hyacinthe vs.
	 Sherbrooke</h3>Plus d'info : <a href="https://www.golnetwork.com/game/v/77
	25/">GOL#7725</a>\n\n</BODY>\n</HTML>
STATUS:CONFIRMED
CLASS:PUBLIC
URL:https://www.golnetwork.com/game/v/7725/
X-MICROSOFT-CDO-BUSYSTATUS:BUSY
X-MICROSOFT-CDO-IMPORTANCE:1
END:VEVENT
BEGIN:VEVENT
UID:gnol@games.golnetwork.com
LOCATION:OLYMPIQUE 1
CREATED:20111025T225903Z
DTSTART:20110909T010000Z
DTEND:20110909T023000Z
DTSTAMP:20260420T071410Z
SUMMARY:Brossard vs. Sherbrooke
DESCRIPTION:Sherbrooke vs. BrossardPlus d'info : #84
X-ALT-DESC;FMTTYPE=text/html:<!DOCTYPE HTML PUBLIC "-//W3C//DTD HTML 3.2//E
	N">\n<HTML>\n<HEAD>\n<TITLE></TITLE>\n</HEAD>\n<BODY>\n<h3>Sherbrooke vs. B
	rossard</h3>Plus d'info : <a href="https://www.golnetwork.com/game/v/7719/"
	>#84</a>\n\n</BODY>\n</HTML>
STATUS:CONFIRMED
CLASS:PUBLIC
URL:https://www.golnetwork.com/game/v/7719/
X-MICROSOFT-CDO-BUSYSTATUS:BUSY
X-MICROSOFT-CDO-IMPORTANCE:1
END:VEVENT
BEGIN:VEVENT
UID:gno7@games.golnetwork.com
LOCATION:MARIE-VICTORIN 1
GEO:45.524425;-73.368367
CREATED:20111025T225437Z
DTSTART:20110902T010000Z
DTEND:20110902T023000Z
DTSTAMP:20260420T071410Z
SUMMARY:Sherbrooke vs. Mont-Bruno #2
DESCRIPTION:Mont-Bruno #2 vs. SherbrookePlus d'info : #77
X-ALT-DESC;FMTTYPE=text/html:<!DOCTYPE HTML PUBLIC "-//W3C//DTD HTML 3.2//E
	N">\n<HTML>\n<HEAD>\n<TITLE></TITLE>\n</HEAD>\n<BODY>\n<h3>Mont-Bruno #2 vs
	. Sherbrooke</h3>Plus d'info : <a href="https://www.golnetwork.com/game/v/7
	712/">#77</a>\n\n</BODY>\n</HTML>
STATUS:CONFIRMED
CLASS:PUBLIC
URL:https://www.golnetwork.com/game/v/7712/
X-MICROSOFT-CDO-BUSYSTATUS:BUSY
X-MICROSOFT-CDO-IMPORTANCE:1
END:VEVENT
BEGIN:VEVENT
UID:gnnm@games.golnetwork.com
LOCATION:OLYMPIQUE 1
CREATED:20111025T224047Z
DTSTART:20110825T160000Z
DTEND:20110825T173000Z
DTSTAMP:20260420T071410Z
SUMMARY:Longueuil vs. Sherbrooke
DESCRIPTION:Sherbrooke vs. LongueuilPlus d'info : #71
X-ALT-DESC;FMTTYPE=text/html:<!DOCTYPE HTML PUBLIC "-//W3C//DTD HTML 3.2//E
	N">\n<HTML>\n<HEAD>\n<TITLE></TITLE>\n</HEAD>\n<BODY>\n<h3>Sherbrooke vs. L
	ongueuil</h3>Plus d'info : <a href="https://www.golnetwork.com/game/v/7706/
	">#71</a>\n\n</BODY>\n</HTML>
STATUS:CONFIRMED
CLASS:PUBLIC
URL:https://www.golnetwork.com/game/v/7706/
X-MICROSOFT-CDO-BUSYSTATUS:BUSY
X-MICROSOFT-CDO-IMPORTANCE:1
END:VEVENT
BEGIN:VEVENT
UID:gnne@games.golnetwork.com
LOCATION:ARENA 2
CREATED:20111025T215508Z
DTSTART:20110819T010000Z
DTEND:20110819T023000Z
DTSTAMP:20260420T071410Z
SUMMARY:Sherbrooke vs. Chambly
DESCRIPTION:Chambly vs. SherbrookePlus d'info : #67
X-ALT-DESC;FMTTYPE=text/html:<!DOCTYPE HTML PUBLIC "-//W3C//DTD HTML 3.2//E
	N">\n<HTML>\n<HEAD>\n<TITLE></TITLE>\n</HEAD>\n<BODY>\n<h3>Chambly vs. Sher
	brooke</h3>Plus d'info : <a href="https://www.golnetwork.com/game/v/7702/">
	#67</a>\n\n</BODY>\n</HTML>
STATUS:CONFIRMED
CLASS:PUBLIC
URL:https://www.golnetwork.com/game/v/7702/
X-MICROSOFT-CDO-BUSYSTATUS:BUSY
X-MICROSOFT-CDO-IMPORTANCE:1
END:VEVENT
BEGIN:VEVENT
UID:gnn8@games.golnetwork.com
LOCATION:Stade Extérieur
CREATED:20111025T215256Z
DTSTART:20110812T010000Z
DTEND:20110812T023000Z
DTSTAMP:20260420T071410Z
SUMMARY:Mont-Bruno #1 vs. Sherbrooke
DESCRIPTION:Sherbrooke vs. Mont-Bruno #1Plus d'info : #64
X-ALT-DESC;FMTTYPE=text/html:<!DOCTYPE HTML PUBLIC "-//W3C//DTD HTML 3.2//E
	N">\n<HTML>\n<HEAD>\n<TITLE></TITLE>\n</HEAD>\n<BODY>\n<h3>Sherbrooke vs. M
	ont-Bruno #1</h3>Plus d'info : <a href="https://www.golnetwork.com/game/v/7
	699/">#64</a>\n\n</BODY>\n</HTML>
STATUS:CONFIRMED
CLASS:PUBLIC
URL:https://www.golnetwork.com/game/v/7699/
X-MICROSOFT-CDO-BUSYSTATUS:BUSY
X-MICROSOFT-CDO-IMPORTANCE:1
END:VEVENT
BEGIN:VEVENT
UID:gnmn@games.golnetwork.com
LOCATION:J.Y. PHANEUF 2
CREATED:20111025T214833Z
DTSTART:20110805T010000Z
DTEND:20110805T023000Z
DTSTAMP:20260420T071410Z
SUMMARY:Sherbrooke vs. Granby
DESCRIPTION:Granby vs. SherbrookePlus d'info : #58
X-ALT-DESC;FMTTYPE=text/html:<!DOCTYPE HTML PUBLIC "-//W3C//DTD HTML 3.2//E
	N">\n<HTML>\n<HEAD>\n<TITLE></TITLE>\n</HEAD>\n<BODY>\n<h3>Granby vs. Sherb
	rooke</h3>Plus d'info : <a href="https://www.golnetwork.com/game/v/7693/">#
	58</a>\n\n</BODY>\n</HTML>
STATUS:CONFIRMED
CLASS:PUBLIC
URL:https://www.golnetwork.com/game/v/7693/
X-MICROSOFT-CDO-BUSYSTATUS:BUSY
X-MICROSOFT-CDO-IMPORTANCE:1
END:VEVENT
BEGIN:VEVENT
UID:gnmf@games.golnetwork.com
LOCATION:Stade Extérieur
CREATED:20111025T214542Z
DTSTART:20110729T010000Z
DTEND:20110729T023000Z
DTSTAMP:20260420T071410Z
SUMMARY:Drummondville vs. Sherbrooke
DESCRIPTION:Sherbrooke vs. DrummondvillePlus d'info : #54
X-ALT-DESC;FMTTYPE=text/html:<!DOCTYPE HTML PUBLIC "-//W3C//DTD HTML 3.2//E
	N">\n<HTML>\n<HEAD>\n<TITLE></TITLE>\n</HEAD>\n<BODY>\n<h3>Sherbrooke vs. D
	rummondville</h3>Plus d'info : <a href="https://www.golnetwork.com/game/v/7
	689/">#54</a>\n\n</BODY>\n</HTML>
STATUS:CONFIRMED
CLASS:PUBLIC
URL:https://www.golnetwork.com/game/v/7689/
X-MICROSOFT-CDO-BUSYSTATUS:BUSY
X-MICROSOFT-CDO-IMPORTANCE:1
END:VEVENT
BEGIN:VEVENT
UID:gnm3@games.golnetwork.com
LOCATION:STADE DU HAUT-RICHELIEU
CREATED:20111025T214126Z
DTSTART:20110722T010000Z
DTEND:20110722T023000Z
DTSTAMP:20260420T071410Z
SUMMARY:Sherbrooke vs. Haut-Richelieu
DESCRIPTION:Haut-Richelieu vs. SherbrookePlus d'info : #48
X-ALT-DESC;FMTTYPE=text/html:<!DOCTYPE HTML PUBLIC "-//W3C//DTD HTML 3.2//E
	N">\n<HTML>\n<HEAD>\n<TITLE></TITLE>\n</HEAD>\n<BODY>\n<h3>Haut-Richelieu v
	s. Sherbrooke</h3>Plus d'info : <a href="https://www.golnetwork.com/game/v/
	7683/">#48</a>\n\n</BODY>\n</HTML>
STATUS:CONFIRMED
CLASS:PUBLIC
URL:https://www.golnetwork.com/game/v/7683/
X-MICROSOFT-CDO-BUSYSTATUS:BUSY
X-MICROSOFT-CDO-IMPORTANCE:1
END:VEVENT
BEGIN:VEVENT
UID:gnlm@games.golnetwork.com
LOCATION:OLYMPIQUE 1
CREATED:20111025T213818Z
DTSTART:20110715T010000Z
DTEND:20110715T023000Z
DTSTAMP:20260420T071410Z
SUMMARY:St-Hyacinthe vs. Sherbrooke
DESCRIPTION:Sherbrooke vs. St-HyacinthePlus d'info : #44
X-ALT-DESC;FMTTYPE=text/html:<!DOCTYPE HTML PUBLIC "-//W3C//DTD HTML 3.2//E
	N">\n<HTML>\n<HEAD>\n<TITLE></TITLE>\n</HEAD>\n<BODY>\n<h3>Sherbrooke vs. S
	t-Hyacinthe</h3>Plus d'info : <a href="https://www.golnetwork.com/game/v/76
	79/">#44</a>\n\n</BODY>\n</HTML>
STATUS:CONFIRMED
CLASS:PUBLIC
URL:https://www.golnetwork.com/game/v/7679/
X-MICROSOFT-CDO-BUSYSTATUS:BUSY
X-MICROSOFT-CDO-IMPORTANCE:1
END:VEVENT
BEGIN:VEVENT
UID:gnl8@games.golnetwork.com
LOCATION:Illinois 1
CREATED:20111025T210826Z
DTSTART:20110708T010000Z
DTEND:20110708T023000Z
DTSTAMP:20260420T071410Z
SUMMARY:Sherbrooke vs. Brossard
DESCRIPTION:Brossard vs. SherbrookePlus d'info : #37
X-ALT-DESC;FMTTYPE=text/html:<!DOCTYPE HTML PUBLIC "-//W3C//DTD HTML 3.2//E
	N">\n<HTML>\n<HEAD>\n<TITLE></TITLE>\n</HEAD>\n<BODY>\n<h3>Brossard vs. She
	rbrooke</h3>Plus d'info : <a href="https://www.golnetwork.com/game/v/7672/"
	>#37</a>\n\n</BODY>\n</HTML>
STATUS:CONFIRMED
CLASS:PUBLIC
URL:https://www.golnetwork.com/game/v/7672/
X-MICROSOFT-CDO-BUSYSTATUS:BUSY
X-MICROSOFT-CDO-IMPORTANCE:1
END:VEVENT
BEGIN:VEVENT
UID:gnl2@games.golnetwork.com
LOCATION:Stade Extérieur
CREATED:20111025T210612Z
DTSTART:20110701T010000Z
DTEND:20110701T023000Z
DTSTAMP:20260420T071410Z
SUMMARY:Mont-Bruno #2 vs. Sherbrooke
DESCRIPTION:Sherbrooke vs. Mont-Bruno #2Plus d'info : #34
X-ALT-DESC;FMTTYPE=text/html:<!DOCTYPE HTML PUBLIC "-//W3C//DTD HTML 3.2//E
	N">\n<HTML>\n<HEAD>\n<TITLE></TITLE>\n</HEAD>\n<BODY>\n<h3>Sherbrooke vs. M
	ont-Bruno #2</h3>Plus d'info : <a href="https://www.golnetwork.com/game/v/7
	669/">#34</a>\n\n</BODY>\n</HTML>
STATUS:CONFIRMED
CLASS:PUBLIC
URL:https://www.golnetwork.com/game/v/7669/
X-MICROSOFT-CDO-BUSYSTATUS:BUSY
X-MICROSOFT-CDO-IMPORTANCE:1
END:VEVENT
BEGIN:VEVENT
UID:gnkd@games.golnetwork.com
LOCATION:LAURIER 1(SYNT)
CREATED:20111025T210019Z
DTSTART:20110621T010000Z
DTEND:20110621T023000Z
DTSTAMP:20260420T071410Z
SUMMARY:Sherbrooke vs. Longueuil
DESCRIPTION:Longueuil vs. SherbrookePlus d'info : #26
X-ALT-DESC;FMTTYPE=text/html:<!DOCTYPE HTML PUBLIC "-//W3C//DTD HTML 3.2//E
	N">\n<HTML>\n<HEAD>\n<TITLE></TITLE>\n</HEAD>\n<BODY>\n<h3>Longueuil vs. Sh
	erbrooke</h3>Plus d'info : <a href="https://www.golnetwork.com/game/v/7661/
	">#26</a>\n\n</BODY>\n</HTML>
STATUS:CONFIRMED
CLASS:PUBLIC
URL:https://www.golnetwork.com/game/v/7661/
X-MICROSOFT-CDO-BUSYSTATUS:BUSY
X-MICROSOFT-CDO-IMPORTANCE:1
END:VEVENT
BEGIN:VEVENT
UID:gnk7@games.golnetwork.com
LOCATION:OLYMPIQUE 1
CREATED:20111025T205749Z
DTSTART:20110617T010000Z
DTEND:20110617T023000Z
DTSTAMP:20260420T071410Z
SUMMARY:Chambly vs. Sherbrooke
DESCRIPTION:Sherbrooke vs. ChamblyPlus d'info : #23
X-ALT-DESC;FMTTYPE=text/html:<!DOCTYPE HTML PUBLIC "-//W3C//DTD HTML 3.2//E
	N">\n<HTML>\n<HEAD>\n<TITLE></TITLE>\n</HEAD>\n<BODY>\n<h3>Sherbrooke vs. C
	hambly</h3>Plus d'info : <a href="https://www.golnetwork.com/game/v/7658/">
	#23</a>\n\n</BODY>\n</HTML>
STATUS:CONFIRMED
CLASS:PUBLIC
URL:https://www.golnetwork.com/game/v/7658/
X-MICROSOFT-CDO-BUSYSTATUS:BUSY
X-MICROSOFT-CDO-IMPORTANCE:1
END:VEVENT
BEGIN:VEVENT
UID:gnjq@games.golnetwork.com
LOCATION:MARIE-VICTORIN 1
GEO:45.524425;-73.368367
CREATED:20111025T205448Z
DTSTART:20110610T010000Z
DTEND:20110610T023000Z
DTSTAMP:20260420T071410Z
SUMMARY:Sherbrooke vs. Mont-Bruno #1
DESCRIPTION:Mont-Bruno #1 vs. SherbrookePlus d'info : #19
X-ALT-DESC;FMTTYPE=text/html:<!DOCTYPE HTML PUBLIC "-//W3C//DTD HTML 3.2//E
	N">\n<HTML>\n<HEAD>\n<TITLE></TITLE>\n</HEAD>\n<BODY>\n<h3>Mont-Bruno #1 vs
	. Sherbrooke</h3>Plus d'info : <a href="https://www.golnetwork.com/game/v/7
	654/">#19</a>\n\n</BODY>\n</HTML>
STATUS:CONFIRMED
CLASS:PUBLIC
URL:https://www.golnetwork.com/game/v/7654/
X-MICROSOFT-CDO-BUSYSTATUS:BUSY
X-MICROSOFT-CDO-IMPORTANCE:1
END:VEVENT
BEGIN:VEVENT
UID:gnji@games.golnetwork.com
LOCATION:OLYMPIQUE 1
CREATED:20111025T204907Z
DTSTART:20110603T010000Z
DTEND:20110603T023000Z
DTSTAMP:20260420T071410Z
SUMMARY:Granby vs. Sherbrooke
DESCRIPTION:Sherbrooke vs. GranbyPlus d'info : #15
X-ALT-DESC;FMTTYPE=text/html:<!DOCTYPE HTML PUBLIC "-//W3C//DTD HTML 3.2//E
	N">\n<HTML>\n<HEAD>\n<TITLE></TITLE>\n</HEAD>\n<BODY>\n<h3>Sherbrooke vs. G
	ranby</h3>Plus d'info : <a href="https://www.golnetwork.com/game/v/7650/">#
	15</a>\n\n</BODY>\n</HTML>
STATUS:CONFIRMED
CLASS:PUBLIC
URL:https://www.golnetwork.com/game/v/7650/
X-MICROSOFT-CDO-BUSYSTATUS:BUSY
X-MICROSOFT-CDO-IMPORTANCE:1
END:VEVENT
BEGIN:VEVENT
UID:gnj0@games.golnetwork.com
LOCATION:GRANDE ALLÃE
CREATED:20111025T204204Z
DTSTART:20110527T003000Z
DTEND:20110527T020000Z
DTSTAMP:20260420T071410Z
SUMMARY:Sherbrooke vs. Drummondville
DESCRIPTION:Drummondville vs. SherbrookePlus d'info : #6
X-ALT-DESC;FMTTYPE=text/html:<!DOCTYPE HTML PUBLIC "-//W3C//DTD HTML 3.2//E
	N">\n<HTML>\n<HEAD>\n<TITLE></TITLE>\n</HEAD>\n<BODY>\n<h3>Drummondville vs
	. Sherbrooke</h3>Plus d'info : <a href="https://www.golnetwork.com/game/v/7
	641/">#6</a>\n\n</BODY>\n</HTML>
STATUS:CONFIRMED
CLASS:PUBLIC
URL:https://www.golnetwork.com/game/v/7641/
X-MICROSOFT-CDO-BUSYSTATUS:BUSY
X-MICROSOFT-CDO-IMPORTANCE:1
END:VEVENT
BEGIN:VEVENT
UID:gnih@games.golnetwork.com
LOCATION:OLYMPIQUE 1
CREATED:20111025T202510Z
DTSTART:20110516T000000Z
DTEND:20110516T013000Z
DTSTAMP:20260420T071410Z
SUMMARY:Haut-Richelieu vs. Sherbrooke
DESCRIPTION:Sherbrooke vs. Haut-RichelieuPlus d'info : #1
X-ALT-DESC;FMTTYPE=text/html:<!DOCTYPE HTML PUBLIC "-//W3C//DTD HTML 3.2//E
	N">\n<HTML>\n<HEAD>\n<TITLE></TITLE>\n</HEAD>\n<BODY>\n<h3>Sherbrooke vs. H
	aut-Richelieu</h3>Plus d'info : <a href="https://www.golnetwork.com/game/v/
	7636/">#1</a>\n\n</BODY>\n</HTML>
STATUS:CONFIRMED
CLASS:PUBLIC
URL:https://www.golnetwork.com/game/v/7636/
X-MICROSOFT-CDO-BUSYSTATUS:BUSY
X-MICROSOFT-CDO-IMPORTANCE:1
END:VEVENT
END:VCALENDAR
