BEGIN:VCALENDAR
PRODID:-//gdesolutions.com//MV Framework 1.0.0.1607 Calendar//EN
VERSION:2.0
METHOD:PUBLISH
CALSCALE:GREGORIAN
BEGIN:VEVENT
UID:g1cl2@games.golnetwork.com
LOCATION:Marianopolis #1
GEO:45.4807868;-73.610845
CREATED:20120424T135046Z
DTSTART:20120723T224500Z
DTEND:20120724T000000Z
DTSTAMP:20260419T193902Z
SUMMARY:RUN N GUN vs. UNITE
DESCRIPTION:UNITE vs. RUN N GUNPlus d'info : #268
X-ALT-DESC;FMTTYPE=text/html:<!DOCTYPE HTML PUBLIC "-//W3C//DTD HTML 3.2//E
	N">\n<HTML>\n<HEAD>\n<TITLE></TITLE>\n</HEAD>\n<BODY>\n<h3>UNITE vs. RUN N 
	GUN</h3>Plus d'info : <a href="https://www.golnetwork.com/game/v/13501/">#2
	68</a>\n\n</BODY>\n</HTML>
STATUS:CONFIRMED
CLASS:PUBLIC
URL:https://www.golnetwork.com/game/v/13501/
X-MICROSOFT-CDO-BUSYSTATUS:BUSY
X-MICROSOFT-CDO-IMPORTANCE:1
END:VEVENT
BEGIN:VEVENT
UID:g1cmh@games.golnetwork.com
LOCATION:Marianopolis #1
GEO:45.4807868;-73.610845
CREATED:20120424T135047Z
DTSTART:20120716T224500Z
DTEND:20120717T000000Z
DTSTAMP:20260419T193902Z
SUMMARY:RUN N GUN vs. UQAM
DESCRIPTION:UQAM vs. RUN N GUNPlus d'info : #243
X-ALT-DESC;FMTTYPE=text/html:<!DOCTYPE HTML PUBLIC "-//W3C//DTD HTML 3.2//E
	N">\n<HTML>\n<HEAD>\n<TITLE></TITLE>\n</HEAD>\n<BODY>\n<h3>UQAM vs. RUN N G
	UN</h3>Plus d'info : <a href="https://www.golnetwork.com/game/v/13522/">#24
	3</a>\n\n</BODY>\n</HTML>
STATUS:CONFIRMED
CLASS:PUBLIC
URL:https://www.golnetwork.com/game/v/13522/
X-MICROSOFT-CDO-BUSYSTATUS:BUSY
X-MICROSOFT-CDO-IMPORTANCE:1
END:VEVENT
BEGIN:VEVENT
UID:g1cm9@games.golnetwork.com
LOCATION:Marianopolis #1
GEO:45.4807868;-73.610845
CREATED:20120424T135047Z
DTSTART:20120709T224500Z
DTEND:20120710T000000Z
DTSTAMP:20260419T193902Z
SUMMARY:RUN N GUN vs. DIAMOND BALLERS
DESCRIPTION:DIAMOND BALLERS vs. RUN N GUNPlus d'info : #218
X-ALT-DESC;FMTTYPE=text/html:<!DOCTYPE HTML PUBLIC "-//W3C//DTD HTML 3.2//E
	N">\n<HTML>\n<HEAD>\n<TITLE></TITLE>\n</HEAD>\n<BODY>\n<h3>DIAMOND BALLERS 
	vs. RUN N GUN</h3>Plus d'info : <a href="https://www.golnetwork.com/game/v/
	13518/">#218</a>\n\n</BODY>\n</HTML>
STATUS:CONFIRMED
CLASS:PUBLIC
URL:https://www.golnetwork.com/game/v/13518/
X-MICROSOFT-CDO-BUSYSTATUS:BUSY
X-MICROSOFT-CDO-IMPORTANCE:1
END:VEVENT
BEGIN:VEVENT
UID:g1cm5@games.golnetwork.com
LOCATION:CVM - Court #1
GEO:45.5146585;-73.5658635
CREATED:20120424T135047Z
DTSTART:20120625T230000Z
DTEND:20120626T001500Z
DTSTAMP:20260419T193902Z
SUMMARY:MILLER vs. RUN N GUN
DESCRIPTION:RUN N GUN vs. MILLERPlus d'info : #172
X-ALT-DESC;FMTTYPE=text/html:<!DOCTYPE HTML PUBLIC "-//W3C//DTD HTML 3.2//E
	N">\n<HTML>\n<HEAD>\n<TITLE></TITLE>\n</HEAD>\n<BODY>\n<h3>RUN N GUN vs. MI
	LLER</h3>Plus d'info : <a href="https://www.golnetwork.com/game/v/13516/">#
	172</a>\n\n</BODY>\n</HTML>
STATUS:CONFIRMED
CLASS:PUBLIC
URL:https://www.golnetwork.com/game/v/13516/
X-MICROSOFT-CDO-BUSYSTATUS:BUSY
X-MICROSOFT-CDO-IMPORTANCE:1
END:VEVENT
BEGIN:VEVENT
UID:g1clo@games.golnetwork.com
LOCATION:Marianopolis #1
GEO:45.4807868;-73.610845
CREATED:20120424T135047Z
DTSTART:20120618T224500Z
DTEND:20120619T000000Z
DTSTAMP:20260419T193902Z
SUMMARY:UNITE vs. RUN N GUN
DESCRIPTION:RUN N GUN vs. UNITEPlus d'info : #148
X-ALT-DESC;FMTTYPE=text/html:<!DOCTYPE HTML PUBLIC "-//W3C//DTD HTML 3.2//E
	N">\n<HTML>\n<HEAD>\n<TITLE></TITLE>\n</HEAD>\n<BODY>\n<h3>RUN N GUN vs. UN
	ITE</h3>Plus d'info : <a href="https://www.golnetwork.com/game/v/13512/">#1
	48</a>\n\n</BODY>\n</HTML>
STATUS:CONFIRMED
CLASS:PUBLIC
URL:https://www.golnetwork.com/game/v/13512/
X-MICROSOFT-CDO-BUSYSTATUS:BUSY
X-MICROSOFT-CDO-IMPORTANCE:1
END:VEVENT
BEGIN:VEVENT
UID:g1clg@games.golnetwork.com
LOCATION:Marianopolis #1
GEO:45.4807868;-73.610845
CREATED:20120424T135047Z
DTSTART:20120611T224500Z
DTEND:20120612T000000Z
DTSTAMP:20260419T193902Z
SUMMARY:DIAMOND BALLERS vs. RUN N GUN
DESCRIPTION:RUN N GUN vs. DIAMOND BALLERSPlus d'info : #123
X-ALT-DESC;FMTTYPE=text/html:<!DOCTYPE HTML PUBLIC "-//W3C//DTD HTML 3.2//E
	N">\n<HTML>\n<HEAD>\n<TITLE></TITLE>\n</HEAD>\n<BODY>\n<h3>RUN N GUN vs. DI
	AMOND BALLERS</h3>Plus d'info : <a href="https://www.golnetwork.com/game/v/
	13508/">#123</a>\n\n</BODY>\n</HTML>
STATUS:CONFIRMED
CLASS:PUBLIC
URL:https://www.golnetwork.com/game/v/13508/
X-MICROSOFT-CDO-BUSYSTATUS:BUSY
X-MICROSOFT-CDO-IMPORTANCE:1
END:VEVENT
BEGIN:VEVENT
UID:g1cla@games.golnetwork.com
LOCATION:Marianopolis #1
GEO:45.4807868;-73.610845
CREATED:20120424T135047Z
DTSTART:20120604T224500Z
DTEND:20120605T000000Z
DTSTAMP:20260419T193902Z
SUMMARY:QC UNITED U19 vs. RUN N GUN
DESCRIPTION:RUN N GUN vs. QC UNITED U19Plus d'info : #98
X-ALT-DESC;FMTTYPE=text/html:<!DOCTYPE HTML PUBLIC "-//W3C//DTD HTML 3.2//E
	N">\n<HTML>\n<HEAD>\n<TITLE></TITLE>\n</HEAD>\n<BODY>\n<h3>RUN N GUN vs. QC
	 UNITED U19</h3>Plus d'info : <a href="https://www.golnetwork.com/game/v/13
	505/">#98</a>\n\n</BODY>\n</HTML>
STATUS:CONFIRMED
CLASS:PUBLIC
URL:https://www.golnetwork.com/game/v/13505/
X-MICROSOFT-CDO-BUSYSTATUS:BUSY
X-MICROSOFT-CDO-IMPORTANCE:1
END:VEVENT
BEGIN:VEVENT
UID:g1cl6@games.golnetwork.com
LOCATION:CVM - Court #1
GEO:45.5146585;-73.5658635
CREATED:20120424T135046Z
DTSTART:20120528T230000Z
DTEND:20120529T001500Z
DTSTAMP:20260419T193902Z
SUMMARY:RUN N GUN vs. UQAM
DESCRIPTION:UQAM vs. RUN N GUNPlus d'info : #73
X-ALT-DESC;FMTTYPE=text/html:<!DOCTYPE HTML PUBLIC "-//W3C//DTD HTML 3.2//E
	N">\n<HTML>\n<HEAD>\n<TITLE></TITLE>\n</HEAD>\n<BODY>\n<h3>UQAM vs. RUN N G
	UN</h3>Plus d'info : <a href="https://www.golnetwork.com/game/v/13503/">#73
	</a>\n\n</BODY>\n</HTML>
STATUS:CONFIRMED
CLASS:PUBLIC
URL:https://www.golnetwork.com/game/v/13503/
X-MICROSOFT-CDO-BUSYSTATUS:BUSY
X-MICROSOFT-CDO-IMPORTANCE:1
END:VEVENT
BEGIN:VEVENT
UID:g1ckn@games.golnetwork.com
LOCATION:CVM - Court #1
GEO:45.5146585;-73.5658635
CREATED:20120424T135046Z
DTSTART:20120514T230000Z
DTEND:20120515T001500Z
DTSTAMP:20260419T193902Z
SUMMARY:MILLER vs. RUN N GUN
DESCRIPTION:RUN N GUN vs. MILLERPlus d'info : #26
X-ALT-DESC;FMTTYPE=text/html:<!DOCTYPE HTML PUBLIC "-//W3C//DTD HTML 3.2//E
	N">\n<HTML>\n<HEAD>\n<TITLE></TITLE>\n</HEAD>\n<BODY>\n<h3>RUN N GUN vs. MI
	LLER</h3>Plus d'info : <a href="https://www.golnetwork.com/game/v/13498/">#
	26</a>\n\n</BODY>\n</HTML>
STATUS:CONFIRMED
CLASS:PUBLIC
URL:https://www.golnetwork.com/game/v/13498/
X-MICROSOFT-CDO-BUSYSTATUS:BUSY
X-MICROSOFT-CDO-IMPORTANCE:1
END:VEVENT
BEGIN:VEVENT
UID:g1ckf@games.golnetwork.com
LOCATION:CVM - Court #1
GEO:45.5146585;-73.5658635
CREATED:20120424T135046Z
DTSTART:20120507T230000Z
DTEND:20120508T001500Z
DTSTAMP:20260419T193902Z
SUMMARY:QC UNITED U19 vs. RUN N GUN
DESCRIPTION:RUN N GUN vs. QC UNITED U19Plus d'info : #1
X-ALT-DESC;FMTTYPE=text/html:<!DOCTYPE HTML PUBLIC "-//W3C//DTD HTML 3.2//E
	N">\n<HTML>\n<HEAD>\n<TITLE></TITLE>\n</HEAD>\n<BODY>\n<h3>RUN N GUN vs. QC
	 UNITED U19</h3>Plus d'info : <a href="https://www.golnetwork.com/game/v/13
	494/">#1</a>\n\n</BODY>\n</HTML>
STATUS:CONFIRMED
CLASS:PUBLIC
URL:https://www.golnetwork.com/game/v/13494/
X-MICROSOFT-CDO-BUSYSTATUS:BUSY
X-MICROSOFT-CDO-IMPORTANCE:1
END:VEVENT
END:VCALENDAR
