BEGIN:VCALENDAR
PRODID:-//gdesolutions.com//MV Framework 1.0.0.1607 Calendar//EN
VERSION:2.0
METHOD:PUBLISH
CALSCALE:GREGORIAN
BEGIN:VEVENT
UID:g1cid@games.golnetwork.com
LOCATION:Marianopolis #2
GEO:45.4807868;-73.610845
CREATED:20120424T030405Z
DTSTART:20120822T003000Z
DTEND:20120822T013000Z
DTSTAMP:20260422T203353Z
SUMMARY:ARAM vs. STUBBORN
DESCRIPTION:STUBBORN vs. ARAMPlus d'info : #370
X-ALT-DESC;FMTTYPE=text/html:<!DOCTYPE HTML PUBLIC "-//W3C//DTD HTML 3.2//E
	N">\n<HTML>\n<HEAD>\n<TITLE></TITLE>\n</HEAD>\n<BODY>\n<h3>STUBBORN vs. ARA
	M</h3>Plus d'info : <a href="https://www.golnetwork.com/game/v/13466/">#370
	</a>\n\n</BODY>\n</HTML>
STATUS:CONFIRMED
CLASS:PUBLIC
URL:https://www.golnetwork.com/game/v/13466/
X-MICROSOFT-CDO-BUSYSTATUS:BUSY
X-MICROSOFT-CDO-IMPORTANCE:1
END:VEVENT
BEGIN:VEVENT
UID:g1ci5@games.golnetwork.com
LOCATION:Marianopolis #2
GEO:45.4807868;-73.610845
CREATED:20120423T232311Z
DTSTART:20120815T003000Z
DTEND:20120815T013000Z
DTSTAMP:20260422T203353Z
SUMMARY:BUSHIDO vs. ARAM
DESCRIPTION:ARAM vs. BUSHIDOPlus d'info : #348
X-ALT-DESC;FMTTYPE=text/html:<!DOCTYPE HTML PUBLIC "-//W3C//DTD HTML 3.2//E
	N">\n<HTML>\n<HEAD>\n<TITLE></TITLE>\n</HEAD>\n<BODY>\n<h3>ARAM vs. BUSHIDO
	</h3>Plus d'info : <a href="https://www.golnetwork.com/game/v/13462/">#348<
	/a>\n\n</BODY>\n</HTML>
STATUS:CONFIRMED
CLASS:PUBLIC
URL:https://www.golnetwork.com/game/v/13462/
X-MICROSOFT-CDO-BUSYSTATUS:BUSY
X-MICROSOFT-CDO-IMPORTANCE:1
END:VEVENT
BEGIN:VEVENT
UID:g1che@games.golnetwork.com
LOCATION:Marianopolis #2
GEO:45.4807868;-73.610845
CREATED:20120423T232311Z
DTSTART:20120808T013000Z
DTEND:20120808T023000Z
DTSTAMP:20260422T203353Z
SUMMARY:ADELSOHN vs. ARAM
DESCRIPTION:ARAM vs. ADELSOHNPlus d'info : #328
X-ALT-DESC;FMTTYPE=text/html:<!DOCTYPE HTML PUBLIC "-//W3C//DTD HTML 3.2//E
	N">\n<HTML>\n<HEAD>\n<TITLE></TITLE>\n</HEAD>\n<BODY>\n<h3>ARAM vs. ADELSOH
	N</h3>Plus d'info : <a href="https://www.golnetwork.com/game/v/13453/">#328
	</a>\n\n</BODY>\n</HTML>
STATUS:CONFIRMED
CLASS:PUBLIC
URL:https://www.golnetwork.com/game/v/13453/
X-MICROSOFT-CDO-BUSYSTATUS:BUSY
X-MICROSOFT-CDO-IMPORTANCE:1
END:VEVENT
BEGIN:VEVENT
UID:g1cgn@games.golnetwork.com
LOCATION:Marianopolis #2
GEO:45.4807868;-73.610845
CREATED:20120423T232311Z
DTSTART:20120801T003000Z
DTEND:20120801T013000Z
DTSTAMP:20260422T203353Z
SUMMARY:ZELMAN vs. ARAM
DESCRIPTION:ARAM vs. ZELMANPlus d'info : #301
X-ALT-DESC;FMTTYPE=text/html:<!DOCTYPE HTML PUBLIC "-//W3C//DTD HTML 3.2//E
	N">\n<HTML>\n<HEAD>\n<TITLE></TITLE>\n</HEAD>\n<BODY>\n<h3>ARAM vs. ZELMAN<
	/h3>Plus d'info : <a href="https://www.golnetwork.com/game/v/13444/">#301</
	a>\n\n</BODY>\n</HTML>
STATUS:CONFIRMED
CLASS:PUBLIC
URL:https://www.golnetwork.com/game/v/13444/
X-MICROSOFT-CDO-BUSYSTATUS:BUSY
X-MICROSOFT-CDO-IMPORTANCE:1
END:VEVENT
BEGIN:VEVENT
UID:g1cg5@games.golnetwork.com
LOCATION:Marianopolis #2
GEO:45.4807868;-73.610845
CREATED:20120423T232311Z
DTSTART:20120724T233000Z
DTEND:20120725T003000Z
DTSTAMP:20260422T203353Z
SUMMARY:NIPHAKIS vs. ARAM
DESCRIPTION:ARAM vs. NIPHAKISPlus d'info : #274
X-ALT-DESC;FMTTYPE=text/html:<!DOCTYPE HTML PUBLIC "-//W3C//DTD HTML 3.2//E
	N">\n<HTML>\n<HEAD>\n<TITLE></TITLE>\n</HEAD>\n<BODY>\n<h3>ARAM vs. NIPHAKI
	S</h3>Plus d'info : <a href="https://www.golnetwork.com/game/v/13435/">#274
	</a>\n\n</BODY>\n</HTML>
STATUS:CONFIRMED
CLASS:PUBLIC
URL:https://www.golnetwork.com/game/v/13435/
X-MICROSOFT-CDO-BUSYSTATUS:BUSY
X-MICROSOFT-CDO-IMPORTANCE:1
END:VEVENT
BEGIN:VEVENT
UID:g1cfe@games.golnetwork.com
LOCATION:Marianopolis #2
GEO:45.4807868;-73.610845
CREATED:20120423T232310Z
DTSTART:20120718T003000Z
DTEND:20120718T013000Z
DTSTAMP:20260422T203353Z
SUMMARY:NAYLOR vs. ARAM
DESCRIPTION:ARAM vs. NAYLORPlus d'info : #251
X-ALT-DESC;FMTTYPE=text/html:<!DOCTYPE HTML PUBLIC "-//W3C//DTD HTML 3.2//E
	N">\n<HTML>\n<HEAD>\n<TITLE></TITLE>\n</HEAD>\n<BODY>\n<h3>ARAM vs. NAYLOR<
	/h3>Plus d'info : <a href="https://www.golnetwork.com/game/v/13426/">#251</
	a>\n\n</BODY>\n</HTML>
STATUS:CONFIRMED
CLASS:PUBLIC
URL:https://www.golnetwork.com/game/v/13426/
X-MICROSOFT-CDO-BUSYSTATUS:BUSY
X-MICROSOFT-CDO-IMPORTANCE:1
END:VEVENT
BEGIN:VEVENT
UID:g1cf0@games.golnetwork.com
LOCATION:Marianopolis #2
GEO:45.4807868;-73.610845
CREATED:20120423T232310Z
DTSTART:20120711T003000Z
DTEND:20120711T013000Z
DTSTAMP:20260422T203353Z
SUMMARY:ARAM vs. ESCOUADE
DESCRIPTION:ESCOUADE vs. ARAMPlus d'info : #226
X-ALT-DESC;FMTTYPE=text/html:<!DOCTYPE HTML PUBLIC "-//W3C//DTD HTML 3.2//E
	N">\n<HTML>\n<HEAD>\n<TITLE></TITLE>\n</HEAD>\n<BODY>\n<h3>ESCOUADE vs. ARA
	M</h3>Plus d'info : <a href="https://www.golnetwork.com/game/v/13419/">#226
	</a>\n\n</BODY>\n</HTML>
STATUS:CONFIRMED
CLASS:PUBLIC
URL:https://www.golnetwork.com/game/v/13419/
X-MICROSOFT-CDO-BUSYSTATUS:BUSY
X-MICROSOFT-CDO-IMPORTANCE:1
END:VEVENT
BEGIN:VEVENT
UID:g1ced@games.golnetwork.com
LOCATION:Marianopolis #2
GEO:45.4807868;-73.610845
CREATED:20120423T232310Z
DTSTART:20120704T003000Z
DTEND:20120704T013000Z
DTSTAMP:20260422T203353Z
SUMMARY:ARAM vs. CM UNITED
DESCRIPTION:CM UNITED vs. ARAMPlus d'info : #202
X-ALT-DESC;FMTTYPE=text/html:<!DOCTYPE HTML PUBLIC "-//W3C//DTD HTML 3.2//E
	N">\n<HTML>\n<HEAD>\n<TITLE></TITLE>\n</HEAD>\n<BODY>\n<h3>CM UNITED vs. AR
	AM</h3>Plus d'info : <a href="https://www.golnetwork.com/game/v/13412/">#20
	2</a>\n\n</BODY>\n</HTML>
STATUS:CONFIRMED
CLASS:PUBLIC
URL:https://www.golnetwork.com/game/v/13412/
X-MICROSOFT-CDO-BUSYSTATUS:BUSY
X-MICROSOFT-CDO-IMPORTANCE:1
END:VEVENT
BEGIN:VEVENT
UID:g1cdq@games.golnetwork.com
LOCATION:Marianopolis #1
GEO:45.4807868;-73.610845
CREATED:20120423T232310Z
DTSTART:20120627T003000Z
DTEND:20120627T013000Z
DTSTAMP:20260422T203353Z
SUMMARY:ARAM vs. ROMAIN
DESCRIPTION:ROMAIN vs. ARAMPlus d'info : #178
X-ALT-DESC;FMTTYPE=text/html:<!DOCTYPE HTML PUBLIC "-//W3C//DTD HTML 3.2//E
	N">\n<HTML>\n<HEAD>\n<TITLE></TITLE>\n</HEAD>\n<BODY>\n<h3>ROMAIN vs. ARAM<
	/h3>Plus d'info : <a href="https://www.golnetwork.com/game/v/13405/">#178</
	a>\n\n</BODY>\n</HTML>
STATUS:CONFIRMED
CLASS:PUBLIC
URL:https://www.golnetwork.com/game/v/13405/
X-MICROSOFT-CDO-BUSYSTATUS:BUSY
X-MICROSOFT-CDO-IMPORTANCE:1
END:VEVENT
BEGIN:VEVENT
UID:g1cdc@games.golnetwork.com
LOCATION:Marianopolis #2
GEO:45.4807868;-73.610845
CREATED:20120423T232310Z
DTSTART:20120620T003000Z
DTEND:20120620T013000Z
DTSTAMP:20260422T203353Z
SUMMARY:ARAM vs. VAILLANCOURT
DESCRIPTION:VAILLANCOURT vs. ARAMPlus d'info : #155
X-ALT-DESC;FMTTYPE=text/html:<!DOCTYPE HTML PUBLIC "-//W3C//DTD HTML 3.2//E
	N">\n<HTML>\n<HEAD>\n<TITLE></TITLE>\n</HEAD>\n<BODY>\n<h3>VAILLANCOURT vs.
	 ARAM</h3>Plus d'info : <a href="https://www.golnetwork.com/game/v/13398/">
	#155</a>\n\n</BODY>\n</HTML>
STATUS:CONFIRMED
CLASS:PUBLIC
URL:https://www.golnetwork.com/game/v/13398/
X-MICROSOFT-CDO-BUSYSTATUS:BUSY
X-MICROSOFT-CDO-IMPORTANCE:1
END:VEVENT
BEGIN:VEVENT
UID:g1ccp@games.golnetwork.com
LOCATION:Marianopolis #1
GEO:45.4807868;-73.610845
CREATED:20120423T232310Z
DTSTART:20120613T003000Z
DTEND:20120613T013000Z
DTSTAMP:20260422T203353Z
SUMMARY:ARAM vs. DADOLLE 2
DESCRIPTION:DADOLLE 2 vs. ARAMPlus d'info : #130
X-ALT-DESC;FMTTYPE=text/html:<!DOCTYPE HTML PUBLIC "-//W3C//DTD HTML 3.2//E
	N">\n<HTML>\n<HEAD>\n<TITLE></TITLE>\n</HEAD>\n<BODY>\n<h3>DADOLLE 2 vs. AR
	AM</h3>Plus d'info : <a href="https://www.golnetwork.com/game/v/13391/">#13
	0</a>\n\n</BODY>\n</HTML>
STATUS:CONFIRMED
CLASS:PUBLIC
URL:https://www.golnetwork.com/game/v/13391/
X-MICROSOFT-CDO-BUSYSTATUS:BUSY
X-MICROSOFT-CDO-IMPORTANCE:1
END:VEVENT
BEGIN:VEVENT
UID:g1ccb@games.golnetwork.com
LOCATION:Marianopolis #2
GEO:45.4807868;-73.610845
CREATED:20120423T232310Z
DTSTART:20120606T003000Z
DTEND:20120606T013000Z
DTSTAMP:20260422T203353Z
SUMMARY:ARAM vs. STUBBORN
DESCRIPTION:STUBBORN vs. ARAMPlus d'info : #106
X-ALT-DESC;FMTTYPE=text/html:<!DOCTYPE HTML PUBLIC "-//W3C//DTD HTML 3.2//E
	N">\n<HTML>\n<HEAD>\n<TITLE></TITLE>\n</HEAD>\n<BODY>\n<h3>STUBBORN vs. ARA
	M</h3>Plus d'info : <a href="https://www.golnetwork.com/game/v/13384/">#106
	</a>\n\n</BODY>\n</HTML>
STATUS:CONFIRMED
CLASS:PUBLIC
URL:https://www.golnetwork.com/game/v/13384/
X-MICROSOFT-CDO-BUSYSTATUS:BUSY
X-MICROSOFT-CDO-IMPORTANCE:1
END:VEVENT
BEGIN:VEVENT
UID:g1cbo@games.golnetwork.com
LOCATION:CVM - Court #1
GEO:45.5146585;-73.5658635
CREATED:20120423T232310Z
DTSTART:20120530T011500Z
DTEND:20120530T021500Z
DTSTAMP:20260422T203353Z
SUMMARY:ARAM vs. DIONNE
DESCRIPTION:DIONNE vs. ARAMPlus d'info : #81
X-ALT-DESC;FMTTYPE=text/html:<!DOCTYPE HTML PUBLIC "-//W3C//DTD HTML 3.2//E
	N">\n<HTML>\n<HEAD>\n<TITLE></TITLE>\n</HEAD>\n<BODY>\n<h3>DIONNE vs. ARAM<
	/h3>Plus d'info : <a href="https://www.golnetwork.com/game/v/13377/">#81</a
	>\n\n</BODY>\n</HTML>
STATUS:CONFIRMED
CLASS:PUBLIC
URL:https://www.golnetwork.com/game/v/13377/
X-MICROSOFT-CDO-BUSYSTATUS:BUSY
X-MICROSOFT-CDO-IMPORTANCE:1
END:VEVENT
BEGIN:VEVENT
UID:g1cb8@games.golnetwork.com
LOCATION:CVM - Court #1
GEO:45.5146585;-73.5658635
CREATED:20120423T232310Z
DTSTART:20120523T011500Z
DTEND:20120523T021500Z
DTSTAMP:20260422T203353Z
SUMMARY:MIDTOWN vs. ARAM
DESCRIPTION:ARAM vs. MIDTOWNPlus d'info : #56
X-ALT-DESC;FMTTYPE=text/html:<!DOCTYPE HTML PUBLIC "-//W3C//DTD HTML 3.2//E
	N">\n<HTML>\n<HEAD>\n<TITLE></TITLE>\n</HEAD>\n<BODY>\n<h3>ARAM vs. MIDTOWN
	</h3>Plus d'info : <a href="https://www.golnetwork.com/game/v/13369/">#56</
	a>\n\n</BODY>\n</HTML>
STATUS:CONFIRMED
CLASS:PUBLIC
URL:https://www.golnetwork.com/game/v/13369/
X-MICROSOFT-CDO-BUSYSTATUS:BUSY
X-MICROSOFT-CDO-IMPORTANCE:1
END:VEVENT
BEGIN:VEVENT
UID:g1cah@games.golnetwork.com
LOCATION:CVM - Court #1
GEO:45.5146585;-73.5658635
CREATED:20120423T232310Z
DTSTART:20120516T001500Z
DTEND:20120516T011500Z
DTSTAMP:20260422T203353Z
SUMMARY:RAIN vs. ARAM
DESCRIPTION:ARAM vs. RAINPlus d'info : #31
X-ALT-DESC;FMTTYPE=text/html:<!DOCTYPE HTML PUBLIC "-//W3C//DTD HTML 3.2//E
	N">\n<HTML>\n<HEAD>\n<TITLE></TITLE>\n</HEAD>\n<BODY>\n<h3>ARAM vs. RAIN</h
	3>Plus d'info : <a href="https://www.golnetwork.com/game/v/13360/">#31</a>\
	n\n</BODY>\n</HTML>
STATUS:CONFIRMED
CLASS:PUBLIC
URL:https://www.golnetwork.com/game/v/13360/
X-MICROSOFT-CDO-BUSYSTATUS:BUSY
X-MICROSOFT-CDO-IMPORTANCE:1
END:VEVENT
BEGIN:VEVENT
UID:g1c9q@games.golnetwork.com
LOCATION:CVM - Court #1
GEO:45.5146585;-73.5658635
CREATED:20120423T232310Z
DTSTART:20120509T001500Z
DTEND:20120509T011500Z
DTSTAMP:20260422T203353Z
SUMMARY:MAKOUTES vs. ARAM
DESCRIPTION:ARAM vs. MAKOUTESPlus d'info : #7
X-ALT-DESC;FMTTYPE=text/html:<!DOCTYPE HTML PUBLIC "-//W3C//DTD HTML 3.2//E
	N">\n<HTML>\n<HEAD>\n<TITLE></TITLE>\n</HEAD>\n<BODY>\n<h3>ARAM vs. MAKOUTE
	S</h3>Plus d'info : <a href="https://www.golnetwork.com/game/v/13351/">#7</
	a>\n\n</BODY>\n</HTML>
STATUS:CONFIRMED
CLASS:PUBLIC
URL:https://www.golnetwork.com/game/v/13351/
X-MICROSOFT-CDO-BUSYSTATUS:BUSY
X-MICROSOFT-CDO-IMPORTANCE:1
END:VEVENT
END:VCALENDAR
