BEGIN:VCALENDAR
PRODID:-//gdesolutions.com//MV Framework 1.0.0.1607 Calendar//EN
VERSION:2.0
METHOD:PUBLISH
CALSCALE:GREGORIAN
BEGIN:VEVENT
UID:g148n@games.golnetwork.com
LOCATION:Marianopolis College
GEO:45.4807868;-73.610845
CREATED:20111205T201544Z
DTSTART:20110901T010000Z
DTEND:20110901T020000Z
DTSTAMP:20260422T160852Z
SUMMARY:GRIND NOW SHINE LATER vs. FOX
DESCRIPTION:FOX vs. GRIND NOW SHINE LATERPlus d'info : #379
X-ALT-DESC;FMTTYPE=text/html:<!DOCTYPE HTML PUBLIC "-//W3C//DTD HTML 3.2//E
	N">\n<HTML>\n<HEAD>\n<TITLE></TITLE>\n</HEAD>\n<BODY>\n<h3>FOX vs. GRIND NO
	W SHINE LATER</h3>Plus d'info : <a href="https://www.golnetwork.com/game/v/
	10420/">#379</a>\n\n</BODY>\n</HTML>
STATUS:CONFIRMED
CLASS:PUBLIC
URL:https://www.golnetwork.com/game/v/10420/
X-MICROSOFT-CDO-BUSYSTATUS:BUSY
X-MICROSOFT-CDO-IMPORTANCE:1
END:VEVENT
BEGIN:VEVENT
UID:g148b@games.golnetwork.com
LOCATION:Centre William-Hingston
GEO:45.5312746;-73.6284362
CREATED:20111205T201432Z
DTSTART:20110824T233000Z
DTEND:20110825T003000Z
DTSTAMP:20260422T160852Z
SUMMARY:GRIND NOW SHINE LATER vs. BOURQUE
DESCRIPTION:BOURQUE vs. GRIND NOW SHINE LATERPlus d'info : #365
X-ALT-DESC;FMTTYPE=text/html:<!DOCTYPE HTML PUBLIC "-//W3C//DTD HTML 3.2//E
	N">\n<HTML>\n<HEAD>\n<TITLE></TITLE>\n</HEAD>\n<BODY>\n<h3>BOURQUE vs. GRIN
	D NOW SHINE LATER</h3>Plus d'info : <a href="https://www.golnetwork.com/gam
	e/v/10414/">#365</a>\n\n</BODY>\n</HTML>
STATUS:CONFIRMED
CLASS:PUBLIC
URL:https://www.golnetwork.com/game/v/10414/
X-MICROSOFT-CDO-BUSYSTATUS:BUSY
X-MICROSOFT-CDO-IMPORTANCE:1
END:VEVENT
BEGIN:VEVENT
UID:g1487@games.golnetwork.com
LOCATION:Centre William-Hingston
GEO:45.5312746;-73.6284362
CREATED:20111205T201410Z
DTSTART:20110823T000000Z
DTEND:20110823T010000Z
DTSTAMP:20260422T160852Z
SUMMARY:GRIND NOW SHINE LATER vs. FOX
DESCRIPTION:FOX vs. GRIND NOW SHINE LATERPlus d'info : #356
X-ALT-DESC;FMTTYPE=text/html:<!DOCTYPE HTML PUBLIC "-//W3C//DTD HTML 3.2//E
	N">\n<HTML>\n<HEAD>\n<TITLE></TITLE>\n</HEAD>\n<BODY>\n<h3>FOX vs. GRIND NO
	W SHINE LATER</h3>Plus d'info : <a href="https://www.golnetwork.com/game/v/
	10412/">#356</a>\n\n</BODY>\n</HTML>
STATUS:CONFIRMED
CLASS:PUBLIC
URL:https://www.golnetwork.com/game/v/10412/
X-MICROSOFT-CDO-BUSYSTATUS:BUSY
X-MICROSOFT-CDO-IMPORTANCE:1
END:VEVENT
BEGIN:VEVENT
UID:g1483@games.golnetwork.com
LOCATION:Marianopolis College
GEO:45.4807868;-73.610845
CREATED:20111205T201346Z
DTSTART:20110819T013000Z
DTEND:20110819T023000Z
DTSTAMP:20260422T160852Z
SUMMARY:GRIND NOW SHINE LATER vs. ACN
DESCRIPTION:ACN vs. GRIND NOW SHINE LATERPlus d'info : #352
X-ALT-DESC;FMTTYPE=text/html:<!DOCTYPE HTML PUBLIC "-//W3C//DTD HTML 3.2//E
	N">\n<HTML>\n<HEAD>\n<TITLE></TITLE>\n</HEAD>\n<BODY>\n<h3>ACN vs. GRIND NO
	W SHINE LATER</h3>Plus d'info : <a href="https://www.golnetwork.com/game/v/
	10410/">#352</a>\n\n</BODY>\n</HTML>
STATUS:CONFIRMED
CLASS:PUBLIC
URL:https://www.golnetwork.com/game/v/10410/
X-MICROSOFT-CDO-BUSYSTATUS:BUSY
X-MICROSOFT-CDO-IMPORTANCE:1
END:VEVENT
BEGIN:VEVENT
UID:g147e@games.golnetwork.com
LOCATION:Marianopolis College
GEO:45.4807868;-73.610845
CREATED:20111205T201215Z
DTSTART:20110811T233000Z
DTEND:20110812T003000Z
DTSTAMP:20260422T160852Z
SUMMARY:GRIND NOW SHINE LATER vs. FOX
DESCRIPTION:FOX vs. GRIND NOW SHINE LATERPlus d'info : #326
X-ALT-DESC;FMTTYPE=text/html:<!DOCTYPE HTML PUBLIC "-//W3C//DTD HTML 3.2//E
	N">\n<HTML>\n<HEAD>\n<TITLE></TITLE>\n</HEAD>\n<BODY>\n<h3>FOX vs. GRIND NO
	W SHINE LATER</h3>Plus d'info : <a href="https://www.golnetwork.com/game/v/
	10402/">#326</a>\n\n</BODY>\n</HTML>
STATUS:CONFIRMED
CLASS:PUBLIC
URL:https://www.golnetwork.com/game/v/10402/
X-MICROSOFT-CDO-BUSYSTATUS:BUSY
X-MICROSOFT-CDO-IMPORTANCE:1
END:VEVENT
BEGIN:VEVENT
UID:g146l@games.golnetwork.com
LOCATION:Centre William-Hingston
GEO:45.5312746;-73.6284362
CREATED:20111205T201016Z
DTSTART:20110803T230000Z
DTEND:20110804T000000Z
DTSTAMP:20260422T160852Z
SUMMARY:GRIND NOW SHINE LATER vs. BOURQUE
DESCRIPTION:BOURQUE vs. GRIND NOW SHINE LATERPlus d'info : #296
X-ALT-DESC;FMTTYPE=text/html:<!DOCTYPE HTML PUBLIC "-//W3C//DTD HTML 3.2//E
	N">\n<HTML>\n<HEAD>\n<TITLE></TITLE>\n</HEAD>\n<BODY>\n<h3>BOURQUE vs. GRIN
	D NOW SHINE LATER</h3>Plus d'info : <a href="https://www.golnetwork.com/gam
	e/v/10392/">#296</a>\n\n</BODY>\n</HTML>
STATUS:CONFIRMED
CLASS:PUBLIC
URL:https://www.golnetwork.com/game/v/10392/
X-MICROSOFT-CDO-BUSYSTATUS:BUSY
X-MICROSOFT-CDO-IMPORTANCE:1
END:VEVENT
BEGIN:VEVENT
UID:g146f@games.golnetwork.com
LOCATION:Marianopolis College
GEO:45.4807868;-73.610845
CREATED:20111205T200937Z
DTSTART:20110728T013000Z
DTEND:20110728T023000Z
DTSTAMP:20260422T160852Z
SUMMARY:GRIND NOW SHINE LATER vs. GQ SQUAD
DESCRIPTION:GQ SQUAD vs. GRIND NOW SHINE LATERPlus d'info : #279
X-ALT-DESC;FMTTYPE=text/html:<!DOCTYPE HTML PUBLIC "-//W3C//DTD HTML 3.2//E
	N">\n<HTML>\n<HEAD>\n<TITLE></TITLE>\n</HEAD>\n<BODY>\n<h3>GQ SQUAD vs. GRI
	ND NOW SHINE LATER</h3>Plus d'info : <a href="https://www.golnetwork.com/ga
	me/v/10389/">#279</a>\n\n</BODY>\n</HTML>
STATUS:CONFIRMED
CLASS:PUBLIC
URL:https://www.golnetwork.com/game/v/10389/
X-MICROSOFT-CDO-BUSYSTATUS:BUSY
X-MICROSOFT-CDO-IMPORTANCE:1
END:VEVENT
BEGIN:VEVENT
UID:g1465@games.golnetwork.com
LOCATION:Marianopolis College
GEO:45.4807868;-73.610845
CREATED:20111205T200839Z
DTSTART:20110722T003000Z
DTEND:20110722T013000Z
DTSTAMP:20260422T160852Z
SUMMARY:GRIND NOW SHINE LATER vs. SBK REALTY
DESCRIPTION:SBK REALTY vs. GRIND NOW SHINE LATERPlus d'info : #261
X-ALT-DESC;FMTTYPE=text/html:<!DOCTYPE HTML PUBLIC "-//W3C//DTD HTML 3.2//E
	N">\n<HTML>\n<HEAD>\n<TITLE></TITLE>\n</HEAD>\n<BODY>\n<h3>SBK REALTY vs. G
	RIND NOW SHINE LATER</h3>Plus d'info : <a href="https://www.golnetwork.com/
	game/v/10384/">#261</a>\n\n</BODY>\n</HTML>
STATUS:CONFIRMED
CLASS:PUBLIC
URL:https://www.golnetwork.com/game/v/10384/
X-MICROSOFT-CDO-BUSYSTATUS:BUSY
X-MICROSOFT-CDO-IMPORTANCE:1
END:VEVENT
BEGIN:VEVENT
UID:g145m@games.golnetwork.com
LOCATION:Marianopolis College
GEO:45.4807868;-73.610845
CREATED:20111205T200744Z
DTSTART:20110715T013000Z
DTEND:20110715T023000Z
DTSTAMP:20260422T160852Z
SUMMARY:GRIND NOW SHINE LATER vs. ACN
DESCRIPTION:ACN vs. GRIND NOW SHINE LATERPlus d'info : #239
X-ALT-DESC;FMTTYPE=text/html:<!DOCTYPE HTML PUBLIC "-//W3C//DTD HTML 3.2//E
	N">\n<HTML>\n<HEAD>\n<TITLE></TITLE>\n</HEAD>\n<BODY>\n<h3>ACN vs. GRIND NO
	W SHINE LATER</h3>Plus d'info : <a href="https://www.golnetwork.com/game/v/
	10379/">#239</a>\n\n</BODY>\n</HTML>
STATUS:CONFIRMED
CLASS:PUBLIC
URL:https://www.golnetwork.com/game/v/10379/
X-MICROSOFT-CDO-BUSYSTATUS:BUSY
X-MICROSOFT-CDO-IMPORTANCE:1
END:VEVENT
BEGIN:VEVENT
UID:g1450@games.golnetwork.com
LOCATION:Centre William-Hingston
GEO:45.5312746;-73.6284362
CREATED:20111205T200543Z
DTSTART:20110706T230000Z
DTEND:20110707T000000Z
DTSTAMP:20260422T160852Z
SUMMARY:MOMO vs. GRIND NOW SHINE LATER
DESCRIPTION:GRIND NOW SHINE LATER vs. MOMOPlus d'info : #204
X-ALT-DESC;FMTTYPE=text/html:<!DOCTYPE HTML PUBLIC "-//W3C//DTD HTML 3.2//E
	N">\n<HTML>\n<HEAD>\n<TITLE></TITLE>\n</HEAD>\n<BODY>\n<h3>GRIND NOW SHINE 
	LATER vs. MOMO</h3>Plus d'info : <a href="https://www.golnetwork.com/game/v
	/10368/">#204</a>\n\n</BODY>\n</HTML>
STATUS:CONFIRMED
CLASS:PUBLIC
URL:https://www.golnetwork.com/game/v/10368/
X-MICROSOFT-CDO-BUSYSTATUS:BUSY
X-MICROSOFT-CDO-IMPORTANCE:1
END:VEVENT
BEGIN:VEVENT
UID:g144b@games.golnetwork.com
LOCATION:Centre William-Hingston
GEO:45.5312746;-73.6284362
CREATED:20111205T200409Z
DTSTART:20110623T000000Z
DTEND:20110623T010000Z
DTSTAMP:20260422T160852Z
SUMMARY:GRIND NOW SHINE LATER vs. BOURQUE
DESCRIPTION:BOURQUE vs. GRIND NOW SHINE LATERPlus d'info : #160
X-ALT-DESC;FMTTYPE=text/html:<!DOCTYPE HTML PUBLIC "-//W3C//DTD HTML 3.2//E
	N">\n<HTML>\n<HEAD>\n<TITLE></TITLE>\n</HEAD>\n<BODY>\n<h3>BOURQUE vs. GRIN
	D NOW SHINE LATER</h3>Plus d'info : <a href="https://www.golnetwork.com/gam
	e/v/10360/">#160</a>\n\n</BODY>\n</HTML>
STATUS:CONFIRMED
CLASS:PUBLIC
URL:https://www.golnetwork.com/game/v/10360/
X-MICROSOFT-CDO-BUSYSTATUS:BUSY
X-MICROSOFT-CDO-IMPORTANCE:1
END:VEVENT
BEGIN:VEVENT
UID:g143q@games.golnetwork.com
LOCATION:Centre William-Hingston
GEO:45.5312746;-73.6284362
CREATED:20111205T200301Z
DTSTART:20110616T000000Z
DTEND:20110616T010000Z
DTSTAMP:20260422T160852Z
SUMMARY:GRIND NOW SHINE LATER vs. GQ SQUAD
DESCRIPTION:GQ SQUAD vs. GRIND NOW SHINE LATERPlus d'info : #137
X-ALT-DESC;FMTTYPE=text/html:<!DOCTYPE HTML PUBLIC "-//W3C//DTD HTML 3.2//E
	N">\n<HTML>\n<HEAD>\n<TITLE></TITLE>\n</HEAD>\n<BODY>\n<h3>GQ SQUAD vs. GRI
	ND NOW SHINE LATER</h3>Plus d'info : <a href="https://www.golnetwork.com/ga
	me/v/10354/">#137</a>\n\n</BODY>\n</HTML>
STATUS:CONFIRMED
CLASS:PUBLIC
URL:https://www.golnetwork.com/game/v/10354/
X-MICROSOFT-CDO-BUSYSTATUS:BUSY
X-MICROSOFT-CDO-IMPORTANCE:1
END:VEVENT
BEGIN:VEVENT
UID:g143i@games.golnetwork.com
LOCATION:Marianopolis College
GEO:45.4807868;-73.610845
CREATED:20111205T200215Z
DTSTART:20110610T003000Z
DTEND:20110610T013000Z
DTSTAMP:20260422T160852Z
SUMMARY:GRIND NOW SHINE LATER vs. SBK REALTY
DESCRIPTION:SBK REALTY vs. GRIND NOW SHINE LATERPlus d'info : #119
X-ALT-DESC;FMTTYPE=text/html:<!DOCTYPE HTML PUBLIC "-//W3C//DTD HTML 3.2//E
	N">\n<HTML>\n<HEAD>\n<TITLE></TITLE>\n</HEAD>\n<BODY>\n<h3>SBK REALTY vs. G
	RIND NOW SHINE LATER</h3>Plus d'info : <a href="https://www.golnetwork.com/
	game/v/10350/">#119</a>\n\n</BODY>\n</HTML>
STATUS:CONFIRMED
CLASS:PUBLIC
URL:https://www.golnetwork.com/game/v/10350/
X-MICROSOFT-CDO-BUSYSTATUS:BUSY
X-MICROSOFT-CDO-IMPORTANCE:1
END:VEVENT
BEGIN:VEVENT
UID:g1432@games.golnetwork.com
LOCATION:Centre William-Hingston
GEO:45.5312746;-73.6284362
CREATED:20111205T200051Z
DTSTART:20110601T230000Z
DTEND:20110602T000000Z
DTSTAMP:20260422T160852Z
SUMMARY:P SQUAD vs. GRIND NOW SHINE LATER
DESCRIPTION:GRIND NOW SHINE LATER vs. P SQUADPlus d'info : #90
X-ALT-DESC;FMTTYPE=text/html:<!DOCTYPE HTML PUBLIC "-//W3C//DTD HTML 3.2//E
	N">\n<HTML>\n<HEAD>\n<TITLE></TITLE>\n</HEAD>\n<BODY>\n<h3>GRIND NOW SHINE 
	LATER vs. P SQUAD</h3>Plus d'info : <a href="https://www.golnetwork.com/gam
	e/v/10342/">#90</a>\n\n</BODY>\n</HTML>
STATUS:CONFIRMED
CLASS:PUBLIC
URL:https://www.golnetwork.com/game/v/10342/
X-MICROSOFT-CDO-BUSYSTATUS:BUSY
X-MICROSOFT-CDO-IMPORTANCE:1
END:VEVENT
BEGIN:VEVENT
UID:g142l@games.golnetwork.com
LOCATION:Centre William-Hingston
GEO:45.5312746;-73.6284362
CREATED:20111205T200005Z
DTSTART:20110526T010000Z
DTEND:20110526T020000Z
DTSTAMP:20260422T160852Z
SUMMARY:HAKAK vs. GRIND NOW SHINE LATER
DESCRIPTION:GRIND NOW SHINE LATER vs. HAKAKPlus d'info : #68
X-ALT-DESC;FMTTYPE=text/html:<!DOCTYPE HTML PUBLIC "-//W3C//DTD HTML 3.2//E
	N">\n<HTML>\n<HEAD>\n<TITLE></TITLE>\n</HEAD>\n<BODY>\n<h3>GRIND NOW SHINE 
	LATER vs. HAKAK</h3>Plus d'info : <a href="https://www.golnetwork.com/game/
	v/10338/">#68</a>\n\n</BODY>\n</HTML>
STATUS:CONFIRMED
CLASS:PUBLIC
URL:https://www.golnetwork.com/game/v/10338/
X-MICROSOFT-CDO-BUSYSTATUS:BUSY
X-MICROSOFT-CDO-IMPORTANCE:1
END:VEVENT
BEGIN:VEVENT
UID:g1427@games.golnetwork.com
LOCATION:Centre William-Hingston
GEO:45.5312746;-73.6284362
CREATED:20111205T195857Z
DTSTART:20110519T000000Z
DTEND:20110519T010000Z
DTSTAMP:20260422T160852Z
SUMMARY:THOMSON vs. GRIND NOW SHINE LATER
DESCRIPTION:GRIND NOW SHINE LATER vs. THOMSONPlus d'info : #49
X-ALT-DESC;FMTTYPE=text/html:<!DOCTYPE HTML PUBLIC "-//W3C//DTD HTML 3.2//E
	N">\n<HTML>\n<HEAD>\n<TITLE></TITLE>\n</HEAD>\n<BODY>\n<h3>GRIND NOW SHINE 
	LATER vs. THOMSON</h3>Plus d'info : <a href="https://www.golnetwork.com/gam
	e/v/10331/">#49</a>\n\n</BODY>\n</HTML>
STATUS:CONFIRMED
CLASS:PUBLIC
URL:https://www.golnetwork.com/game/v/10331/
X-MICROSOFT-CDO-BUSYSTATUS:BUSY
X-MICROSOFT-CDO-IMPORTANCE:1
END:VEVENT
BEGIN:VEVENT
UID:g141o@games.golnetwork.com
LOCATION:Centre William-Hingston
GEO:45.5312746;-73.6284362
CREATED:20111205T195806Z
DTSTART:20110512T010000Z
DTEND:20110512T020000Z
DTSTAMP:20260422T160852Z
SUMMARY:VINTAGE vs. GRIND NOW SHINE LATER
DESCRIPTION:GRIND NOW SHINE LATER vs. VINTAGEPlus d'info : #26
X-ALT-DESC;FMTTYPE=text/html:<!DOCTYPE HTML PUBLIC "-//W3C//DTD HTML 3.2//E
	N">\n<HTML>\n<HEAD>\n<TITLE></TITLE>\n</HEAD>\n<BODY>\n<h3>GRIND NOW SHINE 
	LATER vs. VINTAGE</h3>Plus d'info : <a href="https://www.golnetwork.com/gam
	e/v/10326/">#26</a>\n\n</BODY>\n</HTML>
STATUS:CONFIRMED
CLASS:PUBLIC
URL:https://www.golnetwork.com/game/v/10326/
X-MICROSOFT-CDO-BUSYSTATUS:BUSY
X-MICROSOFT-CDO-IMPORTANCE:1
END:VEVENT
BEGIN:VEVENT
UID:g141g@games.golnetwork.com
LOCATION:Cégep du Vieux Montréal
GEO:45.5146585;-73.5658635
CREATED:20111205T195648Z
DTSTART:20110506T003000Z
DTEND:20110506T013000Z
DTSTAMP:20260422T160852Z
SUMMARY:UNITE vs. GRIND NOW SHINE LATER
DESCRIPTION:GRIND NOW SHINE LATER vs. UNITEPlus d'info : #14
X-ALT-DESC;FMTTYPE=text/html:<!DOCTYPE HTML PUBLIC "-//W3C//DTD HTML 3.2//E
	N">\n<HTML>\n<HEAD>\n<TITLE></TITLE>\n</HEAD>\n<BODY>\n<h3>GRIND NOW SHINE 
	LATER vs. UNITE</h3>Plus d'info : <a href="https://www.golnetwork.com/game/
	v/10322/">#14</a>\n\n</BODY>\n</HTML>
STATUS:CONFIRMED
CLASS:PUBLIC
URL:https://www.golnetwork.com/game/v/10322/
X-MICROSOFT-CDO-BUSYSTATUS:BUSY
X-MICROSOFT-CDO-IMPORTANCE:1
END:VEVENT
END:VCALENDAR
