BEGIN:VCALENDAR
PRODID:-//gdesolutions.com//MV Framework 1.0.0.1607 Calendar//EN
VERSION:2.0
METHOD:PUBLISH
CALSCALE:GREGORIAN
BEGIN:VEVENT
UID:g194m@games.golnetwork.com
LOCATION:Court 1
GEO:43.6832127;-79.3346679
CREATED:20120301T182410Z
DTSTART:20120228T004500Z
DTEND:20120228T014500Z
DTSTAMP:20260420T045656Z
SUMMARY:Serves You Right! vs. Lets Get Loaded
DESCRIPTION:Lets Get Loaded vs. Serves You Right!Plus d'info : #38
X-ALT-DESC;FMTTYPE=text/html:<!DOCTYPE HTML PUBLIC "-//W3C//DTD HTML 3.2//E
	N">\n<HTML>\n<HEAD>\n<TITLE></TITLE>\n</HEAD>\n<BODY>\n<h3>Lets Get Loaded 
	vs. Serves You Right!</h3>Plus d'info : <a href="https://www.golnetwork.com
	/game/v/12188/">#38</a>\n\n</BODY>\n</HTML>
STATUS:CONFIRMED
CLASS:PUBLIC
URL:https://www.golnetwork.com/game/v/12188/
X-MICROSOFT-CDO-BUSYSTATUS:BUSY
X-MICROSOFT-CDO-IMPORTANCE:1
END:VEVENT
BEGIN:VEVENT
UID:g194e@games.golnetwork.com
LOCATION:Court 1
GEO:43.6832127;-79.3346679
CREATED:20120301T182410Z
DTSTART:20120213T234500Z
DTEND:20120214T004500Z
DTSTAMP:20260420T045656Z
SUMMARY:Sets Be Friends vs. Lets Get Loaded
DESCRIPTION:Lets Get Loaded vs. Sets Be FriendsPlus d'info : #31
X-ALT-DESC;FMTTYPE=text/html:<!DOCTYPE HTML PUBLIC "-//W3C//DTD HTML 3.2//E
	N">\n<HTML>\n<HEAD>\n<TITLE></TITLE>\n</HEAD>\n<BODY>\n<h3>Lets Get Loaded 
	vs. Sets Be Friends</h3>Plus d'info : <a href="https://www.golnetwork.com/g
	ame/v/12184/">#31</a>\n\n</BODY>\n</HTML>
STATUS:CONFIRMED
CLASS:PUBLIC
URL:https://www.golnetwork.com/game/v/12184/
X-MICROSOFT-CDO-BUSYSTATUS:BUSY
X-MICROSOFT-CDO-IMPORTANCE:1
END:VEVENT
BEGIN:VEVENT
UID:g194c@games.golnetwork.com
LOCATION:Court 1
GEO:43.6832127;-79.3346679
CREATED:20120301T182410Z
DTSTART:20120207T014500Z
DTEND:20120207T024500Z
DTSTAMP:20260420T045656Z
SUMMARY:Lets Get Loaded vs. Who's Balls Are These
DESCRIPTION:Who's Balls Are These vs. Lets Get LoadedPlus d'info : #28
X-ALT-DESC;FMTTYPE=text/html:<!DOCTYPE HTML PUBLIC "-//W3C//DTD HTML 3.2//E
	N">\n<HTML>\n<HEAD>\n<TITLE></TITLE>\n</HEAD>\n<BODY>\n<h3>Who's Balls Are 
	These vs. Lets Get Loaded</h3>Plus d'info : <a href="https://www.golnetwork
	.com/game/v/12183/">#28</a>\n\n</BODY>\n</HTML>
STATUS:CONFIRMED
CLASS:PUBLIC
URL:https://www.golnetwork.com/game/v/12183/
X-MICROSOFT-CDO-BUSYSTATUS:BUSY
X-MICROSOFT-CDO-IMPORTANCE:1
END:VEVENT
BEGIN:VEVENT
UID:g1942@games.golnetwork.com
LOCATION:Court 1
GEO:43.6832127;-79.3346679
CREATED:20120301T182410Z
DTSTART:20120130T234500Z
DTEND:20120131T004500Z
DTSTAMP:20260420T045656Z
SUMMARY:Lets Get Loaded vs. Just The Tip
DESCRIPTION:Just The Tip vs. Lets Get LoadedPlus d'info : #19
X-ALT-DESC;FMTTYPE=text/html:<!DOCTYPE HTML PUBLIC "-//W3C//DTD HTML 3.2//E
	N">\n<HTML>\n<HEAD>\n<TITLE></TITLE>\n</HEAD>\n<BODY>\n<h3>Just The Tip vs.
	 Lets Get Loaded</h3>Plus d'info : <a href="https://www.golnetwork.com/game
	/v/12178/">#19</a>\n\n</BODY>\n</HTML>
STATUS:CONFIRMED
CLASS:PUBLIC
URL:https://www.golnetwork.com/game/v/12178/
X-MICROSOFT-CDO-BUSYSTATUS:BUSY
X-MICROSOFT-CDO-IMPORTANCE:1
END:VEVENT
BEGIN:VEVENT
UID:g1940@games.golnetwork.com
LOCATION:Court 1
GEO:43.6832127;-79.3346679
CREATED:20120301T182410Z
DTSTART:20120124T014500Z
DTEND:20120124T024500Z
DTSTAMP:20260420T045656Z
SUMMARY:Lets Get Loaded vs. Double Fisters
DESCRIPTION:Double Fisters vs. Lets Get LoadedPlus d'info : #16
X-ALT-DESC;FMTTYPE=text/html:<!DOCTYPE HTML PUBLIC "-//W3C//DTD HTML 3.2//E
	N">\n<HTML>\n<HEAD>\n<TITLE></TITLE>\n</HEAD>\n<BODY>\n<h3>Double Fisters v
	s. Lets Get Loaded</h3>Plus d'info : <a href="https://www.golnetwork.com/ga
	me/v/12177/">#16</a>\n\n</BODY>\n</HTML>
STATUS:CONFIRMED
CLASS:PUBLIC
URL:https://www.golnetwork.com/game/v/12177/
X-MICROSOFT-CDO-BUSYSTATUS:BUSY
X-MICROSOFT-CDO-IMPORTANCE:1
END:VEVENT
BEGIN:VEVENT
UID:g193j@games.golnetwork.com
LOCATION:Court 1
GEO:43.6832127;-79.3346679
CREATED:20120301T182410Z
DTSTART:20120117T004500Z
DTEND:20120117T014500Z
DTSTAMP:20260420T045656Z
SUMMARY:Serves You Right! vs. Lets Get Loaded
DESCRIPTION:Lets Get Loaded vs. Serves You Right!Plus d'info : #8
X-ALT-DESC;FMTTYPE=text/html:<!DOCTYPE HTML PUBLIC "-//W3C//DTD HTML 3.2//E
	N">\n<HTML>\n<HEAD>\n<TITLE></TITLE>\n</HEAD>\n<BODY>\n<h3>Lets Get Loaded 
	vs. Serves You Right!</h3>Plus d'info : <a href="https://www.golnetwork.com
	/game/v/12173/">#8</a>\n\n</BODY>\n</HTML>
STATUS:CONFIRMED
CLASS:PUBLIC
URL:https://www.golnetwork.com/game/v/12173/
X-MICROSOFT-CDO-BUSYSTATUS:BUSY
X-MICROSOFT-CDO-IMPORTANCE:1
END:VEVENT
BEGIN:VEVENT
UID:g193f@games.golnetwork.com
LOCATION:Court 1
GEO:43.6832127;-79.3346679
CREATED:20120301T182410Z
DTSTART:20120110T014500Z
DTEND:20120110T024500Z
DTSTAMP:20260420T045656Z
SUMMARY:Sets Be Friends vs. Lets Get Loaded
DESCRIPTION:Lets Get Loaded vs. Sets Be FriendsPlus d'info : #4
X-ALT-DESC;FMTTYPE=text/html:<!DOCTYPE HTML PUBLIC "-//W3C//DTD HTML 3.2//E
	N">\n<HTML>\n<HEAD>\n<TITLE></TITLE>\n</HEAD>\n<BODY>\n<h3>Lets Get Loaded 
	vs. Sets Be Friends</h3>Plus d'info : <a href="https://www.golnetwork.com/g
	ame/v/12171/">#4</a>\n\n</BODY>\n</HTML>
STATUS:CONFIRMED
CLASS:PUBLIC
URL:https://www.golnetwork.com/game/v/12171/
X-MICROSOFT-CDO-BUSYSTATUS:BUSY
X-MICROSOFT-CDO-IMPORTANCE:1
END:VEVENT
END:VCALENDAR
