BEGIN:VCALENDAR
PRODID:-//gdesolutions.com//MV Framework 1.0.0.1607 Calendar//EN
VERSION:2.0
METHOD:PUBLISH
CALSCALE:GREGORIAN
BEGIN:VEVENT
UID:g257o@games.golnetwork.com
LOCATION:Trafalgar
GEO:45.4987672;-73.5845067
CREATED:20120922T234015Z
DTSTART:20130313T003000Z
DTEND:20130313T013000Z
DTSTAMP:20260422T054223Z
SUMMARY:SWIISH vs. ROSE
DESCRIPTION:ROSE vs. SWIISHPlus d'info : #94
X-ALT-DESC;FMTTYPE=text/html:<!DOCTYPE HTML PUBLIC "-//W3C//DTD HTML 3.2//E
	N">\n<HTML>\n<HEAD>\n<TITLE></TITLE>\n</HEAD>\n<BODY>\n<h3>ROSE vs. SWIISH<
	/h3>Plus d'info : <a href="https://www.golnetwork.com/game/v/20613/">#94</a
	>\n\n</BODY>\n</HTML>
STATUS:CONFIRMED
CLASS:PUBLIC
URL:https://www.golnetwork.com/game/v/20613/
X-MICROSOFT-CDO-BUSYSTATUS:BUSY
X-MICROSOFT-CDO-IMPORTANCE:1
END:VEVENT
BEGIN:VEVENT
UID:g25c9@games.golnetwork.com
LOCATION:Ben Weider #1
GEO:45.488223;-73.634105
CREATED:20120922T234015Z
DTSTART:20130307T023000Z
DTEND:20130307T033000Z
DTSTAMP:20260422T054223Z
SUMMARY:ROSE vs. DELOITTE
DESCRIPTION:DELOITTE vs. ROSEPlus d'info : #92
X-ALT-DESC;FMTTYPE=text/html:<!DOCTYPE HTML PUBLIC "-//W3C//DTD HTML 3.2//E
	N">\n<HTML>\n<HEAD>\n<TITLE></TITLE>\n</HEAD>\n<BODY>\n<h3>DELOITTE vs. ROS
	E</h3>Plus d'info : <a href="https://www.golnetwork.com/game/v/20673/">#92<
	/a>\n\n</BODY>\n</HTML>
STATUS:CONFIRMED
CLASS:PUBLIC
URL:https://www.golnetwork.com/game/v/20673/
X-MICROSOFT-CDO-BUSYSTATUS:BUSY
X-MICROSOFT-CDO-IMPORTANCE:1
END:VEVENT
BEGIN:VEVENT
UID:g25bq@games.golnetwork.com
LOCATION:Trafalgar
GEO:45.4987672;-73.5845067
CREATED:20120922T234015Z
DTSTART:20130227T003000Z
DTEND:20130227T013000Z
DTSTAMP:20260422T054223Z
SUMMARY:SWIISH vs. ROSE
DESCRIPTION:ROSE vs. SWIISHPlus d'info : #83
X-ALT-DESC;FMTTYPE=text/html:<!DOCTYPE HTML PUBLIC "-//W3C//DTD HTML 3.2//E
	N">\n<HTML>\n<HEAD>\n<TITLE></TITLE>\n</HEAD>\n<BODY>\n<h3>ROSE vs. SWIISH<
	/h3>Plus d'info : <a href="https://www.golnetwork.com/game/v/20668/">#83</a
	>\n\n</BODY>\n</HTML>
STATUS:CONFIRMED
CLASS:PUBLIC
URL:https://www.golnetwork.com/game/v/20668/
X-MICROSOFT-CDO-BUSYSTATUS:BUSY
X-MICROSOFT-CDO-IMPORTANCE:1
END:VEVENT
BEGIN:VEVENT
UID:g25be@games.golnetwork.com
LOCATION:Trafalgar
GEO:45.4987672;-73.5845067
CREATED:20120922T234015Z
DTSTART:20130220T003000Z
DTEND:20130220T013000Z
DTSTAMP:20260422T054223Z
SUMMARY:YOUNAN vs. ROSE
DESCRIPTION:ROSE vs. YOUNANPlus d'info : #78
X-ALT-DESC;FMTTYPE=text/html:<!DOCTYPE HTML PUBLIC "-//W3C//DTD HTML 3.2//E
	N">\n<HTML>\n<HEAD>\n<TITLE></TITLE>\n</HEAD>\n<BODY>\n<h3>ROSE vs. YOUNAN<
	/h3>Plus d'info : <a href="https://www.golnetwork.com/game/v/20662/">#78</a
	>\n\n</BODY>\n</HTML>
STATUS:CONFIRMED
CLASS:PUBLIC
URL:https://www.golnetwork.com/game/v/20662/
X-MICROSOFT-CDO-BUSYSTATUS:BUSY
X-MICROSOFT-CDO-IMPORTANCE:1
END:VEVENT
BEGIN:VEVENT
UID:g25b2@games.golnetwork.com
LOCATION:Trafalgar
GEO:45.4987672;-73.5845067
CREATED:20120922T234015Z
DTSTART:20130213T003000Z
DTEND:20130213T013000Z
DTSTAMP:20260422T054223Z
SUMMARY:PWC vs. ROSE
DESCRIPTION:ROSE vs. PWCPlus d'info : #72
X-ALT-DESC;FMTTYPE=text/html:<!DOCTYPE HTML PUBLIC "-//W3C//DTD HTML 3.2//E
	N">\n<HTML>\n<HEAD>\n<TITLE></TITLE>\n</HEAD>\n<BODY>\n<h3>ROSE vs. PWC</h3
	>Plus d'info : <a href="https://www.golnetwork.com/game/v/20656/">#72</a>\n
	\n</BODY>\n</HTML>
STATUS:CONFIRMED
CLASS:PUBLIC
URL:https://www.golnetwork.com/game/v/20656/
X-MICROSOFT-CDO-BUSYSTATUS:BUSY
X-MICROSOFT-CDO-IMPORTANCE:1
END:VEVENT
BEGIN:VEVENT
UID:g25ah@games.golnetwork.com
LOCATION:Trafalgar
GEO:45.4987672;-73.5845067
CREATED:20120922T234015Z
DTSTART:20130206T003000Z
DTEND:20130206T013000Z
DTSTAMP:20260422T054223Z
SUMMARY:CEPS vs. ROSE
DESCRIPTION:ROSE vs. CEPSPlus d'info : #68
X-ALT-DESC;FMTTYPE=text/html:<!DOCTYPE HTML PUBLIC "-//W3C//DTD HTML 3.2//E
	N">\n<HTML>\n<HEAD>\n<TITLE></TITLE>\n</HEAD>\n<BODY>\n<h3>ROSE vs. CEPS</h
	3>Plus d'info : <a href="https://www.golnetwork.com/game/v/20650/">#68</a>\
	n\n</BODY>\n</HTML>
STATUS:CONFIRMED
CLASS:PUBLIC
URL:https://www.golnetwork.com/game/v/20650/
X-MICROSOFT-CDO-BUSYSTATUS:BUSY
X-MICROSOFT-CDO-IMPORTANCE:1
END:VEVENT
BEGIN:VEVENT
UID:g25a5@games.golnetwork.com
LOCATION:CVM - Court #1
GEO:45.5146585;-73.5658635
CREATED:20120922T234015Z
DTSTART:20130131T013000Z
DTEND:20130131T023000Z
DTSTAMP:20260422T054223Z
SUMMARY:ROSE vs. KPMG
DESCRIPTION:KPMG vs. ROSEPlus d'info : #65
X-ALT-DESC;FMTTYPE=text/html:<!DOCTYPE HTML PUBLIC "-//W3C//DTD HTML 3.2//E
	N">\n<HTML>\n<HEAD>\n<TITLE></TITLE>\n</HEAD>\n<BODY>\n<h3>KPMG vs. ROSE</h
	3>Plus d'info : <a href="https://www.golnetwork.com/game/v/20644/">#65</a>\
	n\n</BODY>\n</HTML>
STATUS:CONFIRMED
CLASS:PUBLIC
URL:https://www.golnetwork.com/game/v/20644/
X-MICROSOFT-CDO-BUSYSTATUS:BUSY
X-MICROSOFT-CDO-IMPORTANCE:1
END:VEVENT
BEGIN:VEVENT
UID:g259o@games.golnetwork.com
LOCATION:Trafalgar
GEO:45.4987672;-73.5845067
CREATED:20120922T234015Z
DTSTART:20130123T013000Z
DTEND:20130123T023000Z
DTSTAMP:20260422T054223Z
SUMMARY:ROSE vs. EY
DESCRIPTION:EY vs. ROSEPlus d'info : #58
X-ALT-DESC;FMTTYPE=text/html:<!DOCTYPE HTML PUBLIC "-//W3C//DTD HTML 3.2//E
	N">\n<HTML>\n<HEAD>\n<TITLE></TITLE>\n</HEAD>\n<BODY>\n<h3>EY vs. ROSE</h3>
	Plus d'info : <a href="https://www.golnetwork.com/game/v/20640/">#58</a>\n\
	n</BODY>\n</HTML>
STATUS:CONFIRMED
CLASS:PUBLIC
URL:https://www.golnetwork.com/game/v/20640/
X-MICROSOFT-CDO-BUSYSTATUS:BUSY
X-MICROSOFT-CDO-IMPORTANCE:1
END:VEVENT
BEGIN:VEVENT
UID:g2570@games.golnetwork.com
LOCATION:CVM - Court #1
GEO:45.5146585;-73.5658635
CREATED:20120922T234014Z
DTSTART:20130117T013500Z
DTEND:20130117T023500Z
DTSTAMP:20260422T054223Z
SUMMARY:YOUNAN vs. ROSE
DESCRIPTION:ROSE vs. YOUNANPlus d'info : #55
X-ALT-DESC;FMTTYPE=text/html:<!DOCTYPE HTML PUBLIC "-//W3C//DTD HTML 3.2//E
	N">\n<HTML>\n<HEAD>\n<TITLE></TITLE>\n</HEAD>\n<BODY>\n<h3>ROSE vs. YOUNAN<
	/h3>Plus d'info : <a href="https://www.golnetwork.com/game/v/20601/">#55</a
	>\n\n</BODY>\n</HTML>
STATUS:CONFIRMED
CLASS:PUBLIC
URL:https://www.golnetwork.com/game/v/20601/
X-MICROSOFT-CDO-BUSYSTATUS:BUSY
X-MICROSOFT-CDO-IMPORTANCE:1
END:VEVENT
BEGIN:VEVENT
UID:g25cd@games.golnetwork.com
LOCATION:Trafalgar
GEO:45.4987672;-73.5845067
CREATED:20120922T234118Z
DTSTART:20130109T013000Z
DTEND:20130109T023000Z
DTSTAMP:20260422T054223Z
SUMMARY:KPMG vs. ROSE
DESCRIPTION:ROSE vs. KPMGPlus d'info : #50
X-ALT-DESC;FMTTYPE=text/html:<!DOCTYPE HTML PUBLIC "-//W3C//DTD HTML 3.2//E
	N">\n<HTML>\n<HEAD>\n<TITLE></TITLE>\n</HEAD>\n<BODY>\n<h3>ROSE vs. KPMG</h
	3>Plus d'info : <a href="https://www.golnetwork.com/game/v/20675/">#50</a>\
	n\n</BODY>\n</HTML>
STATUS:CONFIRMED
CLASS:PUBLIC
URL:https://www.golnetwork.com/game/v/20675/
X-MICROSOFT-CDO-BUSYSTATUS:BUSY
X-MICROSOFT-CDO-IMPORTANCE:1
END:VEVENT
BEGIN:VEVENT
UID:g2598@games.golnetwork.com
LOCATION:CVM - Court #1
GEO:45.5146585;-73.5658635
CREATED:20120922T234015Z
DTSTART:20121220T023000Z
DTEND:20121220T033000Z
DTSTAMP:20260422T054223Z
SUMMARY:ROSE vs. GRONDIN
DESCRIPTION:GRONDIN vs. ROSEPlus d'info : #46
X-ALT-DESC;FMTTYPE=text/html:<!DOCTYPE HTML PUBLIC "-//W3C//DTD HTML 3.2//E
	N">\n<HTML>\n<HEAD>\n<TITLE></TITLE>\n</HEAD>\n<BODY>\n<h3>GRONDIN vs. ROSE
	</h3>Plus d'info : <a href="https://www.golnetwork.com/game/v/20632/">#46</
	a>\n\n</BODY>\n</HTML>
STATUS:CONFIRMED
CLASS:PUBLIC
URL:https://www.golnetwork.com/game/v/20632/
X-MICROSOFT-CDO-BUSYSTATUS:BUSY
X-MICROSOFT-CDO-IMPORTANCE:1
END:VEVENT
BEGIN:VEVENT
UID:g258n@games.golnetwork.com
LOCATION:Trafalgar
GEO:45.4987672;-73.5845067
CREATED:20120922T234015Z
DTSTART:20121212T013000Z
DTEND:20121212T023000Z
DTSTAMP:20260422T054223Z
SUMMARY:ROSE vs. EY
DESCRIPTION:EY vs. ROSEPlus d'info : #39
X-ALT-DESC;FMTTYPE=text/html:<!DOCTYPE HTML PUBLIC "-//W3C//DTD HTML 3.2//E
	N">\n<HTML>\n<HEAD>\n<TITLE></TITLE>\n</HEAD>\n<BODY>\n<h3>EY vs. ROSE</h3>
	Plus d'info : <a href="https://www.golnetwork.com/game/v/20626/">#39</a>\n\
	n</BODY>\n</HTML>
STATUS:CONFIRMED
CLASS:PUBLIC
URL:https://www.golnetwork.com/game/v/20626/
X-MICROSOFT-CDO-BUSYSTATUS:BUSY
X-MICROSOFT-CDO-IMPORTANCE:1
END:VEVENT
BEGIN:VEVENT
UID:g258f@games.golnetwork.com
LOCATION:Trafalgar
GEO:45.4987672;-73.5845067
CREATED:20120922T234015Z
DTSTART:20121205T013000Z
DTEND:20121205T023000Z
DTSTAMP:20260422T054223Z
SUMMARY:ROSE vs. PWC
DESCRIPTION:PWC vs. ROSEPlus d'info : #34
X-ALT-DESC;FMTTYPE=text/html:<!DOCTYPE HTML PUBLIC "-//W3C//DTD HTML 3.2//E
	N">\n<HTML>\n<HEAD>\n<TITLE></TITLE>\n</HEAD>\n<BODY>\n<h3>PWC vs. ROSE</h3
	>Plus d'info : <a href="https://www.golnetwork.com/game/v/20622/">#34</a>\n
	\n</BODY>\n</HTML>
STATUS:CONFIRMED
CLASS:PUBLIC
URL:https://www.golnetwork.com/game/v/20622/
X-MICROSOFT-CDO-BUSYSTATUS:BUSY
X-MICROSOFT-CDO-IMPORTANCE:1
END:VEVENT
BEGIN:VEVENT
UID:g2587@games.golnetwork.com
LOCATION:CVM - Court #1
GEO:45.5146585;-73.5658635
CREATED:20120922T234015Z
DTSTART:20121129T023500Z
DTEND:20121129T033500Z
DTSTAMP:20260422T054223Z
SUMMARY:ROSE vs. GRONDIN
DESCRIPTION:GRONDIN vs. ROSEPlus d'info : #32
X-ALT-DESC;FMTTYPE=text/html:<!DOCTYPE HTML PUBLIC "-//W3C//DTD HTML 3.2//E
	N">\n<HTML>\n<HEAD>\n<TITLE></TITLE>\n</HEAD>\n<BODY>\n<h3>GRONDIN vs. ROSE
	</h3>Plus d'info : <a href="https://www.golnetwork.com/game/v/20618/">#32</
	a>\n\n</BODY>\n</HTML>
STATUS:CONFIRMED
CLASS:PUBLIC
URL:https://www.golnetwork.com/game/v/20618/
X-MICROSOFT-CDO-BUSYSTATUS:BUSY
X-MICROSOFT-CDO-IMPORTANCE:1
END:VEVENT
BEGIN:VEVENT
UID:g257c@games.golnetwork.com
LOCATION:CVM - Court #2
GEO:45.5146585;-73.5658635
CREATED:20120922T234015Z
DTSTART:20121115T003000Z
DTEND:20121115T013000Z
DTSTAMP:20260422T054223Z
SUMMARY:DELOITTE vs. ROSE
DESCRIPTION:ROSE vs. DELOITTEPlus d'info : #24
X-ALT-DESC;FMTTYPE=text/html:<!DOCTYPE HTML PUBLIC "-//W3C//DTD HTML 3.2//E
	N">\n<HTML>\n<HEAD>\n<TITLE></TITLE>\n</HEAD>\n<BODY>\n<h3>ROSE vs. DELOITT
	E</h3>Plus d'info : <a href="https://www.golnetwork.com/game/v/20607/">#24<
	/a>\n\n</BODY>\n</HTML>
STATUS:CONFIRMED
CLASS:PUBLIC
URL:https://www.golnetwork.com/game/v/20607/
X-MICROSOFT-CDO-BUSYSTATUS:BUSY
X-MICROSOFT-CDO-IMPORTANCE:1
END:VEVENT
BEGIN:VEVENT
UID:g2574@games.golnetwork.com
LOCATION:Trafalgar
GEO:45.4987672;-73.5845067
CREATED:20120922T234014Z
DTSTART:20121107T013000Z
DTEND:20121107T023000Z
DTSTAMP:20260422T054223Z
SUMMARY:ROSE vs. BISAILLON
DESCRIPTION:BISAILLON vs. ROSEPlus d'info : #17
X-ALT-DESC;FMTTYPE=text/html:<!DOCTYPE HTML PUBLIC "-//W3C//DTD HTML 3.2//E
	N">\n<HTML>\n<HEAD>\n<TITLE></TITLE>\n</HEAD>\n<BODY>\n<h3>BISAILLON vs. RO
	SE</h3>Plus d'info : <a href="https://www.golnetwork.com/game/v/20603/">#17
	</a>\n\n</BODY>\n</HTML>
STATUS:CONFIRMED
CLASS:PUBLIC
URL:https://www.golnetwork.com/game/v/20603/
X-MICROSOFT-CDO-BUSYSTATUS:BUSY
X-MICROSOFT-CDO-IMPORTANCE:1
END:VEVENT
BEGIN:VEVENT
UID:g256f@games.golnetwork.com
LOCATION:Trafalgar
GEO:45.4987672;-73.5845067
CREATED:20120922T234014Z
DTSTART:20121031T013000Z
DTEND:20121031T023000Z
DTSTAMP:20260422T054223Z
SUMMARY:KPMG vs. ROSE
DESCRIPTION:ROSE vs. KPMGPlus d'info : #13
X-ALT-DESC;FMTTYPE=text/html:<!DOCTYPE HTML PUBLIC "-//W3C//DTD HTML 3.2//E
	N">\n<HTML>\n<HEAD>\n<TITLE></TITLE>\n</HEAD>\n<BODY>\n<h3>ROSE vs. KPMG</h
	3>Plus d'info : <a href="https://www.golnetwork.com/game/v/20595/">#13</a>\
	n\n</BODY>\n</HTML>
STATUS:CONFIRMED
CLASS:PUBLIC
URL:https://www.golnetwork.com/game/v/20595/
X-MICROSOFT-CDO-BUSYSTATUS:BUSY
X-MICROSOFT-CDO-IMPORTANCE:1
END:VEVENT
BEGIN:VEVENT
UID:g2563@games.golnetwork.com
LOCATION:Trafalgar
GEO:45.4987672;-73.5845067
CREATED:20120922T234014Z
DTSTART:20121023T233000Z
DTEND:20121024T003000Z
DTSTAMP:20260422T054223Z
SUMMARY:ROSE vs. CEPS
DESCRIPTION:CEPS vs. ROSEPlus d'info : #6
X-ALT-DESC;FMTTYPE=text/html:<!DOCTYPE HTML PUBLIC "-//W3C//DTD HTML 3.2//E
	N">\n<HTML>\n<HEAD>\n<TITLE></TITLE>\n</HEAD>\n<BODY>\n<h3>CEPS vs. ROSE</h
	3>Plus d'info : <a href="https://www.golnetwork.com/game/v/20589/">#6</a>\n
	\n</BODY>\n</HTML>
STATUS:CONFIRMED
CLASS:PUBLIC
URL:https://www.golnetwork.com/game/v/20589/
X-MICROSOFT-CDO-BUSYSTATUS:BUSY
X-MICROSOFT-CDO-IMPORTANCE:1
END:VEVENT
BEGIN:VEVENT
UID:g255m@games.golnetwork.com
LOCATION:Ben Weider #1
GEO:45.488223;-73.634105
CREATED:20120922T234014Z
DTSTART:20121018T003000Z
DTEND:20121018T013000Z
DTSTAMP:20260422T054223Z
SUMMARY:ROSE vs. BISAILLON
DESCRIPTION:BISAILLON vs. ROSEPlus d'info : #4
X-ALT-DESC;FMTTYPE=text/html:<!DOCTYPE HTML PUBLIC "-//W3C//DTD HTML 3.2//E
	N">\n<HTML>\n<HEAD>\n<TITLE></TITLE>\n</HEAD>\n<BODY>\n<h3>BISAILLON vs. RO
	SE</h3>Plus d'info : <a href="https://www.golnetwork.com/game/v/20585/">#4<
	/a>\n\n</BODY>\n</HTML>
STATUS:CONFIRMED
CLASS:PUBLIC
URL:https://www.golnetwork.com/game/v/20585/
X-MICROSOFT-CDO-BUSYSTATUS:BUSY
X-MICROSOFT-CDO-IMPORTANCE:1
END:VEVENT
END:VCALENDAR
