BEGIN:VCALENDAR
PRODID:-//gdesolutions.com//MV Framework 1.0.0.1607 Calendar//EN
VERSION:2.0
METHOD:PUBLISH
CALSCALE:GREGORIAN
BEGIN:VEVENT
UID:g1eml@games.golnetwork.com
LOCATION:Centre William-Hingston
GEO:45.5312746;-73.6284362
CREATED:20120427T220026Z
DTSTART:20120822T230000Z
DTEND:20120823T000000Z
DTSTAMP:20260423T134418Z
SUMMARY:VINTAGE vs. EXPRESS
DESCRIPTION:EXPRESS vs. VINTAGEPlus d'info : #374
X-ALT-DESC;FMTTYPE=text/html:<!DOCTYPE HTML PUBLIC "-//W3C//DTD HTML 3.2//E
	N">\n<HTML>\n<HEAD>\n<TITLE></TITLE>\n</HEAD>\n<BODY>\n<h3>EXPRESS vs. VINT
	AGE</h3>Plus d'info : <a href="https://www.golnetwork.com/game/v/14253/">#3
	74</a>\n\n</BODY>\n</HTML>
STATUS:CONFIRMED
CLASS:PUBLIC
URL:https://www.golnetwork.com/game/v/14253/
X-MICROSOFT-CDO-BUSYSTATUS:BUSY
X-MICROSOFT-CDO-IMPORTANCE:1
END:VEVENT
BEGIN:VEVENT
UID:g1em9@games.golnetwork.com
LOCATION:Centre William-Hingston
GEO:45.5312746;-73.6284362
CREATED:20120427T215844Z
DTSTART:20120815T230000Z
DTEND:20120816T000000Z
DTSTAMP:20260423T134418Z
SUMMARY:VINTAGE vs. ROSADO
DESCRIPTION:ROSADO vs. VINTAGEPlus d'info : #351
X-ALT-DESC;FMTTYPE=text/html:<!DOCTYPE HTML PUBLIC "-//W3C//DTD HTML 3.2//E
	N">\n<HTML>\n<HEAD>\n<TITLE></TITLE>\n</HEAD>\n<BODY>\n<h3>ROSADO vs. VINTA
	GE</h3>Plus d'info : <a href="https://www.golnetwork.com/game/v/14247/">#35
	1</a>\n\n</BODY>\n</HTML>
STATUS:CONFIRMED
CLASS:PUBLIC
URL:https://www.golnetwork.com/game/v/14247/
X-MICROSOFT-CDO-BUSYSTATUS:BUSY
X-MICROSOFT-CDO-IMPORTANCE:1
END:VEVENT
BEGIN:VEVENT
UID:g1elo@games.golnetwork.com
LOCATION:Centre William-Hingston
GEO:45.5312746;-73.6284362
CREATED:20120427T215650Z
DTSTART:20120808T230000Z
DTEND:20120809T000000Z
DTSTAMP:20260423T134418Z
SUMMARY:VINTAGE vs. FOX
DESCRIPTION:FOX vs. VINTAGEPlus d'info : #329
X-ALT-DESC;FMTTYPE=text/html:<!DOCTYPE HTML PUBLIC "-//W3C//DTD HTML 3.2//E
	N">\n<HTML>\n<HEAD>\n<TITLE></TITLE>\n</HEAD>\n<BODY>\n<h3>FOX vs. VINTAGE<
	/h3>Plus d'info : <a href="https://www.golnetwork.com/game/v/14241/">#329</
	a>\n\n</BODY>\n</HTML>
STATUS:CONFIRMED
CLASS:PUBLIC
URL:https://www.golnetwork.com/game/v/14241/
X-MICROSOFT-CDO-BUSYSTATUS:BUSY
X-MICROSOFT-CDO-IMPORTANCE:1
END:VEVENT
BEGIN:VEVENT
UID:g1ele@games.golnetwork.com
LOCATION:Centre William-Hingston
GEO:45.5312746;-73.6284362
CREATED:20120427T201614Z
DTSTART:20120801T230000Z
DTEND:20120802T000000Z
DTSTAMP:20260423T134418Z
SUMMARY:KRAZEURS vs. VINTAGE
DESCRIPTION:VINTAGE vs. KRAZEURSPlus d'info : #304
X-ALT-DESC;FMTTYPE=text/html:<!DOCTYPE HTML PUBLIC "-//W3C//DTD HTML 3.2//E
	N">\n<HTML>\n<HEAD>\n<TITLE></TITLE>\n</HEAD>\n<BODY>\n<h3>VINTAGE vs. KRAZ
	EURS</h3>Plus d'info : <a href="https://www.golnetwork.com/game/v/14236/">#
	304</a>\n\n</BODY>\n</HTML>
STATUS:CONFIRMED
CLASS:PUBLIC
URL:https://www.golnetwork.com/game/v/14236/
X-MICROSOFT-CDO-BUSYSTATUS:BUSY
X-MICROSOFT-CDO-IMPORTANCE:1
END:VEVENT
BEGIN:VEVENT
UID:g1ekp@games.golnetwork.com
LOCATION:Marianopolis #1
GEO:45.4807868;-73.610845
CREATED:20120427T201614Z
DTSTART:20120726T233000Z
DTEND:20120727T003000Z
DTSTAMP:20260423T134418Z
SUMMARY:SBK REALTY vs. VINTAGE
DESCRIPTION:VINTAGE vs. SBK REALTYPlus d'info : #288
X-ALT-DESC;FMTTYPE=text/html:<!DOCTYPE HTML PUBLIC "-//W3C//DTD HTML 3.2//E
	N">\n<HTML>\n<HEAD>\n<TITLE></TITLE>\n</HEAD>\n<BODY>\n<h3>VINTAGE vs. SBK 
	REALTY</h3>Plus d'info : <a href="https://www.golnetwork.com/game/v/14228/"
	>#288</a>\n\n</BODY>\n</HTML>
STATUS:CONFIRMED
CLASS:PUBLIC
URL:https://www.golnetwork.com/game/v/14228/
X-MICROSOFT-CDO-BUSYSTATUS:BUSY
X-MICROSOFT-CDO-IMPORTANCE:1
END:VEVENT
BEGIN:VEVENT
UID:g1ek9@games.golnetwork.com
LOCATION:Centre William-Hingston
GEO:45.5312746;-73.6284362
CREATED:20120427T201614Z
DTSTART:20120718T230000Z
DTEND:20120719T000000Z
DTSTAMP:20260423T134418Z
SUMMARY:BOURQUE vs. VINTAGE
DESCRIPTION:VINTAGE vs. BOURQUEPlus d'info : #254
X-ALT-DESC;FMTTYPE=text/html:<!DOCTYPE HTML PUBLIC "-//W3C//DTD HTML 3.2//E
	N">\n<HTML>\n<HEAD>\n<TITLE></TITLE>\n</HEAD>\n<BODY>\n<h3>VINTAGE vs. BOUR
	QUE</h3>Plus d'info : <a href="https://www.golnetwork.com/game/v/14220/">#2
	54</a>\n\n</BODY>\n</HTML>
STATUS:CONFIRMED
CLASS:PUBLIC
URL:https://www.golnetwork.com/game/v/14220/
X-MICROSOFT-CDO-BUSYSTATUS:BUSY
X-MICROSOFT-CDO-IMPORTANCE:1
END:VEVENT
BEGIN:VEVENT
UID:g1ejk@games.golnetwork.com
LOCATION:Centre William-Hingston
GEO:45.5312746;-73.6284362
CREATED:20120427T201614Z
DTSTART:20120711T230000Z
DTEND:20120712T000000Z
DTSTAMP:20260423T134418Z
SUMMARY:NACOS vs. VINTAGE
DESCRIPTION:VINTAGE vs. NACOSPlus d'info : #229
X-ALT-DESC;FMTTYPE=text/html:<!DOCTYPE HTML PUBLIC "-//W3C//DTD HTML 3.2//E
	N">\n<HTML>\n<HEAD>\n<TITLE></TITLE>\n</HEAD>\n<BODY>\n<h3>VINTAGE vs. NACO
	S</h3>Plus d'info : <a href="https://www.golnetwork.com/game/v/14212/">#229
	</a>\n\n</BODY>\n</HTML>
STATUS:CONFIRMED
CLASS:PUBLIC
URL:https://www.golnetwork.com/game/v/14212/
X-MICROSOFT-CDO-BUSYSTATUS:BUSY
X-MICROSOFT-CDO-IMPORTANCE:1
END:VEVENT
BEGIN:VEVENT
UID:g1ej4@games.golnetwork.com
LOCATION:Centre William-Hingston
GEO:45.5312746;-73.6284362
CREATED:20120427T201614Z
DTSTART:20120704T230000Z
DTEND:20120705T000000Z
DTSTAMP:20260423T134418Z
SUMMARY:EXPRESS vs. VINTAGE
DESCRIPTION:VINTAGE vs. EXPRESSPlus d'info : #205
X-ALT-DESC;FMTTYPE=text/html:<!DOCTYPE HTML PUBLIC "-//W3C//DTD HTML 3.2//E
	N">\n<HTML>\n<HEAD>\n<TITLE></TITLE>\n</HEAD>\n<BODY>\n<h3>VINTAGE vs. EXPR
	ESS</h3>Plus d'info : <a href="https://www.golnetwork.com/game/v/14204/">#2
	05</a>\n\n</BODY>\n</HTML>
STATUS:CONFIRMED
CLASS:PUBLIC
URL:https://www.golnetwork.com/game/v/14204/
X-MICROSOFT-CDO-BUSYSTATUS:BUSY
X-MICROSOFT-CDO-IMPORTANCE:1
END:VEVENT
BEGIN:VEVENT
UID:g1eif@games.golnetwork.com
LOCATION:Centre William-Hingston
GEO:45.5312746;-73.6284362
CREATED:20120427T201614Z
DTSTART:20120627T230000Z
DTEND:20120628T000000Z
DTSTAMP:20260423T134418Z
SUMMARY:GQ SQUAD vs. VINTAGE
DESCRIPTION:VINTAGE vs. GQ SQUADPlus d'info : #183
X-ALT-DESC;FMTTYPE=text/html:<!DOCTYPE HTML PUBLIC "-//W3C//DTD HTML 3.2//E
	N">\n<HTML>\n<HEAD>\n<TITLE></TITLE>\n</HEAD>\n<BODY>\n<h3>VINTAGE vs. GQ S
	QUAD</h3>Plus d'info : <a href="https://www.golnetwork.com/game/v/14196/">#
	183</a>\n\n</BODY>\n</HTML>
STATUS:CONFIRMED
CLASS:PUBLIC
URL:https://www.golnetwork.com/game/v/14196/
X-MICROSOFT-CDO-BUSYSTATUS:BUSY
X-MICROSOFT-CDO-IMPORTANCE:1
END:VEVENT
BEGIN:VEVENT
UID:g1ehq@games.golnetwork.com
LOCATION:Centre William-Hingston
GEO:45.5312746;-73.6284362
CREATED:20120427T201614Z
DTSTART:20120620T230000Z
DTEND:20120621T000000Z
DTSTAMP:20260423T134418Z
SUMMARY:ELITE SQUAD vs. VINTAGE
DESCRIPTION:VINTAGE vs. ELITE SQUADPlus d'info : #159
X-ALT-DESC;FMTTYPE=text/html:<!DOCTYPE HTML PUBLIC "-//W3C//DTD HTML 3.2//E
	N">\n<HTML>\n<HEAD>\n<TITLE></TITLE>\n</HEAD>\n<BODY>\n<h3>VINTAGE vs. ELIT
	E SQUAD</h3>Plus d'info : <a href="https://www.golnetwork.com/game/v/14188/
	">#159</a>\n\n</BODY>\n</HTML>
STATUS:CONFIRMED
CLASS:PUBLIC
URL:https://www.golnetwork.com/game/v/14188/
X-MICROSOFT-CDO-BUSYSTATUS:BUSY
X-MICROSOFT-CDO-IMPORTANCE:1
END:VEVENT
BEGIN:VEVENT
UID:g1ehe@games.golnetwork.com
LOCATION:Centre William-Hingston
GEO:45.5312746;-73.6284362
CREATED:20120427T201614Z
DTSTART:20120613T230000Z
DTEND:20120614T000000Z
DTSTAMP:20260423T134418Z
SUMMARY:VINTAGE vs. SOUSSAN
DESCRIPTION:SOUSSAN vs. VINTAGEPlus d'info : #134
X-ALT-DESC;FMTTYPE=text/html:<!DOCTYPE HTML PUBLIC "-//W3C//DTD HTML 3.2//E
	N">\n<HTML>\n<HEAD>\n<TITLE></TITLE>\n</HEAD>\n<BODY>\n<h3>SOUSSAN vs. VINT
	AGE</h3>Plus d'info : <a href="https://www.golnetwork.com/game/v/14182/">#1
	34</a>\n\n</BODY>\n</HTML>
STATUS:CONFIRMED
CLASS:PUBLIC
URL:https://www.golnetwork.com/game/v/14182/
X-MICROSOFT-CDO-BUSYSTATUS:BUSY
X-MICROSOFT-CDO-IMPORTANCE:1
END:VEVENT
BEGIN:VEVENT
UID:g1eh2@games.golnetwork.com
LOCATION:Centre William-Hingston
GEO:45.5312746;-73.6284362
CREATED:20120427T201614Z
DTSTART:20120606T230000Z
DTEND:20120607T000000Z
DTSTAMP:20260423T134418Z
SUMMARY:VINTAGE vs. WILDCATS
DESCRIPTION:WILDCATS vs. VINTAGEPlus d'info : #109
X-ALT-DESC;FMTTYPE=text/html:<!DOCTYPE HTML PUBLIC "-//W3C//DTD HTML 3.2//E
	N">\n<HTML>\n<HEAD>\n<TITLE></TITLE>\n</HEAD>\n<BODY>\n<h3>WILDCATS vs. VIN
	TAGE</h3>Plus d'info : <a href="https://www.golnetwork.com/game/v/14176/">#
	109</a>\n\n</BODY>\n</HTML>
STATUS:CONFIRMED
CLASS:PUBLIC
URL:https://www.golnetwork.com/game/v/14176/
X-MICROSOFT-CDO-BUSYSTATUS:BUSY
X-MICROSOFT-CDO-IMPORTANCE:1
END:VEVENT
BEGIN:VEVENT
UID:g1egh@games.golnetwork.com
LOCATION:Centre William-Hingston
GEO:45.5312746;-73.6284362
CREATED:20120427T201614Z
DTSTART:20120530T230000Z
DTEND:20120531T000000Z
DTSTAMP:20260423T134418Z
SUMMARY:VINTAGE vs. ROSADO
DESCRIPTION:ROSADO vs. VINTAGEPlus d'info : #84
X-ALT-DESC;FMTTYPE=text/html:<!DOCTYPE HTML PUBLIC "-//W3C//DTD HTML 3.2//E
	N">\n<HTML>\n<HEAD>\n<TITLE></TITLE>\n</HEAD>\n<BODY>\n<h3>ROSADO vs. VINTA
	GE</h3>Plus d'info : <a href="https://www.golnetwork.com/game/v/14170/">#84
	</a>\n\n</BODY>\n</HTML>
STATUS:CONFIRMED
CLASS:PUBLIC
URL:https://www.golnetwork.com/game/v/14170/
X-MICROSOFT-CDO-BUSYSTATUS:BUSY
X-MICROSOFT-CDO-IMPORTANCE:1
END:VEVENT
BEGIN:VEVENT
UID:g1eg5@games.golnetwork.com
LOCATION:CVM - Court #1
GEO:45.5146585;-73.5658635
CREATED:20120427T201614Z
DTSTART:20120524T013000Z
DTEND:20120524T023000Z
DTSTAMP:20260423T134418Z
SUMMARY:VINTAGE vs. THE KICKS
DESCRIPTION:THE KICKS vs. VINTAGEPlus d'info : #64
X-ALT-DESC;FMTTYPE=text/html:<!DOCTYPE HTML PUBLIC "-//W3C//DTD HTML 3.2//E
	N">\n<HTML>\n<HEAD>\n<TITLE></TITLE>\n</HEAD>\n<BODY>\n<h3>THE KICKS vs. VI
	NTAGE</h3>Plus d'info : <a href="https://www.golnetwork.com/game/v/14164/">
	#64</a>\n\n</BODY>\n</HTML>
STATUS:CONFIRMED
CLASS:PUBLIC
URL:https://www.golnetwork.com/game/v/14164/
X-MICROSOFT-CDO-BUSYSTATUS:BUSY
X-MICROSOFT-CDO-IMPORTANCE:1
END:VEVENT
BEGIN:VEVENT
UID:g1efk@games.golnetwork.com
LOCATION:CVM - Court #1
GEO:45.5146585;-73.5658635
CREATED:20120427T201614Z
DTSTART:20120517T013000Z
DTEND:20120517T023000Z
DTSTAMP:20260423T134418Z
SUMMARY:VINTAGE vs. ACN
DESCRIPTION:ACN vs. VINTAGEPlus d'info : #42
X-ALT-DESC;FMTTYPE=text/html:<!DOCTYPE HTML PUBLIC "-//W3C//DTD HTML 3.2//E
	N">\n<HTML>\n<HEAD>\n<TITLE></TITLE>\n</HEAD>\n<BODY>\n<h3>ACN vs. VINTAGE<
	/h3>Plus d'info : <a href="https://www.golnetwork.com/game/v/14158/">#42</a
	>\n\n</BODY>\n</HTML>
STATUS:CONFIRMED
CLASS:PUBLIC
URL:https://www.golnetwork.com/game/v/14158/
X-MICROSOFT-CDO-BUSYSTATUS:BUSY
X-MICROSOFT-CDO-IMPORTANCE:1
END:VEVENT
BEGIN:VEVENT
UID:g1ef8@games.golnetwork.com
LOCATION:Centre William-Hingston
GEO:45.5312746;-73.6284362
CREATED:20120427T201614Z
DTSTART:20120509T230000Z
DTEND:20120510T000000Z
DTSTAMP:20260423T134418Z
SUMMARY:VINTAGE vs. FOX
DESCRIPTION:FOX vs. VINTAGEPlus d'info : #12
X-ALT-DESC;FMTTYPE=text/html:<!DOCTYPE HTML PUBLIC "-//W3C//DTD HTML 3.2//E
	N">\n<HTML>\n<HEAD>\n<TITLE></TITLE>\n</HEAD>\n<BODY>\n<h3>FOX vs. VINTAGE<
	/h3>Plus d'info : <a href="https://www.golnetwork.com/game/v/14152/">#12</a
	>\n\n</BODY>\n</HTML>
STATUS:CONFIRMED
CLASS:PUBLIC
URL:https://www.golnetwork.com/game/v/14152/
X-MICROSOFT-CDO-BUSYSTATUS:BUSY
X-MICROSOFT-CDO-IMPORTANCE:1
END:VEVENT
END:VCALENDAR
